BEGIN:VCALENDAR
VERSION:2.0
PRODID:-//WHITE IBIZA - ECPv6.6.0.2//NONSGML v1.0//EN
CALSCALE:GREGORIAN
METHOD:PUBLISH
X-WR-CALNAME:WHITE IBIZA
X-ORIGINAL-URL:https://white-ibiza.com
X-WR-CALDESC:Events for WHITE IBIZA
REFRESH-INTERVAL;VALUE=DURATION:PT1H
X-Robots-Tag:noindex
X-PUBLISHED-TTL:PT1H
BEGIN:VTIMEZONE
TZID:Europe/Madrid
BEGIN:DAYLIGHT
TZOFFSETFROM:+0100
TZOFFSETTO:+0200
TZNAME:CEST
DTSTART:20250330T010000
END:DAYLIGHT
BEGIN:STANDARD
TZOFFSETFROM:+0200
TZOFFSETTO:+0100
TZNAME:CET
DTSTART:20251026T010000
END:STANDARD
END:VTIMEZONE
BEGIN:VEVENT
DTSTART;TZID=Europe/Madrid:20250824T200000
DTEND;TZID=Europe/Madrid:20250825T010000
DTSTAMP:20260426T023148
CREATED:20250807T093451Z
LAST-MODIFIED:20250821T164325Z
UID:10023844-1756065600-1756083600@white-ibiza.com
SUMMARY:San Bartomeu Fireworks at Villa Mercedes
DESCRIPTION:Every year\, San Antonio lights up in honour of its patron saint and Villa Mercedes boasts the best seats in town. On Saturday August 24\, 2025\, the harbourside restaurant hosts a sparkling evening of Mediterranean cuisine\, festive spirit and front-row views of the San Bartomeu fireworks\, with a special celebratory menu served on the palm-lined terrace.  \nExpect a lively local crowd\, the clink of cava glasses and golden reflections flickering across the marina as fireworks fill the sky. Whether you’re stopping by for dinner or making a whole night of it\, this is one of the west coast’s sweetest summer rituals – a much-loved tradition wrapped up in food\, family and festivity. Advance reservations are highly recommended.
URL:https://white-ibiza.com/ibiza-calendar/san-bartomeu-fireworks-at-villa-mercedes/
LOCATION:Villa Mercedes\, Passeig de la Mar\, San Antonio Abad\, Balearic Islands\, 07820\, Spain
CATEGORIES:Foodies,Culture
ATTACH;FMTTYPE=image/jpeg:https://white-ibiza.com/wp-content/uploads/2025/08/white-ibiza-calendar-villa-mercedes-san-bartomeu-fireworks-2025.jpeg
GEO:38.9788092;1.3008763
X-APPLE-STRUCTURED-LOCATION;VALUE=URI;X-ADDRESS=Villa Mercedes Passeig de la Mar San Antonio Abad Balearic Islands 07820 Spain;X-APPLE-RADIUS=500;X-TITLE=Passeig de la Mar:geo:1.3008763,38.9788092
END:VEVENT
END:VCALENDAR