BEGIN:VCALENDAR
VERSION:2.0
PRODID:-//WHITE IBIZA - ECPv6.6.0.2//NONSGML v1.0//EN
CALSCALE:GREGORIAN
METHOD:PUBLISH
X-ORIGINAL-URL:https://white-ibiza.com
X-WR-CALDESC:Events for WHITE IBIZA
REFRESH-INTERVAL;VALUE=DURATION:PT1H
X-Robots-Tag:noindex
X-PUBLISHED-TTL:PT1H
BEGIN:VTIMEZONE
TZID:Europe/Madrid
BEGIN:DAYLIGHT
TZOFFSETFROM:+0100
TZOFFSETTO:+0200
TZNAME:CEST
DTSTART:20250330T010000
END:DAYLIGHT
BEGIN:STANDARD
TZOFFSETFROM:+0200
TZOFFSETTO:+0100
TZNAME:CET
DTSTART:20251026T010000
END:STANDARD
END:VTIMEZONE
BEGIN:VEVENT
DTSTART;TZID=Europe/Madrid:20251031T233000
DTEND;TZID=Europe/Madrid:20251101T060000
DTSTAMP:20260420T220137
CREATED:20251029T200835Z
LAST-MODIFIED:20251029T200835Z
UID:10027063-1761953400-1761976800@white-ibiza.com
SUMMARY:The Island Halloween Party at Tomodachi
DESCRIPTION:A new spectre rises in Ibiza’s underground clubbing scene this spooky season\, as Ibiza town newbie\, Tomodachi\, opens its doors for The Island Halloween Party on Friday October 31\, 2025. The club’s debut season has brought raw energy\, cinematic visuals and deep\, hypnotic sound to the nightlife quarter set just behind the high street – pair that with fright night frenetic fabulousness and you can bet this is going to be an Ibiza Halloween party for the books. \nBehind the decks\, Tomodachi’s revered – and predominantly local – resident selectors summon shadowy rhythms that pulse through the custom analog system\, while hooded figures and surreal projections blur the line between reality and ritual. Tickets are on sale now\, with resident discount available. Dance all night\, then stumble out into the daylight\, gaze out over the port\, and then wonder… where’s the after party going to be?
URL:https://white-ibiza.com/ibiza-calendar/the-island-halloween-party-at-tomodachi/
LOCATION:Tomodachi\, Carrer de Pere Francès\, Eivissa\, Islas Baleares\, 07800\, Spain
CATEGORIES:Culture,Clubs,Nightlife
ATTACH;FMTTYPE=image/jpeg:https://white-ibiza.com/wp-content/uploads/2025/10/white-ibiza-halloween-guide-2025-tomodachi-the-island-halloween-party.jpeg
GEO:38.9122959;1.4314146
X-APPLE-STRUCTURED-LOCATION;VALUE=URI;X-ADDRESS=Tomodachi Carrer de Pere Francès Eivissa Islas Baleares 07800 Spain;X-APPLE-RADIUS=500;X-TITLE=Carrer de Pere Francès:geo:1.4314146,38.9122959
END:VEVENT
END:VCALENDAR