BEGIN:VCALENDAR
VERSION:2.0
PRODID:-//WHITE IBIZA - ECPv6.6.0.2//NONSGML v1.0//EN
CALSCALE:GREGORIAN
METHOD:PUBLISH
X-ORIGINAL-URL:https://white-ibiza.com
X-WR-CALDESC:Events for WHITE IBIZA
REFRESH-INTERVAL;VALUE=DURATION:PT1H
X-Robots-Tag:noindex
X-PUBLISHED-TTL:PT1H
BEGIN:VTIMEZONE
TZID:Europe/Madrid
BEGIN:DAYLIGHT
TZOFFSETFROM:+0100
TZOFFSETTO:+0200
TZNAME:CEST
DTSTART:20260329T010000
END:DAYLIGHT
BEGIN:STANDARD
TZOFFSETFROM:+0200
TZOFFSETTO:+0100
TZNAME:CET
DTSTART:20261025T010000
END:STANDARD
END:VTIMEZONE
BEGIN:VEVENT
DTSTART;TZID=Europe/Madrid:20260422T190000
DTEND;TZID=Europe/Madrid:20260423T030000
DTSTAMP:20260420T093257
CREATED:20260312T143731Z
LAST-MODIFIED:20260319T175550Z
UID:10030925-1776884400-1776913200@white-ibiza.com
SUMMARY:Shibiza Nights at ROTO Ibiza
DESCRIPTION:As winter weather continues to blanket the island by night\, what better way to escape than a midweek night of dining and dancing harbourside at Shibiza Nights at ROTO Ibiza? Running every Wednesday until the end of April\, these cosy nights in Marina Botafoch are the perfect antidote to boring evenings in\, where the dining room becomes the dancefloor from midnight and diners can strut\, shake and shimmy to classic house beats well into the early hours of the morning.  With a revolving selection of live music and local DJs supplying the sounds\, and a Mediterranean menu that includes comfort food at its very best\, this chic venue – hovering over the water with the lights of Dalt Vila twinkling in the distance – is an out–of–season island haven with a very Balearic twist. Sign up to the guestlist for free entry before midnight for Shibiza Nights at ROTO Ibiza using the link below.
URL:https://white-ibiza.com/ibiza-calendar/shibiza-nights-at-roto-ibiza/2026-04-22/
LOCATION:ROTO Ibiza\, Eivissa\, Islas Baleares\, 07800\, Spain
CATEGORIES:Nightlife
ATTACH;FMTTYPE=image/jpeg:https://white-ibiza.com/wp-content/uploads/2025/10/white-ibiza-calendar-roto-ibiza-fuego-pasion-2025.jpeg
GEO:39.0200099;1.4821482
END:VEVENT
END:VCALENDAR