BEGIN:VCALENDAR
VERSION:2.0
PRODID:-//WHITE IBIZA - ECPv6.6.0.2//NONSGML v1.0//EN
CALSCALE:GREGORIAN
METHOD:PUBLISH
X-ORIGINAL-URL:https://white-ibiza.com
X-WR-CALDESC:Events for WHITE IBIZA
REFRESH-INTERVAL;VALUE=DURATION:PT1H
X-Robots-Tag:noindex
X-PUBLISHED-TTL:PT1H
BEGIN:VTIMEZONE
TZID:Europe/Madrid
BEGIN:DAYLIGHT
TZOFFSETFROM:+0100
TZOFFSETTO:+0200
TZNAME:CEST
DTSTART:20260329T010000
END:DAYLIGHT
BEGIN:STANDARD
TZOFFSETFROM:+0200
TZOFFSETTO:+0100
TZNAME:CET
DTSTART:20261025T010000
END:STANDARD
END:VTIMEZONE
BEGIN:VEVENT
DTSTART;TZID=Europe/Madrid:20260912T210000
DTEND;TZID=Europe/Madrid:20260913T040000
DTSTAMP:20260421T144626
CREATED:20260409T130247Z
LAST-MODIFIED:20260409T130247Z
UID:10031438-1789246800-1789272000@white-ibiza.com
SUMMARY:Pikes House Party at Pikes Ibiza
DESCRIPTION:As the saying goes\, there’s no party like a Pikes House Party\, and the island’s most beloved boutique hotel and party hotspot\, Pikes Ibiza\, is back with its frolic-filled flagship event every Saturday night throughout the summer. Imagine the best house party you ever went to\, throw in some shiny disco balls\, a whole lot of skipping the light fandango and a little dash of the unexpected and you’re only halfway there. \nPikes House Party famously begins around the Club Tropicana pool\, with some laid-back beats and ferociously strong cocktails. Over on The Sunset Terrace\, The Pikes House Band strut their stuff\, performing a mix of house classics and original jams over dinner. As the evening spills out into the hotel’s social buzzing heart\, Plaza Mayor\, toes start tapping and it’s time to hang on tight as you feel the inevitable pull of Freddies drawing you into its web of disco ditties and late-night jollies. \nThese riotous parties are not for the faint-hearted – bring your stamina and an open mind and you may just find yourself singing along with the Crazy Piano Man or hypothetically splashing around in the legendary Bathtub Club. Register for the free guestlist\, book a table in The Pikes Restaurant\, or opt for Night Slices in the Garden Bar to ensure entry at the link below.
URL:https://white-ibiza.com/ibiza-calendar/pikes-house-party-at-pikes-ibiza-2/2026-09-12/
LOCATION:Pikes Ibiza\, Camí de Sa Vorera\, Sant Antoni de Portmany\, Is\, 07820\, Spain
CATEGORIES:Culture,Nightlife
ATTACH;FMTTYPE=image/jpeg:https://white-ibiza.com/wp-content/uploads/2026/04/white-ibiza-club-calendar-pikes-house-party-freddies-pikes-ibiza-2026.jpeg
GEO:38.986598;1.3254823
X-APPLE-STRUCTURED-LOCATION;VALUE=URI;X-ADDRESS=Pikes Ibiza Camí de Sa Vorera Sant Antoni de Portmany Is 07820 Spain;X-APPLE-RADIUS=500;X-TITLE=Camí de Sa Vorera:geo:1.3254823,38.986598
END:VEVENT
BEGIN:VEVENT
DTSTART;TZID=Europe/Madrid:20260913T130000
DTEND;TZID=Europe/Madrid:20260914T040000
DTSTAMP:20260421T144626
CREATED:20260409T132355Z
LAST-MODIFIED:20260409T132355Z
UID:10031470-1789304400-1789358400@white-ibiza.com
SUMMARY:Sundays at Pikes at Pikes Ibiza
DESCRIPTION:Sundays at Pikes are an island institution\, where last night’s excesses are soothed by a dip\, a drink and a few Balearic bangers by the pool while the next day’s hangovers are only just getting started. \nWhether you’re fuelling up for the night ahead or soaking up the sins of the night before\, there’s no better remedy than the famous Pikes Sunday Roast prepared by in-house culinary maestro Tim Payne and his team of merry chefs at The Pikes Restaurant. Expect plates piled high with crispy roasties\, Yorkshire puds\, creamy cauliflower cheese and lots of gravy-drenched goodness. Throw in a cheeky espresso martini\, a little Plaza Mayor shimmy and suddenly you’re in Freddies until 4am\, dancing to the sounds of the world’s best DJs like Monday isn’t a thing. \nFrom roast to rave\, this is the kind of Sunday service you’ll want to go to again and again. Tables and guestlist at Pikes Ibiza get snapped up fast\, so be sure to book early.
URL:https://white-ibiza.com/ibiza-calendar/sundays-at-pikes-at-pikes-ibiza/2026-09-13/
LOCATION:Pikes Ibiza\, Camí de Sa Vorera\, Sant Antoni de Portmany\, Is\, 07820\, Spain
CATEGORIES:Foodies,Clubs,Nightlife
ATTACH;FMTTYPE=image/jpeg:https://white-ibiza.com/wp-content/uploads/2026/04/white-ibiza-calendar-sundays-at-pikes-ibiza-2026.jpeg
GEO:38.986598;1.3254823
X-APPLE-STRUCTURED-LOCATION;VALUE=URI;X-ADDRESS=Pikes Ibiza Camí de Sa Vorera Sant Antoni de Portmany Is 07820 Spain;X-APPLE-RADIUS=500;X-TITLE=Camí de Sa Vorera:geo:1.3254823,38.986598
END:VEVENT
BEGIN:VEVENT
DTSTART;TZID=Europe/Madrid:20260919T210000
DTEND;TZID=Europe/Madrid:20260920T040000
DTSTAMP:20260421T144626
CREATED:20260409T130247Z
LAST-MODIFIED:20260409T130247Z
UID:10031439-1789851600-1789876800@white-ibiza.com
SUMMARY:Pikes House Party at Pikes Ibiza
DESCRIPTION:As the saying goes\, there’s no party like a Pikes House Party\, and the island’s most beloved boutique hotel and party hotspot\, Pikes Ibiza\, is back with its frolic-filled flagship event every Saturday night throughout the summer. Imagine the best house party you ever went to\, throw in some shiny disco balls\, a whole lot of skipping the light fandango and a little dash of the unexpected and you’re only halfway there. \nPikes House Party famously begins around the Club Tropicana pool\, with some laid-back beats and ferociously strong cocktails. Over on The Sunset Terrace\, The Pikes House Band strut their stuff\, performing a mix of house classics and original jams over dinner. As the evening spills out into the hotel’s social buzzing heart\, Plaza Mayor\, toes start tapping and it’s time to hang on tight as you feel the inevitable pull of Freddies drawing you into its web of disco ditties and late-night jollies. \nThese riotous parties are not for the faint-hearted – bring your stamina and an open mind and you may just find yourself singing along with the Crazy Piano Man or hypothetically splashing around in the legendary Bathtub Club. Register for the free guestlist\, book a table in The Pikes Restaurant\, or opt for Night Slices in the Garden Bar to ensure entry at the link below.
URL:https://white-ibiza.com/ibiza-calendar/pikes-house-party-at-pikes-ibiza-2/2026-09-19/
LOCATION:Pikes Ibiza\, Camí de Sa Vorera\, Sant Antoni de Portmany\, Is\, 07820\, Spain
CATEGORIES:Culture,Nightlife
ATTACH;FMTTYPE=image/jpeg:https://white-ibiza.com/wp-content/uploads/2026/04/white-ibiza-club-calendar-pikes-house-party-freddies-pikes-ibiza-2026.jpeg
GEO:38.986598;1.3254823
X-APPLE-STRUCTURED-LOCATION;VALUE=URI;X-ADDRESS=Pikes Ibiza Camí de Sa Vorera Sant Antoni de Portmany Is 07820 Spain;X-APPLE-RADIUS=500;X-TITLE=Camí de Sa Vorera:geo:1.3254823,38.986598
END:VEVENT
BEGIN:VEVENT
DTSTART;TZID=Europe/Madrid:20260920T130000
DTEND;TZID=Europe/Madrid:20260921T040000
DTSTAMP:20260421T144626
CREATED:20260409T132355Z
LAST-MODIFIED:20260409T132355Z
UID:10031471-1789909200-1789963200@white-ibiza.com
SUMMARY:Sundays at Pikes at Pikes Ibiza
DESCRIPTION:Sundays at Pikes are an island institution\, where last night’s excesses are soothed by a dip\, a drink and a few Balearic bangers by the pool while the next day’s hangovers are only just getting started. \nWhether you’re fuelling up for the night ahead or soaking up the sins of the night before\, there’s no better remedy than the famous Pikes Sunday Roast prepared by in-house culinary maestro Tim Payne and his team of merry chefs at The Pikes Restaurant. Expect plates piled high with crispy roasties\, Yorkshire puds\, creamy cauliflower cheese and lots of gravy-drenched goodness. Throw in a cheeky espresso martini\, a little Plaza Mayor shimmy and suddenly you’re in Freddies until 4am\, dancing to the sounds of the world’s best DJs like Monday isn’t a thing. \nFrom roast to rave\, this is the kind of Sunday service you’ll want to go to again and again. Tables and guestlist at Pikes Ibiza get snapped up fast\, so be sure to book early.
URL:https://white-ibiza.com/ibiza-calendar/sundays-at-pikes-at-pikes-ibiza/2026-09-20/
LOCATION:Pikes Ibiza\, Camí de Sa Vorera\, Sant Antoni de Portmany\, Is\, 07820\, Spain
CATEGORIES:Foodies,Clubs,Nightlife
ATTACH;FMTTYPE=image/jpeg:https://white-ibiza.com/wp-content/uploads/2026/04/white-ibiza-calendar-sundays-at-pikes-ibiza-2026.jpeg
GEO:38.986598;1.3254823
X-APPLE-STRUCTURED-LOCATION;VALUE=URI;X-ADDRESS=Pikes Ibiza Camí de Sa Vorera Sant Antoni de Portmany Is 07820 Spain;X-APPLE-RADIUS=500;X-TITLE=Camí de Sa Vorera:geo:1.3254823,38.986598
END:VEVENT
BEGIN:VEVENT
DTSTART;TZID=Europe/Madrid:20260926T210000
DTEND;TZID=Europe/Madrid:20260927T040000
DTSTAMP:20260421T144626
CREATED:20260409T130247Z
LAST-MODIFIED:20260409T130247Z
UID:10031440-1790456400-1790481600@white-ibiza.com
SUMMARY:Pikes House Party at Pikes Ibiza
DESCRIPTION:As the saying goes\, there’s no party like a Pikes House Party\, and the island’s most beloved boutique hotel and party hotspot\, Pikes Ibiza\, is back with its frolic-filled flagship event every Saturday night throughout the summer. Imagine the best house party you ever went to\, throw in some shiny disco balls\, a whole lot of skipping the light fandango and a little dash of the unexpected and you’re only halfway there. \nPikes House Party famously begins around the Club Tropicana pool\, with some laid-back beats and ferociously strong cocktails. Over on The Sunset Terrace\, The Pikes House Band strut their stuff\, performing a mix of house classics and original jams over dinner. As the evening spills out into the hotel’s social buzzing heart\, Plaza Mayor\, toes start tapping and it’s time to hang on tight as you feel the inevitable pull of Freddies drawing you into its web of disco ditties and late-night jollies. \nThese riotous parties are not for the faint-hearted – bring your stamina and an open mind and you may just find yourself singing along with the Crazy Piano Man or hypothetically splashing around in the legendary Bathtub Club. Register for the free guestlist\, book a table in The Pikes Restaurant\, or opt for Night Slices in the Garden Bar to ensure entry at the link below.
URL:https://white-ibiza.com/ibiza-calendar/pikes-house-party-at-pikes-ibiza-2/2026-09-26/
LOCATION:Pikes Ibiza\, Camí de Sa Vorera\, Sant Antoni de Portmany\, Is\, 07820\, Spain
CATEGORIES:Culture,Nightlife
ATTACH;FMTTYPE=image/jpeg:https://white-ibiza.com/wp-content/uploads/2026/04/white-ibiza-club-calendar-pikes-house-party-freddies-pikes-ibiza-2026.jpeg
GEO:38.986598;1.3254823
X-APPLE-STRUCTURED-LOCATION;VALUE=URI;X-ADDRESS=Pikes Ibiza Camí de Sa Vorera Sant Antoni de Portmany Is 07820 Spain;X-APPLE-RADIUS=500;X-TITLE=Camí de Sa Vorera:geo:1.3254823,38.986598
END:VEVENT
BEGIN:VEVENT
DTSTART;TZID=Europe/Madrid:20260927T130000
DTEND;TZID=Europe/Madrid:20260928T040000
DTSTAMP:20260421T144626
CREATED:20260409T132355Z
LAST-MODIFIED:20260409T132355Z
UID:10031472-1790514000-1790568000@white-ibiza.com
SUMMARY:Sundays at Pikes at Pikes Ibiza
DESCRIPTION:Sundays at Pikes are an island institution\, where last night’s excesses are soothed by a dip\, a drink and a few Balearic bangers by the pool while the next day’s hangovers are only just getting started. \nWhether you’re fuelling up for the night ahead or soaking up the sins of the night before\, there’s no better remedy than the famous Pikes Sunday Roast prepared by in-house culinary maestro Tim Payne and his team of merry chefs at The Pikes Restaurant. Expect plates piled high with crispy roasties\, Yorkshire puds\, creamy cauliflower cheese and lots of gravy-drenched goodness. Throw in a cheeky espresso martini\, a little Plaza Mayor shimmy and suddenly you’re in Freddies until 4am\, dancing to the sounds of the world’s best DJs like Monday isn’t a thing. \nFrom roast to rave\, this is the kind of Sunday service you’ll want to go to again and again. Tables and guestlist at Pikes Ibiza get snapped up fast\, so be sure to book early.
URL:https://white-ibiza.com/ibiza-calendar/sundays-at-pikes-at-pikes-ibiza/2026-09-27/
LOCATION:Pikes Ibiza\, Camí de Sa Vorera\, Sant Antoni de Portmany\, Is\, 07820\, Spain
CATEGORIES:Foodies,Clubs,Nightlife
ATTACH;FMTTYPE=image/jpeg:https://white-ibiza.com/wp-content/uploads/2026/04/white-ibiza-calendar-sundays-at-pikes-ibiza-2026.jpeg
GEO:38.986598;1.3254823
X-APPLE-STRUCTURED-LOCATION;VALUE=URI;X-ADDRESS=Pikes Ibiza Camí de Sa Vorera Sant Antoni de Portmany Is 07820 Spain;X-APPLE-RADIUS=500;X-TITLE=Camí de Sa Vorera:geo:1.3254823,38.986598
END:VEVENT
BEGIN:VEVENT
DTSTART;TZID=Europe/Madrid:20261003T210000
DTEND;TZID=Europe/Madrid:20261004T040000
DTSTAMP:20260421T144626
CREATED:20260409T130247Z
LAST-MODIFIED:20260409T130247Z
UID:10031441-1791061200-1791086400@white-ibiza.com
SUMMARY:Pikes House Party at Pikes Ibiza
DESCRIPTION:As the saying goes\, there’s no party like a Pikes House Party\, and the island’s most beloved boutique hotel and party hotspot\, Pikes Ibiza\, is back with its frolic-filled flagship event every Saturday night throughout the summer. Imagine the best house party you ever went to\, throw in some shiny disco balls\, a whole lot of skipping the light fandango and a little dash of the unexpected and you’re only halfway there. \nPikes House Party famously begins around the Club Tropicana pool\, with some laid-back beats and ferociously strong cocktails. Over on The Sunset Terrace\, The Pikes House Band strut their stuff\, performing a mix of house classics and original jams over dinner. As the evening spills out into the hotel’s social buzzing heart\, Plaza Mayor\, toes start tapping and it’s time to hang on tight as you feel the inevitable pull of Freddies drawing you into its web of disco ditties and late-night jollies. \nThese riotous parties are not for the faint-hearted – bring your stamina and an open mind and you may just find yourself singing along with the Crazy Piano Man or hypothetically splashing around in the legendary Bathtub Club. Register for the free guestlist\, book a table in The Pikes Restaurant\, or opt for Night Slices in the Garden Bar to ensure entry at the link below.
URL:https://white-ibiza.com/ibiza-calendar/pikes-house-party-at-pikes-ibiza-2/2026-10-03/
LOCATION:Pikes Ibiza\, Camí de Sa Vorera\, Sant Antoni de Portmany\, Is\, 07820\, Spain
CATEGORIES:Culture,Nightlife
ATTACH;FMTTYPE=image/jpeg:https://white-ibiza.com/wp-content/uploads/2026/04/white-ibiza-club-calendar-pikes-house-party-freddies-pikes-ibiza-2026.jpeg
GEO:38.986598;1.3254823
X-APPLE-STRUCTURED-LOCATION;VALUE=URI;X-ADDRESS=Pikes Ibiza Camí de Sa Vorera Sant Antoni de Portmany Is 07820 Spain;X-APPLE-RADIUS=500;X-TITLE=Camí de Sa Vorera:geo:1.3254823,38.986598
END:VEVENT
BEGIN:VEVENT
DTSTART;TZID=Europe/Madrid:20261004T130000
DTEND;TZID=Europe/Madrid:20261005T040000
DTSTAMP:20260421T144626
CREATED:20260409T132355Z
LAST-MODIFIED:20260409T132355Z
UID:10031473-1791118800-1791172800@white-ibiza.com
SUMMARY:Sundays at Pikes at Pikes Ibiza
DESCRIPTION:Sundays at Pikes are an island institution\, where last night’s excesses are soothed by a dip\, a drink and a few Balearic bangers by the pool while the next day’s hangovers are only just getting started. \nWhether you’re fuelling up for the night ahead or soaking up the sins of the night before\, there’s no better remedy than the famous Pikes Sunday Roast prepared by in-house culinary maestro Tim Payne and his team of merry chefs at The Pikes Restaurant. Expect plates piled high with crispy roasties\, Yorkshire puds\, creamy cauliflower cheese and lots of gravy-drenched goodness. Throw in a cheeky espresso martini\, a little Plaza Mayor shimmy and suddenly you’re in Freddies until 4am\, dancing to the sounds of the world’s best DJs like Monday isn’t a thing. \nFrom roast to rave\, this is the kind of Sunday service you’ll want to go to again and again. Tables and guestlist at Pikes Ibiza get snapped up fast\, so be sure to book early.
URL:https://white-ibiza.com/ibiza-calendar/sundays-at-pikes-at-pikes-ibiza/2026-10-04/
LOCATION:Pikes Ibiza\, Camí de Sa Vorera\, Sant Antoni de Portmany\, Is\, 07820\, Spain
CATEGORIES:Foodies,Clubs,Nightlife
ATTACH;FMTTYPE=image/jpeg:https://white-ibiza.com/wp-content/uploads/2026/04/white-ibiza-calendar-sundays-at-pikes-ibiza-2026.jpeg
GEO:38.986598;1.3254823
X-APPLE-STRUCTURED-LOCATION;VALUE=URI;X-ADDRESS=Pikes Ibiza Camí de Sa Vorera Sant Antoni de Portmany Is 07820 Spain;X-APPLE-RADIUS=500;X-TITLE=Camí de Sa Vorera:geo:1.3254823,38.986598
END:VEVENT
BEGIN:VEVENT
DTSTART;TZID=Europe/Madrid:20261010T210000
DTEND;TZID=Europe/Madrid:20261011T040000
DTSTAMP:20260421T144626
CREATED:20260409T130247Z
LAST-MODIFIED:20260409T130247Z
UID:10031442-1791666000-1791691200@white-ibiza.com
SUMMARY:Pikes House Party at Pikes Ibiza
DESCRIPTION:As the saying goes\, there’s no party like a Pikes House Party\, and the island’s most beloved boutique hotel and party hotspot\, Pikes Ibiza\, is back with its frolic-filled flagship event every Saturday night throughout the summer. Imagine the best house party you ever went to\, throw in some shiny disco balls\, a whole lot of skipping the light fandango and a little dash of the unexpected and you’re only halfway there. \nPikes House Party famously begins around the Club Tropicana pool\, with some laid-back beats and ferociously strong cocktails. Over on The Sunset Terrace\, The Pikes House Band strut their stuff\, performing a mix of house classics and original jams over dinner. As the evening spills out into the hotel’s social buzzing heart\, Plaza Mayor\, toes start tapping and it’s time to hang on tight as you feel the inevitable pull of Freddies drawing you into its web of disco ditties and late-night jollies. \nThese riotous parties are not for the faint-hearted – bring your stamina and an open mind and you may just find yourself singing along with the Crazy Piano Man or hypothetically splashing around in the legendary Bathtub Club. Register for the free guestlist\, book a table in The Pikes Restaurant\, or opt for Night Slices in the Garden Bar to ensure entry at the link below.
URL:https://white-ibiza.com/ibiza-calendar/pikes-house-party-at-pikes-ibiza-2/2026-10-10/
LOCATION:Pikes Ibiza\, Camí de Sa Vorera\, Sant Antoni de Portmany\, Is\, 07820\, Spain
CATEGORIES:Culture,Nightlife
ATTACH;FMTTYPE=image/jpeg:https://white-ibiza.com/wp-content/uploads/2026/04/white-ibiza-club-calendar-pikes-house-party-freddies-pikes-ibiza-2026.jpeg
GEO:38.986598;1.3254823
X-APPLE-STRUCTURED-LOCATION;VALUE=URI;X-ADDRESS=Pikes Ibiza Camí de Sa Vorera Sant Antoni de Portmany Is 07820 Spain;X-APPLE-RADIUS=500;X-TITLE=Camí de Sa Vorera:geo:1.3254823,38.986598
END:VEVENT
BEGIN:VEVENT
DTSTART;TZID=Europe/Madrid:20261011T130000
DTEND;TZID=Europe/Madrid:20261012T040000
DTSTAMP:20260421T144626
CREATED:20260409T132355Z
LAST-MODIFIED:20260409T132355Z
UID:10031474-1791723600-1791777600@white-ibiza.com
SUMMARY:Sundays at Pikes at Pikes Ibiza
DESCRIPTION:Sundays at Pikes are an island institution\, where last night’s excesses are soothed by a dip\, a drink and a few Balearic bangers by the pool while the next day’s hangovers are only just getting started. \nWhether you’re fuelling up for the night ahead or soaking up the sins of the night before\, there’s no better remedy than the famous Pikes Sunday Roast prepared by in-house culinary maestro Tim Payne and his team of merry chefs at The Pikes Restaurant. Expect plates piled high with crispy roasties\, Yorkshire puds\, creamy cauliflower cheese and lots of gravy-drenched goodness. Throw in a cheeky espresso martini\, a little Plaza Mayor shimmy and suddenly you’re in Freddies until 4am\, dancing to the sounds of the world’s best DJs like Monday isn’t a thing. \nFrom roast to rave\, this is the kind of Sunday service you’ll want to go to again and again. Tables and guestlist at Pikes Ibiza get snapped up fast\, so be sure to book early.
URL:https://white-ibiza.com/ibiza-calendar/sundays-at-pikes-at-pikes-ibiza/2026-10-11/
LOCATION:Pikes Ibiza\, Camí de Sa Vorera\, Sant Antoni de Portmany\, Is\, 07820\, Spain
CATEGORIES:Foodies,Clubs,Nightlife
ATTACH;FMTTYPE=image/jpeg:https://white-ibiza.com/wp-content/uploads/2026/04/white-ibiza-calendar-sundays-at-pikes-ibiza-2026.jpeg
GEO:38.986598;1.3254823
X-APPLE-STRUCTURED-LOCATION;VALUE=URI;X-ADDRESS=Pikes Ibiza Camí de Sa Vorera Sant Antoni de Portmany Is 07820 Spain;X-APPLE-RADIUS=500;X-TITLE=Camí de Sa Vorera:geo:1.3254823,38.986598
END:VEVENT
BEGIN:VEVENT
DTSTART;TZID=Europe/Madrid:20261017T210000
DTEND;TZID=Europe/Madrid:20261018T040000
DTSTAMP:20260421T144626
CREATED:20260409T130247Z
LAST-MODIFIED:20260409T130247Z
UID:10031443-1792270800-1792296000@white-ibiza.com
SUMMARY:Pikes House Party at Pikes Ibiza
DESCRIPTION:As the saying goes\, there’s no party like a Pikes House Party\, and the island’s most beloved boutique hotel and party hotspot\, Pikes Ibiza\, is back with its frolic-filled flagship event every Saturday night throughout the summer. Imagine the best house party you ever went to\, throw in some shiny disco balls\, a whole lot of skipping the light fandango and a little dash of the unexpected and you’re only halfway there. \nPikes House Party famously begins around the Club Tropicana pool\, with some laid-back beats and ferociously strong cocktails. Over on The Sunset Terrace\, The Pikes House Band strut their stuff\, performing a mix of house classics and original jams over dinner. As the evening spills out into the hotel’s social buzzing heart\, Plaza Mayor\, toes start tapping and it’s time to hang on tight as you feel the inevitable pull of Freddies drawing you into its web of disco ditties and late-night jollies. \nThese riotous parties are not for the faint-hearted – bring your stamina and an open mind and you may just find yourself singing along with the Crazy Piano Man or hypothetically splashing around in the legendary Bathtub Club. Register for the free guestlist\, book a table in The Pikes Restaurant\, or opt for Night Slices in the Garden Bar to ensure entry at the link below.
URL:https://white-ibiza.com/ibiza-calendar/pikes-house-party-at-pikes-ibiza-2/2026-10-17/
LOCATION:Pikes Ibiza\, Camí de Sa Vorera\, Sant Antoni de Portmany\, Is\, 07820\, Spain
CATEGORIES:Culture,Nightlife
ATTACH;FMTTYPE=image/jpeg:https://white-ibiza.com/wp-content/uploads/2026/04/white-ibiza-club-calendar-pikes-house-party-freddies-pikes-ibiza-2026.jpeg
GEO:38.986598;1.3254823
X-APPLE-STRUCTURED-LOCATION;VALUE=URI;X-ADDRESS=Pikes Ibiza Camí de Sa Vorera Sant Antoni de Portmany Is 07820 Spain;X-APPLE-RADIUS=500;X-TITLE=Camí de Sa Vorera:geo:1.3254823,38.986598
END:VEVENT
BEGIN:VEVENT
DTSTART;TZID=Europe/Madrid:20261018T130000
DTEND;TZID=Europe/Madrid:20261019T040000
DTSTAMP:20260421T144626
CREATED:20260409T132355Z
LAST-MODIFIED:20260409T132355Z
UID:10031475-1792328400-1792382400@white-ibiza.com
SUMMARY:Sundays at Pikes at Pikes Ibiza
DESCRIPTION:Sundays at Pikes are an island institution\, where last night’s excesses are soothed by a dip\, a drink and a few Balearic bangers by the pool while the next day’s hangovers are only just getting started. \nWhether you’re fuelling up for the night ahead or soaking up the sins of the night before\, there’s no better remedy than the famous Pikes Sunday Roast prepared by in-house culinary maestro Tim Payne and his team of merry chefs at The Pikes Restaurant. Expect plates piled high with crispy roasties\, Yorkshire puds\, creamy cauliflower cheese and lots of gravy-drenched goodness. Throw in a cheeky espresso martini\, a little Plaza Mayor shimmy and suddenly you’re in Freddies until 4am\, dancing to the sounds of the world’s best DJs like Monday isn’t a thing. \nFrom roast to rave\, this is the kind of Sunday service you’ll want to go to again and again. Tables and guestlist at Pikes Ibiza get snapped up fast\, so be sure to book early.
URL:https://white-ibiza.com/ibiza-calendar/sundays-at-pikes-at-pikes-ibiza/2026-10-18/
LOCATION:Pikes Ibiza\, Camí de Sa Vorera\, Sant Antoni de Portmany\, Is\, 07820\, Spain
CATEGORIES:Foodies,Clubs,Nightlife
ATTACH;FMTTYPE=image/jpeg:https://white-ibiza.com/wp-content/uploads/2026/04/white-ibiza-calendar-sundays-at-pikes-ibiza-2026.jpeg
GEO:38.986598;1.3254823
X-APPLE-STRUCTURED-LOCATION;VALUE=URI;X-ADDRESS=Pikes Ibiza Camí de Sa Vorera Sant Antoni de Portmany Is 07820 Spain;X-APPLE-RADIUS=500;X-TITLE=Camí de Sa Vorera:geo:1.3254823,38.986598
END:VEVENT
BEGIN:VEVENT
DTSTART;TZID=Europe/Madrid:20261024T210000
DTEND;TZID=Europe/Madrid:20261025T030000
DTSTAMP:20260421T144626
CREATED:20260409T130247Z
LAST-MODIFIED:20260409T130247Z
UID:10031444-1792875600-1792897200@white-ibiza.com
SUMMARY:Pikes House Party at Pikes Ibiza
DESCRIPTION:As the saying goes\, there’s no party like a Pikes House Party\, and the island’s most beloved boutique hotel and party hotspot\, Pikes Ibiza\, is back with its frolic-filled flagship event every Saturday night throughout the summer. Imagine the best house party you ever went to\, throw in some shiny disco balls\, a whole lot of skipping the light fandango and a little dash of the unexpected and you’re only halfway there. \nPikes House Party famously begins around the Club Tropicana pool\, with some laid-back beats and ferociously strong cocktails. Over on The Sunset Terrace\, The Pikes House Band strut their stuff\, performing a mix of house classics and original jams over dinner. As the evening spills out into the hotel’s social buzzing heart\, Plaza Mayor\, toes start tapping and it’s time to hang on tight as you feel the inevitable pull of Freddies drawing you into its web of disco ditties and late-night jollies. \nThese riotous parties are not for the faint-hearted – bring your stamina and an open mind and you may just find yourself singing along with the Crazy Piano Man or hypothetically splashing around in the legendary Bathtub Club. Register for the free guestlist\, book a table in The Pikes Restaurant\, or opt for Night Slices in the Garden Bar to ensure entry at the link below.
URL:https://white-ibiza.com/ibiza-calendar/pikes-house-party-at-pikes-ibiza-2/2026-10-24/
LOCATION:Pikes Ibiza\, Camí de Sa Vorera\, Sant Antoni de Portmany\, Is\, 07820\, Spain
CATEGORIES:Culture,Nightlife
ATTACH;FMTTYPE=image/jpeg:https://white-ibiza.com/wp-content/uploads/2026/04/white-ibiza-club-calendar-pikes-house-party-freddies-pikes-ibiza-2026.jpeg
GEO:38.986598;1.3254823
X-APPLE-STRUCTURED-LOCATION;VALUE=URI;X-ADDRESS=Pikes Ibiza Camí de Sa Vorera Sant Antoni de Portmany Is 07820 Spain;X-APPLE-RADIUS=500;X-TITLE=Camí de Sa Vorera:geo:1.3254823,38.986598
END:VEVENT
BEGIN:VEVENT
DTSTART;TZID=Europe/Madrid:20261025T130000
DTEND;TZID=Europe/Madrid:20261026T040000
DTSTAMP:20260421T144626
CREATED:20260409T132355Z
LAST-MODIFIED:20260409T132355Z
UID:10031476-1792933200-1792987200@white-ibiza.com
SUMMARY:Sundays at Pikes at Pikes Ibiza
DESCRIPTION:Sundays at Pikes are an island institution\, where last night’s excesses are soothed by a dip\, a drink and a few Balearic bangers by the pool while the next day’s hangovers are only just getting started. \nWhether you’re fuelling up for the night ahead or soaking up the sins of the night before\, there’s no better remedy than the famous Pikes Sunday Roast prepared by in-house culinary maestro Tim Payne and his team of merry chefs at The Pikes Restaurant. Expect plates piled high with crispy roasties\, Yorkshire puds\, creamy cauliflower cheese and lots of gravy-drenched goodness. Throw in a cheeky espresso martini\, a little Plaza Mayor shimmy and suddenly you’re in Freddies until 4am\, dancing to the sounds of the world’s best DJs like Monday isn’t a thing. \nFrom roast to rave\, this is the kind of Sunday service you’ll want to go to again and again. Tables and guestlist at Pikes Ibiza get snapped up fast\, so be sure to book early.
URL:https://white-ibiza.com/ibiza-calendar/sundays-at-pikes-at-pikes-ibiza/2026-10-25/
LOCATION:Pikes Ibiza\, Camí de Sa Vorera\, Sant Antoni de Portmany\, Is\, 07820\, Spain
CATEGORIES:Foodies,Clubs,Nightlife
ATTACH;FMTTYPE=image/jpeg:https://white-ibiza.com/wp-content/uploads/2026/04/white-ibiza-calendar-sundays-at-pikes-ibiza-2026.jpeg
GEO:38.986598;1.3254823
X-APPLE-STRUCTURED-LOCATION;VALUE=URI;X-ADDRESS=Pikes Ibiza Camí de Sa Vorera Sant Antoni de Portmany Is 07820 Spain;X-APPLE-RADIUS=500;X-TITLE=Camí de Sa Vorera:geo:1.3254823,38.986598
END:VEVENT
END:VCALENDAR