BEGIN:VCALENDAR
VERSION:2.0
PRODID:-//WHITE IBIZA - ECPv6.6.0.2//NONSGML v1.0//EN
CALSCALE:GREGORIAN
METHOD:PUBLISH
X-ORIGINAL-URL:https://white-ibiza.com
X-WR-CALDESC:Events for WHITE IBIZA
REFRESH-INTERVAL;VALUE=DURATION:PT1H
X-Robots-Tag:noindex
X-PUBLISHED-TTL:PT1H
BEGIN:VTIMEZONE
TZID:Europe/Madrid
BEGIN:DAYLIGHT
TZOFFSETFROM:+0100
TZOFFSETTO:+0200
TZNAME:CEST
DTSTART:20250330T010000
END:DAYLIGHT
BEGIN:STANDARD
TZOFFSETFROM:+0200
TZOFFSETTO:+0100
TZNAME:CET
DTSTART:20251026T010000
END:STANDARD
END:VTIMEZONE
BEGIN:VEVENT
DTSTART;TZID=Europe/Madrid:20250610T193000
DTEND;TZID=Europe/Madrid:20250610T233000
DTSTAMP:20260420T075832
CREATED:20250605T130728Z
LAST-MODIFIED:20250626T132148Z
UID:10018538-1749583800-1749598200@white-ibiza.com
SUMMARY:Paella Night at Ocean Terrace at Hotel Riomar Ibiza
DESCRIPTION:Tuesdays at Hotel Riomar Ibiza come with saffron and sea views\, when the beautiful boutique hotel hosts Paella Nights on its Ocean Terrace. Serving up a weekly helping of Spanish tradition with a twist – think sunset vibes and steaming pans of Spains most cherished dish\, shared between friends just a stone’s throw from the Santa Eulalia seafront. \nChoose from meat\, seafood or a tasty veggie version\, all made fresh to order. Kick back on the stylish terrace as the evening slips into golden hour\, or arrive after dark when the moonlight is glistening over the sea. It’s fun\, it’s flavoursome and it’s one of the tastiest ways to spend a laidback Tuesday evening in Santa Eulalia – it wouldn’t be a holiday in Ibiza without at least one paella night. Reservations are essential.
URL:https://white-ibiza.com/ibiza-calendar/paella-night-at-ocean-terrace-at-hotel-riomar-ibiza/2025-06-10/
LOCATION:Hotel Riomar Ibiza\, Carrer des Riu\, Santa Eulalia del Río\, Islas Baleares\, 07840\, Spain
CATEGORIES:Foodies
ATTACH;FMTTYPE=image/jpeg:https://white-ibiza.com/wp-content/uploads/2025/06/white-ibiza-calendar-paella-nights-hotel-riomar-ibiza-2025.jpeg
GEO:38.9796226;1.5305632
X-APPLE-STRUCTURED-LOCATION;VALUE=URI;X-ADDRESS=Hotel Riomar Ibiza Carrer des Riu Santa Eulalia del Río Islas Baleares 07840 Spain;X-APPLE-RADIUS=500;X-TITLE=Carrer des Riu:geo:1.5305632,38.9796226
END:VEVENT
BEGIN:VEVENT
DTSTART;TZID=Europe/Madrid:20250609T203000
DTEND;TZID=Europe/Madrid:20250609T233000
DTSTAMP:20260420T075832
CREATED:20250626T125621Z
LAST-MODIFIED:20250626T125621Z
UID:10018795-1749501000-1749511800@white-ibiza.com
SUMMARY:Live Flamenco Nights at Ocean Terrace at Hotel Riomar Ibiza
DESCRIPTION:Mondays at Hotel Riomar bring the heat as Ocean Terrace fills with the soul-stirring sounds of live Flamenco guitar. From June through September\, this weekly evening series blends the drama and flair of Spanish tradition with the laid-back elegance of this Santa Eulalia seafront location. \nOrder a glass of red\, settle in as the sun descends and let the delicate rhythm of Flamenco transport you to Ibiza’s past. Just a few steps from the seafront\, it’s the perfect start to the week with a little local flavour and plenty of heart.
URL:https://white-ibiza.com/ibiza-calendar/live-flamenco-nights-at-ocean-terrace-at-hotel-riomar-ibiza/2025-06-09/
LOCATION:Hotel Riomar Ibiza\, Carrer des Riu\, Santa Eulalia del Río\, Islas Baleares\, 07840\, Spain
CATEGORIES:Foodies,Culture
ATTACH;FMTTYPE=image/jpeg:https://white-ibiza.com/wp-content/uploads/2025/06/white-ibiza-calendar-hotel-riomar-ibIza-happenings-2025.jpeg
GEO:38.9796226;1.5305632
X-APPLE-STRUCTURED-LOCATION;VALUE=URI;X-ADDRESS=Hotel Riomar Ibiza Carrer des Riu Santa Eulalia del Río Islas Baleares 07840 Spain;X-APPLE-RADIUS=500;X-TITLE=Carrer des Riu:geo:1.5305632,38.9796226
END:VEVENT
BEGIN:VEVENT
DTSTART;TZID=Europe/Madrid:20250606T203000
DTEND;TZID=Europe/Madrid:20250606T230000
DTSTAMP:20260420T075832
CREATED:20250529T121013Z
LAST-MODIFIED:20250530T073327Z
UID:10018428-1749241800-1749250800@white-ibiza.com
SUMMARY:Cuban Nights at Ocean Brasserie & Bar at Hotel Riomar Ibiza
DESCRIPTION:Friday nights get a Latin twist at Ocean Brasserie & Bar this summer\, as the seafront terrace at Hotel Riomar Ibiza comes alive with the sounds of Cuba. From May through untl September\, Cuban Nights brings a weekly dose of rhythm and soul to Santa Eulalia\, with a sultry mix of live music\, delicioous cocktails and golden hour magic that sets the tone for the weekend ahead. \nGrab a seat beneath the palms\, order a mojito (or two)\, and let the live Cuban band transport you to the timeless streets of Havana\, all without even leaving the table. Whether you’re here for the music\, the views or the grilled octopus and signature ceviche\, it’s the perfect way to start your Ibiza Friday night. Que bola!
URL:https://white-ibiza.com/ibiza-calendar/cuban-nights-at-ocean-brasserie-bar-at-hotel-riomar-ibiza/2025-06-06/
LOCATION:Hotel Riomar Ibiza\, Carrer des Riu\, Santa Eulalia del Río\, Islas Baleares\, 07840\, Spain
CATEGORIES:Foodies,Culture
ATTACH;FMTTYPE=image/jpeg:https://white-ibiza.com/wp-content/uploads/2025/05/white-ibiza-calendar-cuban-nights-ocean-brasseri-bar-hotel-riomar-ibiza-2025.jpeg
GEO:38.9796226;1.5305632
X-APPLE-STRUCTURED-LOCATION;VALUE=URI;X-ADDRESS=Hotel Riomar Ibiza Carrer des Riu Santa Eulalia del Río Islas Baleares 07840 Spain;X-APPLE-RADIUS=500;X-TITLE=Carrer des Riu:geo:1.5305632,38.9796226
END:VEVENT
BEGIN:VEVENT
DTSTART;TZID=Europe/Madrid:20250602T203000
DTEND;TZID=Europe/Madrid:20250602T233000
DTSTAMP:20260420T075832
CREATED:20250626T125621Z
LAST-MODIFIED:20250626T125621Z
UID:10018794-1748896200-1748907000@white-ibiza.com
SUMMARY:Live Flamenco Nights at Ocean Terrace at Hotel Riomar Ibiza
DESCRIPTION:Mondays at Hotel Riomar bring the heat as Ocean Terrace fills with the soul-stirring sounds of live Flamenco guitar. From June through September\, this weekly evening series blends the drama and flair of Spanish tradition with the laid-back elegance of this Santa Eulalia seafront location. \nOrder a glass of red\, settle in as the sun descends and let the delicate rhythm of Flamenco transport you to Ibiza’s past. Just a few steps from the seafront\, it’s the perfect start to the week with a little local flavour and plenty of heart.
URL:https://white-ibiza.com/ibiza-calendar/live-flamenco-nights-at-ocean-terrace-at-hotel-riomar-ibiza/2025-06-02/
LOCATION:Hotel Riomar Ibiza\, Carrer des Riu\, Santa Eulalia del Río\, Islas Baleares\, 07840\, Spain
CATEGORIES:Foodies,Culture
ATTACH;FMTTYPE=image/jpeg:https://white-ibiza.com/wp-content/uploads/2025/06/white-ibiza-calendar-hotel-riomar-ibIza-happenings-2025.jpeg
GEO:38.9796226;1.5305632
X-APPLE-STRUCTURED-LOCATION;VALUE=URI;X-ADDRESS=Hotel Riomar Ibiza Carrer des Riu Santa Eulalia del Río Islas Baleares 07840 Spain;X-APPLE-RADIUS=500;X-TITLE=Carrer des Riu:geo:1.5305632,38.9796226
END:VEVENT
BEGIN:VEVENT
DTSTART;TZID=Europe/Madrid:20250530T203000
DTEND;TZID=Europe/Madrid:20250530T230000
DTSTAMP:20260420T075832
CREATED:20250529T121013Z
LAST-MODIFIED:20250530T073327Z
UID:10018427-1748637000-1748646000@white-ibiza.com
SUMMARY:Cuban Nights at Ocean Brasserie & Bar at Hotel Riomar Ibiza
DESCRIPTION:Friday nights get a Latin twist at Ocean Brasserie & Bar this summer\, as the seafront terrace at Hotel Riomar Ibiza comes alive with the sounds of Cuba. From May through untl September\, Cuban Nights brings a weekly dose of rhythm and soul to Santa Eulalia\, with a sultry mix of live music\, delicioous cocktails and golden hour magic that sets the tone for the weekend ahead. \nGrab a seat beneath the palms\, order a mojito (or two)\, and let the live Cuban band transport you to the timeless streets of Havana\, all without even leaving the table. Whether you’re here for the music\, the views or the grilled octopus and signature ceviche\, it’s the perfect way to start your Ibiza Friday night. Que bola!
URL:https://white-ibiza.com/ibiza-calendar/cuban-nights-at-ocean-brasserie-bar-at-hotel-riomar-ibiza/2025-05-30/
LOCATION:Hotel Riomar Ibiza\, Carrer des Riu\, Santa Eulalia del Río\, Islas Baleares\, 07840\, Spain
CATEGORIES:Foodies,Culture
ATTACH;FMTTYPE=image/jpeg:https://white-ibiza.com/wp-content/uploads/2025/05/white-ibiza-calendar-cuban-nights-ocean-brasseri-bar-hotel-riomar-ibiza-2025.jpeg
GEO:38.9796226;1.5305632
X-APPLE-STRUCTURED-LOCATION;VALUE=URI;X-ADDRESS=Hotel Riomar Ibiza Carrer des Riu Santa Eulalia del Río Islas Baleares 07840 Spain;X-APPLE-RADIUS=500;X-TITLE=Carrer des Riu:geo:1.5305632,38.9796226
END:VEVENT
BEGIN:VEVENT
DTSTART;TZID=Europe/Madrid:20250523T203000
DTEND;TZID=Europe/Madrid:20250523T230000
DTSTAMP:20260420T075832
CREATED:20250529T121013Z
LAST-MODIFIED:20250530T073327Z
UID:10018426-1748032200-1748041200@white-ibiza.com
SUMMARY:Cuban Nights at Ocean Brasserie & Bar at Hotel Riomar Ibiza
DESCRIPTION:Friday nights get a Latin twist at Ocean Brasserie & Bar this summer\, as the seafront terrace at Hotel Riomar Ibiza comes alive with the sounds of Cuba. From May through untl September\, Cuban Nights brings a weekly dose of rhythm and soul to Santa Eulalia\, with a sultry mix of live music\, delicioous cocktails and golden hour magic that sets the tone for the weekend ahead. \nGrab a seat beneath the palms\, order a mojito (or two)\, and let the live Cuban band transport you to the timeless streets of Havana\, all without even leaving the table. Whether you’re here for the music\, the views or the grilled octopus and signature ceviche\, it’s the perfect way to start your Ibiza Friday night. Que bola!
URL:https://white-ibiza.com/ibiza-calendar/cuban-nights-at-ocean-brasserie-bar-at-hotel-riomar-ibiza/2025-05-23/
LOCATION:Hotel Riomar Ibiza\, Carrer des Riu\, Santa Eulalia del Río\, Islas Baleares\, 07840\, Spain
CATEGORIES:Foodies,Culture
ATTACH;FMTTYPE=image/jpeg:https://white-ibiza.com/wp-content/uploads/2025/05/white-ibiza-calendar-cuban-nights-ocean-brasseri-bar-hotel-riomar-ibiza-2025.jpeg
GEO:38.9796226;1.5305632
X-APPLE-STRUCTURED-LOCATION;VALUE=URI;X-ADDRESS=Hotel Riomar Ibiza Carrer des Riu Santa Eulalia del Río Islas Baleares 07840 Spain;X-APPLE-RADIUS=500;X-TITLE=Carrer des Riu:geo:1.5305632,38.9796226
END:VEVENT
END:VCALENDAR