BEGIN:VCALENDAR
VERSION:2.0
PRODID:-//WHITE IBIZA - ECPv6.6.0.2//NONSGML v1.0//EN
CALSCALE:GREGORIAN
METHOD:PUBLISH
X-ORIGINAL-URL:https://white-ibiza.com
X-WR-CALDESC:Events for WHITE IBIZA
REFRESH-INTERVAL;VALUE=DURATION:PT1H
X-Robots-Tag:noindex
X-PUBLISHED-TTL:PT1H
BEGIN:VTIMEZONE
TZID:Europe/Madrid
BEGIN:DAYLIGHT
TZOFFSETFROM:+0100
TZOFFSETTO:+0200
TZNAME:CEST
DTSTART:20240331T010000
END:DAYLIGHT
BEGIN:STANDARD
TZOFFSETFROM:+0200
TZOFFSETTO:+0100
TZNAME:CET
DTSTART:20241027T010000
END:STANDARD
END:VTIMEZONE
BEGIN:VEVENT
DTSTART;TZID=Europe/Madrid:20241005T100000
DTEND;TZID=Europe/Madrid:20241005T200000
DTSTAMP:20260421T223922
CREATED:20241010T221755Z
LAST-MODIFIED:20241108T092041Z
UID:10008313-1728122400-1728158400@white-ibiza.com
SUMMARY:Desde Los Orígenes Eduardo Chillida Belzunce Exhibition at Estudio Laterna
DESCRIPTION:Estudio Laterna invites you to explore the world of Eduardo Chillida Belzuncein Desde Los Orígenes. This solo exhibition delves into the intersection of light\, space and introspection\, with Chillida Belzunce meticulously layering vibrant colours and abstract forms to create works that are both profound and transformative. \nThis latest collection features a stunning mix of abstract paintings\, sculptures and figurative pieces. Curated by Andrea Sánchez in collaboration with Susana Álvarez San Martín\, the exhibition offers a unique glimpse into the artist’s evolving creative journey in Santa Gertrudis’ most stylish gallery space.
URL:https://white-ibiza.com/ibiza-calendar/2024-desde-los-origenes-eduardo-chillida-belzunce-exhibition-at-estudio-laterna/2024-10-05/
LOCATION:Estudio Laterna\, Carrer Vénda de Parada\, Santa Gertrudis de Fruitera\, Islas Baleares\, 07814\, Spain
CATEGORIES:Culture
ATTACH;FMTTYPE=image/jpeg:https://white-ibiza.com/wp-content/uploads/2024/10/white-ibiza-calendar-estudio-laterna-los-originese-exhibition-2024-1.jpeg
GEO:38.9988683;1.4283884
X-APPLE-STRUCTURED-LOCATION;VALUE=URI;X-ADDRESS=Estudio Laterna Carrer Vénda de Parada Santa Gertrudis de Fruitera Islas Baleares 07814 Spain;X-APPLE-RADIUS=500;X-TITLE=Carrer Vénda de Parada:geo:1.4283884,38.9988683
END:VEVENT
BEGIN:VEVENT
DTSTART;TZID=Europe/Madrid:20241004T100000
DTEND;TZID=Europe/Madrid:20241004T200000
DTSTAMP:20260421T223922
CREATED:20241010T221755Z
LAST-MODIFIED:20241108T092041Z
UID:10008312-1728036000-1728072000@white-ibiza.com
SUMMARY:Desde Los Orígenes Eduardo Chillida Belzunce Exhibition at Estudio Laterna
DESCRIPTION:Estudio Laterna invites you to explore the world of Eduardo Chillida Belzuncein Desde Los Orígenes. This solo exhibition delves into the intersection of light\, space and introspection\, with Chillida Belzunce meticulously layering vibrant colours and abstract forms to create works that are both profound and transformative. \nThis latest collection features a stunning mix of abstract paintings\, sculptures and figurative pieces. Curated by Andrea Sánchez in collaboration with Susana Álvarez San Martín\, the exhibition offers a unique glimpse into the artist’s evolving creative journey in Santa Gertrudis’ most stylish gallery space.
URL:https://white-ibiza.com/ibiza-calendar/2024-desde-los-origenes-eduardo-chillida-belzunce-exhibition-at-estudio-laterna/2024-10-04/
LOCATION:Estudio Laterna\, Carrer Vénda de Parada\, Santa Gertrudis de Fruitera\, Islas Baleares\, 07814\, Spain
CATEGORIES:Culture
ATTACH;FMTTYPE=image/jpeg:https://white-ibiza.com/wp-content/uploads/2024/10/white-ibiza-calendar-estudio-laterna-los-originese-exhibition-2024-1.jpeg
GEO:38.9988683;1.4283884
X-APPLE-STRUCTURED-LOCATION;VALUE=URI;X-ADDRESS=Estudio Laterna Carrer Vénda de Parada Santa Gertrudis de Fruitera Islas Baleares 07814 Spain;X-APPLE-RADIUS=500;X-TITLE=Carrer Vénda de Parada:geo:1.4283884,38.9988683
END:VEVENT
END:VCALENDAR