BEGIN:VCALENDAR
VERSION:2.0
PRODID:-//WHITE IBIZA - ECPv6.6.0.2//NONSGML v1.0//EN
CALSCALE:GREGORIAN
METHOD:PUBLISH
X-ORIGINAL-URL:https://white-ibiza.com
X-WR-CALDESC:Events for WHITE IBIZA
REFRESH-INTERVAL;VALUE=DURATION:PT1H
X-Robots-Tag:noindex
X-PUBLISHED-TTL:PT1H
BEGIN:VTIMEZONE
TZID:Europe/Madrid
BEGIN:DAYLIGHT
TZOFFSETFROM:+0100
TZOFFSETTO:+0200
TZNAME:CEST
DTSTART:20250330T010000
END:DAYLIGHT
BEGIN:STANDARD
TZOFFSETFROM:+0200
TZOFFSETTO:+0100
TZNAME:CET
DTSTART:20251026T010000
END:STANDARD
BEGIN:DAYLIGHT
TZOFFSETFROM:+0100
TZOFFSETTO:+0200
TZNAME:CEST
DTSTART:20260329T010000
END:DAYLIGHT
BEGIN:STANDARD
TZOFFSETFROM:+0200
TZOFFSETTO:+0100
TZNAME:CET
DTSTART:20261025T010000
END:STANDARD
END:VTIMEZONE
BEGIN:VEVENT
DTSTART;TZID=Europe/Madrid:20260419T133000
DTEND;TZID=Europe/Madrid:20260419T153000
DTSTAMP:20260424T151621
CREATED:20260312T144059Z
LAST-MODIFIED:20260312T144059Z
UID:10030937-1776605400-1776612600@white-ibiza.com
SUMMARY:Calçots & Grill at Es Cucons
DESCRIPTION:Nestled into the green hills of Santa Inés and surrounded by pine-clad Ibiza countryside lies a finca turned restaurant with a farm-to-table ethos that honours the island’s rich culinary bounty. Booking a table for the seasonal Calçots & Grill event at Es Cucons Ibiza is the perfect way to spend a Saturday or Sunday with family and friends while tucking into the smoky\, sticky delight that is a calçotada. \nIs it a tiny spring onion or a baby leek? While the answer is uncertain\, the only thing to be sure of is that when they are cooked over an open fire and served with homemade romesco sauce\, they are deliciously addictive and a perennial island favourite. Paired with a bottle of red\, a smattering of winter sunshine and views that are seemingly never-ending\, the weekly Calçots & Grill at Es Cucons Ibiza signals the start of springtime and a not-too-distant summer. 
URL:https://white-ibiza.com/ibiza-calendar/calcots-grill-at-es-cucons/2026-04-19/
LOCATION:Es Cucons\, Sant Antoni de Portmany\, Islas Baleares\, 07828\, Spain
CATEGORIES:Foodies
ATTACH;FMTTYPE=image/jpeg:https://white-ibiza.com/wp-content/uploads/2025/09/white-ibiza-restaurants-es-cucons-restaurant-2025-08.jpeg
GEO:39.0400876;1.3299587
END:VEVENT
BEGIN:VEVENT
DTSTART;TZID=Europe/Madrid:20260418T133000
DTEND;TZID=Europe/Madrid:20260418T153000
DTSTAMP:20260424T151621
CREATED:20260312T144059Z
LAST-MODIFIED:20260312T144059Z
UID:10030936-1776519000-1776526200@white-ibiza.com
SUMMARY:Calçots & Grill at Es Cucons
DESCRIPTION:Nestled into the green hills of Santa Inés and surrounded by pine-clad Ibiza countryside lies a finca turned restaurant with a farm-to-table ethos that honours the island’s rich culinary bounty. Booking a table for the seasonal Calçots & Grill event at Es Cucons Ibiza is the perfect way to spend a Saturday or Sunday with family and friends while tucking into the smoky\, sticky delight that is a calçotada. \nIs it a tiny spring onion or a baby leek? While the answer is uncertain\, the only thing to be sure of is that when they are cooked over an open fire and served with homemade romesco sauce\, they are deliciously addictive and a perennial island favourite. Paired with a bottle of red\, a smattering of winter sunshine and views that are seemingly never-ending\, the weekly Calçots & Grill at Es Cucons Ibiza signals the start of springtime and a not-too-distant summer. 
URL:https://white-ibiza.com/ibiza-calendar/calcots-grill-at-es-cucons/2026-04-18/
LOCATION:Es Cucons\, Sant Antoni de Portmany\, Islas Baleares\, 07828\, Spain
CATEGORIES:Foodies
ATTACH;FMTTYPE=image/jpeg:https://white-ibiza.com/wp-content/uploads/2025/09/white-ibiza-restaurants-es-cucons-restaurant-2025-08.jpeg
GEO:39.0400876;1.3299587
END:VEVENT
BEGIN:VEVENT
DTSTART;TZID=Europe/Madrid:20260412T133000
DTEND;TZID=Europe/Madrid:20260412T153000
DTSTAMP:20260424T151621
CREATED:20260312T144059Z
LAST-MODIFIED:20260312T144059Z
UID:10030935-1776000600-1776007800@white-ibiza.com
SUMMARY:Calçots & Grill at Es Cucons
DESCRIPTION:Nestled into the green hills of Santa Inés and surrounded by pine-clad Ibiza countryside lies a finca turned restaurant with a farm-to-table ethos that honours the island’s rich culinary bounty. Booking a table for the seasonal Calçots & Grill event at Es Cucons Ibiza is the perfect way to spend a Saturday or Sunday with family and friends while tucking into the smoky\, sticky delight that is a calçotada. \nIs it a tiny spring onion or a baby leek? While the answer is uncertain\, the only thing to be sure of is that when they are cooked over an open fire and served with homemade romesco sauce\, they are deliciously addictive and a perennial island favourite. Paired with a bottle of red\, a smattering of winter sunshine and views that are seemingly never-ending\, the weekly Calçots & Grill at Es Cucons Ibiza signals the start of springtime and a not-too-distant summer. 
URL:https://white-ibiza.com/ibiza-calendar/calcots-grill-at-es-cucons/2026-04-12/
LOCATION:Es Cucons\, Sant Antoni de Portmany\, Islas Baleares\, 07828\, Spain
CATEGORIES:Foodies
ATTACH;FMTTYPE=image/jpeg:https://white-ibiza.com/wp-content/uploads/2025/09/white-ibiza-restaurants-es-cucons-restaurant-2025-08.jpeg
GEO:39.0400876;1.3299587
END:VEVENT
BEGIN:VEVENT
DTSTART;TZID=Europe/Madrid:20260411T133000
DTEND;TZID=Europe/Madrid:20260411T153000
DTSTAMP:20260424T151621
CREATED:20260312T144059Z
LAST-MODIFIED:20260312T144059Z
UID:10030934-1775914200-1775921400@white-ibiza.com
SUMMARY:Calçots & Grill at Es Cucons
DESCRIPTION:Nestled into the green hills of Santa Inés and surrounded by pine-clad Ibiza countryside lies a finca turned restaurant with a farm-to-table ethos that honours the island’s rich culinary bounty. Booking a table for the seasonal Calçots & Grill event at Es Cucons Ibiza is the perfect way to spend a Saturday or Sunday with family and friends while tucking into the smoky\, sticky delight that is a calçotada. \nIs it a tiny spring onion or a baby leek? While the answer is uncertain\, the only thing to be sure of is that when they are cooked over an open fire and served with homemade romesco sauce\, they are deliciously addictive and a perennial island favourite. Paired with a bottle of red\, a smattering of winter sunshine and views that are seemingly never-ending\, the weekly Calçots & Grill at Es Cucons Ibiza signals the start of springtime and a not-too-distant summer. 
URL:https://white-ibiza.com/ibiza-calendar/calcots-grill-at-es-cucons/2026-04-11/
LOCATION:Es Cucons\, Sant Antoni de Portmany\, Islas Baleares\, 07828\, Spain
CATEGORIES:Foodies
ATTACH;FMTTYPE=image/jpeg:https://white-ibiza.com/wp-content/uploads/2025/09/white-ibiza-restaurants-es-cucons-restaurant-2025-08.jpeg
GEO:39.0400876;1.3299587
END:VEVENT
BEGIN:VEVENT
DTSTART;TZID=Europe/Madrid:20260405T133000
DTEND;TZID=Europe/Madrid:20260405T153000
DTSTAMP:20260424T151621
CREATED:20260312T144059Z
LAST-MODIFIED:20260312T144059Z
UID:10030933-1775395800-1775403000@white-ibiza.com
SUMMARY:Calçots & Grill at Es Cucons
DESCRIPTION:Nestled into the green hills of Santa Inés and surrounded by pine-clad Ibiza countryside lies a finca turned restaurant with a farm-to-table ethos that honours the island’s rich culinary bounty. Booking a table for the seasonal Calçots & Grill event at Es Cucons Ibiza is the perfect way to spend a Saturday or Sunday with family and friends while tucking into the smoky\, sticky delight that is a calçotada. \nIs it a tiny spring onion or a baby leek? While the answer is uncertain\, the only thing to be sure of is that when they are cooked over an open fire and served with homemade romesco sauce\, they are deliciously addictive and a perennial island favourite. Paired with a bottle of red\, a smattering of winter sunshine and views that are seemingly never-ending\, the weekly Calçots & Grill at Es Cucons Ibiza signals the start of springtime and a not-too-distant summer. 
URL:https://white-ibiza.com/ibiza-calendar/calcots-grill-at-es-cucons/2026-04-05/
LOCATION:Es Cucons\, Sant Antoni de Portmany\, Islas Baleares\, 07828\, Spain
CATEGORIES:Foodies
ATTACH;FMTTYPE=image/jpeg:https://white-ibiza.com/wp-content/uploads/2025/09/white-ibiza-restaurants-es-cucons-restaurant-2025-08.jpeg
GEO:39.0400876;1.3299587
END:VEVENT
BEGIN:VEVENT
DTSTART;TZID=Europe/Madrid:20260404T133000
DTEND;TZID=Europe/Madrid:20260404T153000
DTSTAMP:20260424T151621
CREATED:20260312T144059Z
LAST-MODIFIED:20260312T144059Z
UID:10030932-1775309400-1775316600@white-ibiza.com
SUMMARY:Calçots & Grill at Es Cucons
DESCRIPTION:Nestled into the green hills of Santa Inés and surrounded by pine-clad Ibiza countryside lies a finca turned restaurant with a farm-to-table ethos that honours the island’s rich culinary bounty. Booking a table for the seasonal Calçots & Grill event at Es Cucons Ibiza is the perfect way to spend a Saturday or Sunday with family and friends while tucking into the smoky\, sticky delight that is a calçotada. \nIs it a tiny spring onion or a baby leek? While the answer is uncertain\, the only thing to be sure of is that when they are cooked over an open fire and served with homemade romesco sauce\, they are deliciously addictive and a perennial island favourite. Paired with a bottle of red\, a smattering of winter sunshine and views that are seemingly never-ending\, the weekly Calçots & Grill at Es Cucons Ibiza signals the start of springtime and a not-too-distant summer. 
URL:https://white-ibiza.com/ibiza-calendar/calcots-grill-at-es-cucons/2026-04-04/
LOCATION:Es Cucons\, Sant Antoni de Portmany\, Islas Baleares\, 07828\, Spain
CATEGORIES:Foodies
ATTACH;FMTTYPE=image/jpeg:https://white-ibiza.com/wp-content/uploads/2025/09/white-ibiza-restaurants-es-cucons-restaurant-2025-08.jpeg
GEO:39.0400876;1.3299587
END:VEVENT
BEGIN:VEVENT
DTSTART;TZID=Europe/Madrid:20260329T140000
DTEND;TZID=Europe/Madrid:20260329T180000
DTSTAMP:20260424T151621
CREATED:20260326T161358Z
LAST-MODIFIED:20260327T100305Z
UID:10031306-1774792800-1774807200@white-ibiza.com
SUMMARY:Brunch & Jeanphi Delaislas at Es Cucons   
DESCRIPTION:Nestled in the lush rolling hills of Santa Inés\, Es Cucons offers island foodies and fun-seekers a glorious blend of delicious farm-to-table dining and magical musical medleys on Sunday March 29\, 2026\, with a special brunch event where the fare is as fresh as the beats. \nThe grill fires up from 2pm\, brimming with rustic local flavours fused with contemporary culinary touches\, while DJ Jeanphi Delaislas spins the soundtrack to the lazy spring Sunday afternoon. On the sunny terrace of the 17th century finca\, time slows down as guests and island residents make the most of these last lazy\, pre-season days – prior booking is recommended to guarantee you score a seat.
URL:https://white-ibiza.com/ibiza-calendar/brunch-jeanphi-delaislas-at-es-cucons/
LOCATION:Es Cucons\, Sant Antoni de Portmany\, Islas Baleares\, 07828\, Spain
CATEGORIES:Foodies
ATTACH;FMTTYPE=image/jpeg:https://white-ibiza.com/wp-content/uploads/2026/01/white-ibiza-journal-es-cucons-2025-10.jpeg
GEO:39.0400876;1.3299587
END:VEVENT
BEGIN:VEVENT
DTSTART;TZID=Europe/Madrid:20260329T133000
DTEND;TZID=Europe/Madrid:20260329T153000
DTSTAMP:20260424T151621
CREATED:20260312T144059Z
LAST-MODIFIED:20260312T144059Z
UID:10030931-1774791000-1774798200@white-ibiza.com
SUMMARY:Calçots & Grill at Es Cucons
DESCRIPTION:Nestled into the green hills of Santa Inés and surrounded by pine-clad Ibiza countryside lies a finca turned restaurant with a farm-to-table ethos that honours the island’s rich culinary bounty. Booking a table for the seasonal Calçots & Grill event at Es Cucons Ibiza is the perfect way to spend a Saturday or Sunday with family and friends while tucking into the smoky\, sticky delight that is a calçotada. \nIs it a tiny spring onion or a baby leek? While the answer is uncertain\, the only thing to be sure of is that when they are cooked over an open fire and served with homemade romesco sauce\, they are deliciously addictive and a perennial island favourite. Paired with a bottle of red\, a smattering of winter sunshine and views that are seemingly never-ending\, the weekly Calçots & Grill at Es Cucons Ibiza signals the start of springtime and a not-too-distant summer. 
URL:https://white-ibiza.com/ibiza-calendar/calcots-grill-at-es-cucons/2026-03-29/
LOCATION:Es Cucons\, Sant Antoni de Portmany\, Islas Baleares\, 07828\, Spain
CATEGORIES:Foodies
ATTACH;FMTTYPE=image/jpeg:https://white-ibiza.com/wp-content/uploads/2025/09/white-ibiza-restaurants-es-cucons-restaurant-2025-08.jpeg
GEO:39.0400876;1.3299587
END:VEVENT
BEGIN:VEVENT
DTSTART;TZID=Europe/Madrid:20260328T133000
DTEND;TZID=Europe/Madrid:20260328T153000
DTSTAMP:20260424T151621
CREATED:20260312T144059Z
LAST-MODIFIED:20260312T144059Z
UID:10030930-1774704600-1774711800@white-ibiza.com
SUMMARY:Calçots & Grill at Es Cucons
DESCRIPTION:Nestled into the green hills of Santa Inés and surrounded by pine-clad Ibiza countryside lies a finca turned restaurant with a farm-to-table ethos that honours the island’s rich culinary bounty. Booking a table for the seasonal Calçots & Grill event at Es Cucons Ibiza is the perfect way to spend a Saturday or Sunday with family and friends while tucking into the smoky\, sticky delight that is a calçotada. \nIs it a tiny spring onion or a baby leek? While the answer is uncertain\, the only thing to be sure of is that when they are cooked over an open fire and served with homemade romesco sauce\, they are deliciously addictive and a perennial island favourite. Paired with a bottle of red\, a smattering of winter sunshine and views that are seemingly never-ending\, the weekly Calçots & Grill at Es Cucons Ibiza signals the start of springtime and a not-too-distant summer. 
URL:https://white-ibiza.com/ibiza-calendar/calcots-grill-at-es-cucons/2026-03-28/
LOCATION:Es Cucons\, Sant Antoni de Portmany\, Islas Baleares\, 07828\, Spain
CATEGORIES:Foodies
ATTACH;FMTTYPE=image/jpeg:https://white-ibiza.com/wp-content/uploads/2025/09/white-ibiza-restaurants-es-cucons-restaurant-2025-08.jpeg
GEO:39.0400876;1.3299587
END:VEVENT
BEGIN:VEVENT
DTSTART;TZID=Europe/Madrid:20260322T133000
DTEND;TZID=Europe/Madrid:20260322T153000
DTSTAMP:20260424T151621
CREATED:20260312T144059Z
LAST-MODIFIED:20260312T144059Z
UID:10030929-1774186200-1774193400@white-ibiza.com
SUMMARY:Calçots & Grill at Es Cucons
DESCRIPTION:Nestled into the green hills of Santa Inés and surrounded by pine-clad Ibiza countryside lies a finca turned restaurant with a farm-to-table ethos that honours the island’s rich culinary bounty. Booking a table for the seasonal Calçots & Grill event at Es Cucons Ibiza is the perfect way to spend a Saturday or Sunday with family and friends while tucking into the smoky\, sticky delight that is a calçotada. \nIs it a tiny spring onion or a baby leek? While the answer is uncertain\, the only thing to be sure of is that when they are cooked over an open fire and served with homemade romesco sauce\, they are deliciously addictive and a perennial island favourite. Paired with a bottle of red\, a smattering of winter sunshine and views that are seemingly never-ending\, the weekly Calçots & Grill at Es Cucons Ibiza signals the start of springtime and a not-too-distant summer. 
URL:https://white-ibiza.com/ibiza-calendar/calcots-grill-at-es-cucons/2026-03-22/
LOCATION:Es Cucons\, Sant Antoni de Portmany\, Islas Baleares\, 07828\, Spain
CATEGORIES:Foodies
ATTACH;FMTTYPE=image/jpeg:https://white-ibiza.com/wp-content/uploads/2025/09/white-ibiza-restaurants-es-cucons-restaurant-2025-08.jpeg
GEO:39.0400876;1.3299587
END:VEVENT
BEGIN:VEVENT
DTSTART;TZID=Europe/Madrid:20260321T133000
DTEND;TZID=Europe/Madrid:20260321T153000
DTSTAMP:20260424T151621
CREATED:20260312T144059Z
LAST-MODIFIED:20260312T144059Z
UID:10030928-1774099800-1774107000@white-ibiza.com
SUMMARY:Calçots & Grill at Es Cucons
DESCRIPTION:Nestled into the green hills of Santa Inés and surrounded by pine-clad Ibiza countryside lies a finca turned restaurant with a farm-to-table ethos that honours the island’s rich culinary bounty. Booking a table for the seasonal Calçots & Grill event at Es Cucons Ibiza is the perfect way to spend a Saturday or Sunday with family and friends while tucking into the smoky\, sticky delight that is a calçotada. \nIs it a tiny spring onion or a baby leek? While the answer is uncertain\, the only thing to be sure of is that when they are cooked over an open fire and served with homemade romesco sauce\, they are deliciously addictive and a perennial island favourite. Paired with a bottle of red\, a smattering of winter sunshine and views that are seemingly never-ending\, the weekly Calçots & Grill at Es Cucons Ibiza signals the start of springtime and a not-too-distant summer. 
URL:https://white-ibiza.com/ibiza-calendar/calcots-grill-at-es-cucons/2026-03-21/
LOCATION:Es Cucons\, Sant Antoni de Portmany\, Islas Baleares\, 07828\, Spain
CATEGORIES:Foodies
ATTACH;FMTTYPE=image/jpeg:https://white-ibiza.com/wp-content/uploads/2025/09/white-ibiza-restaurants-es-cucons-restaurant-2025-08.jpeg
GEO:39.0400876;1.3299587
END:VEVENT
BEGIN:VEVENT
DTSTART;TZID=Europe/Madrid:20260315T133000
DTEND;TZID=Europe/Madrid:20260315T153000
DTSTAMP:20260424T151621
CREATED:20260312T144059Z
LAST-MODIFIED:20260312T144059Z
UID:10030927-1773581400-1773588600@white-ibiza.com
SUMMARY:Calçots & Grill at Es Cucons
DESCRIPTION:Nestled into the green hills of Santa Inés and surrounded by pine-clad Ibiza countryside lies a finca turned restaurant with a farm-to-table ethos that honours the island’s rich culinary bounty. Booking a table for the seasonal Calçots & Grill event at Es Cucons Ibiza is the perfect way to spend a Saturday or Sunday with family and friends while tucking into the smoky\, sticky delight that is a calçotada. \nIs it a tiny spring onion or a baby leek? While the answer is uncertain\, the only thing to be sure of is that when they are cooked over an open fire and served with homemade romesco sauce\, they are deliciously addictive and a perennial island favourite. Paired with a bottle of red\, a smattering of winter sunshine and views that are seemingly never-ending\, the weekly Calçots & Grill at Es Cucons Ibiza signals the start of springtime and a not-too-distant summer. 
URL:https://white-ibiza.com/ibiza-calendar/calcots-grill-at-es-cucons/2026-03-15/
LOCATION:Es Cucons\, Sant Antoni de Portmany\, Islas Baleares\, 07828\, Spain
CATEGORIES:Foodies
ATTACH;FMTTYPE=image/jpeg:https://white-ibiza.com/wp-content/uploads/2025/09/white-ibiza-restaurants-es-cucons-restaurant-2025-08.jpeg
GEO:39.0400876;1.3299587
END:VEVENT
BEGIN:VEVENT
DTSTART;TZID=Europe/Madrid:20260314T133000
DTEND;TZID=Europe/Madrid:20260314T153000
DTSTAMP:20260424T151621
CREATED:20260312T144059Z
LAST-MODIFIED:20260312T144059Z
UID:10030926-1773495000-1773502200@white-ibiza.com
SUMMARY:Calçots & Grill at Es Cucons
DESCRIPTION:Nestled into the green hills of Santa Inés and surrounded by pine-clad Ibiza countryside lies a finca turned restaurant with a farm-to-table ethos that honours the island’s rich culinary bounty. Booking a table for the seasonal Calçots & Grill event at Es Cucons Ibiza is the perfect way to spend a Saturday or Sunday with family and friends while tucking into the smoky\, sticky delight that is a calçotada. \nIs it a tiny spring onion or a baby leek? While the answer is uncertain\, the only thing to be sure of is that when they are cooked over an open fire and served with homemade romesco sauce\, they are deliciously addictive and a perennial island favourite. Paired with a bottle of red\, a smattering of winter sunshine and views that are seemingly never-ending\, the weekly Calçots & Grill at Es Cucons Ibiza signals the start of springtime and a not-too-distant summer. 
URL:https://white-ibiza.com/ibiza-calendar/calcots-grill-at-es-cucons/2026-03-14/
LOCATION:Es Cucons\, Sant Antoni de Portmany\, Islas Baleares\, 07828\, Spain
CATEGORIES:Foodies
ATTACH;FMTTYPE=image/jpeg:https://white-ibiza.com/wp-content/uploads/2025/09/white-ibiza-restaurants-es-cucons-restaurant-2025-08.jpeg
GEO:39.0400876;1.3299587
END:VEVENT
BEGIN:VEVENT
DTSTART;TZID=Europe/Madrid:20250912T190000
DTEND;TZID=Europe/Madrid:20250912T220000
DTSTAMP:20260424T151621
CREATED:20250911T141918Z
LAST-MODIFIED:20250911T141918Z
UID:10024794-1757703600-1757714400@white-ibiza.com
SUMMARY:Artisanal Wine Tasting at Es Cucons
DESCRIPTION:On Friday September 12\, 2025\, Es Cucons opens its garden gates for an evening dedicated to the good things in life – artisan wine\, soulful music and a feast of house specialities. The night begins at 7pm with a guided tasting session\, celebrating bottles chosen for their character and craft\, before live sounds from Eco Raíz set the mood for the rest of the evening.  \nBy 8pm\, guests gather around the table to share a three-course dinner from the Es Cucons kitchen\, designed to complement the wines and the stunning rural surroundings. At just 55€ per person\, it’s an invitation to sip slowly and savour one of Ibiza’s most charming countryside hotels at its most authentic.
URL:https://white-ibiza.com/ibiza-calendar/artisanal-wine-tasting-at-es-cucons/
LOCATION:Es Cucons\, Sant Antoni de Portmany\, Islas Baleares\, 07828\, Spain
CATEGORIES:Foodies
ATTACH;FMTTYPE=image/jpeg:https://white-ibiza.com/wp-content/uploads/2025/09/white-ibiza-calendar-es-cucons-restaurant-2025.jpeg
GEO:39.0400876;1.3299587
END:VEVENT
BEGIN:VEVENT
DTSTART;TZID=Europe/Madrid:20250330T130000
DTEND;TZID=Europe/Madrid:20250330T180000
DTSTAMP:20260424T151621
CREATED:20250327T140255Z
LAST-MODIFIED:20250327T140255Z
UID:10014994-1743339600-1743357600@white-ibiza.com
SUMMARY:Calçots Barbecue & Cava at Es Cucons
DESCRIPTION:The smell of smoke\, the sound of popping cava corks and a garden full of smiling faces means spring has officially sprung at Es Cucons. One of the island’s most beloved countryside hotels celebrates the changing of the seasons this weekend with a Catalan-style calçotada – a traditional feast where chargrilled spring onions are the stars of the show. Served blackened and blistered straight from the flames\, calçots are dunked in tangy romesco sauce\, chased with a glass of bubbles and best enjoyed alfresco with sticky fingers and plenty of napkins. \nSet among almond trees and rolling hills in the heart of the Santa Inés campo\, the rustic setting couldn’t be more perfect for this long lunch affair. With live music adding to the laid-back atmosphere\, expect an afternoon of good food\, good vibes and that very specific kind of sunshine that makes you unabashedly glad to be alive. Grab your gang and get booking! \n 
URL:https://white-ibiza.com/ibiza-calendar/calcots-barbecue-cava-at-es-cucons/
LOCATION:Es Cucons\, Sant Antoni de Portmany\, Islas Baleares\, 07828\, Spain
CATEGORIES:Foodies
ATTACH;FMTTYPE=image/jpeg:https://white-ibiza.com/wp-content/uploads/2025/03/white-ibiza-calendar-es-cucons-2025.jpeg
GEO:39.0400876;1.3299587
END:VEVENT
END:VCALENDAR