BEGIN:VCALENDAR
VERSION:2.0
PRODID:-//WHITE IBIZA - ECPv6.6.0.2//NONSGML v1.0//EN
CALSCALE:GREGORIAN
METHOD:PUBLISH
X-WR-CALNAME:WHITE IBIZA
X-ORIGINAL-URL:https://white-ibiza.com
X-WR-CALDESC:Events for WHITE IBIZA
REFRESH-INTERVAL;VALUE=DURATION:PT1H
X-Robots-Tag:noindex
X-PUBLISHED-TTL:PT1H
BEGIN:VTIMEZONE
TZID:Europe/Madrid
BEGIN:DAYLIGHT
TZOFFSETFROM:+0100
TZOFFSETTO:+0200
TZNAME:CEST
DTSTART:20240331T010000
END:DAYLIGHT
BEGIN:STANDARD
TZOFFSETFROM:+0200
TZOFFSETTO:+0100
TZNAME:CET
DTSTART:20241027T010000
END:STANDARD
BEGIN:DAYLIGHT
TZOFFSETFROM:+0100
TZOFFSETTO:+0200
TZNAME:CEST
DTSTART:20250330T010000
END:DAYLIGHT
BEGIN:STANDARD
TZOFFSETFROM:+0200
TZOFFSETTO:+0100
TZNAME:CET
DTSTART:20251026T010000
END:STANDARD
BEGIN:DAYLIGHT
TZOFFSETFROM:+0100
TZOFFSETTO:+0200
TZNAME:CEST
DTSTART:20260329T010000
END:DAYLIGHT
BEGIN:STANDARD
TZOFFSETFROM:+0200
TZOFFSETTO:+0100
TZNAME:CET
DTSTART:20261025T010000
END:STANDARD
END:VTIMEZONE
BEGIN:VEVENT
DTSTART;TZID=Europe/Madrid:20251231T210000
DTEND;TZID=Europe/Madrid:20260101T013000
DTSTAMP:20260420T163141
CREATED:20251112T170723Z
LAST-MODIFIED:20251112T170723Z
UID:10027190-1767214800-1767231000@white-ibiza.com
SUMMARY:New Year’s Eve Dinner at Pacha Hotel
DESCRIPTION:Step into 2026 with a glitzy feast at Pacha Hotel Ibiza\, where New Year’s Eve begins in true Balearic style. The evening unfolds with an indulgent six-course gala dinner paired with premium wines and bubbles for 250€ per person\, served in the hotel’s elegant dining room dressed up for the grand occasion. Every plate served is a tribute to Mediterranean flavours\, from succulent scallops served with pumpkin cream and crispy guanciale\, and lobster salad with mango\, avocado and passionfruit vinaigrette to the wild sea bass with olives\, capers and sun-dried tomato relish or the beef tenderloin with sweet potato and chestnut purée.  \nFor a sweet treat\, the meal ends with a classic Sacher Torte finished with gold dust and when the clock strikes 12\, all diners get to take part in the great Spanish tradition of eating 12 lucky grapes at each chime of the clock. From there\, shimmy across the street to Pacha Ibiza for Music On New Year’s Eve with Marco Carola\, Nic Fanciulli B2B Franky Rizardo and Mason Collective – entrance to the club is free before 1.30am for clubbers with NYE dinner tickets at Pacha Hotel Ibiza. It’s the perfect combination of fine dining and the island’s most iconic dance floor. Dress up\, dine well and dance your way into 2026. 
URL:https://white-ibiza.com/ibiza-calendar/new-years-eve-dinner-at-pacha-hotel/
LOCATION:El Hotel Pacha\, Avinguda 8 d'Agost\, Eivissa\, Islas Baleares\, 07800\, Spain
CATEGORIES:Foodies
ATTACH;FMTTYPE=image/jpeg:https://white-ibiza.com/wp-content/uploads/2025/11/white-ibiza-calendar-pacha-hotel-restaurant-new-years-eve-dinner-2025-2026.jpeg
GEO:38.9177309;1.4446226
X-APPLE-STRUCTURED-LOCATION;VALUE=URI;X-ADDRESS=El Hotel Pacha Avinguda 8 d'Agost Eivissa Islas Baleares 07800 Spain;X-APPLE-RADIUS=500;X-TITLE=Avinguda 8 d'Agost:geo:1.4446226,38.9177309
END:VEVENT
BEGIN:VEVENT
DTSTART;TZID=Europe/Madrid:20251031T200000
DTEND;TZID=Europe/Madrid:20251101T235900
DTSTAMP:20260420T163141
CREATED:20251030T091235Z
LAST-MODIFIED:20251030T091235Z
UID:10027071-1761940800-1762041540@white-ibiza.com
SUMMARY:The Dark Side of Double Cherry Halloween Party at Pacha Hotel
DESCRIPTION:Halloween takes a glitzy\, glamorous turn at Pacha Hotel this year\, when the iconic club’s sister hotel and restaurant slips into something a little sexier for The Dark Side of Double Cherry Halloween Party. Step into the stylish Marina Botafoch haunt for an evening of high spirits and low lighting\, where fancy dress is not just encouraged but practically a rite of passage. Dinner and cocktails flow from 8pm as the music rises with Laeet and Gaty López behind the decks for a monster mash with panache. \nJust steps away from many of the the island’s most legendary Halloween parties\, this is the perfect prelude or finale to your fright-night adventures in Ibiza – a sultry soiree where glamour meets the supernatural and the cherries turn deliciously wicked – some might even call it double trouble! Reservations for dinner highly recommended.
URL:https://white-ibiza.com/ibiza-calendar/the-dark-side-of-double-cherry-halloween-party-at-pacha-hotel/
LOCATION:El Hotel Pacha\, Avinguda 8 d'Agost\, Eivissa\, Islas Baleares\, 07800\, Spain
CATEGORIES:Foodies,Culture,Clubs,Nightlife
ATTACH;FMTTYPE=image/jpeg:https://white-ibiza.com/wp-content/uploads/2025/10/white-ibiza-halloween-guide-2025-pacha-hotel.jpeg
GEO:38.9177309;1.4446226
X-APPLE-STRUCTURED-LOCATION;VALUE=URI;X-ADDRESS=El Hotel Pacha Avinguda 8 d'Agost Eivissa Islas Baleares 07800 Spain;X-APPLE-RADIUS=500;X-TITLE=Avinguda 8 d'Agost:geo:1.4446226,38.9177309
END:VEVENT
BEGIN:VEVENT
DTSTART;TZID=Europe/Madrid:20241231T200000
DTEND;TZID=Europe/Madrid:20241231T235900
DTSTAMP:20260420T163141
CREATED:20241229T114907Z
LAST-MODIFIED:20241229T114907Z
UID:10012321-1735675200-1735689540@white-ibiza.com
SUMMARY:NYE Dinner with Pacha Club Entrance at El Hotel Pacha
DESCRIPTION:New Year’s Eve in Ibiza is so much more than just another party night. It’s a night that takes the island’s signature clubbing flair and pairs it with decadent cuisine\, exquisite cocktails and an all-singing\, all-dancing dash of entertainment\, along with the world’s best DJs\, of course! As the sister restaurant and hotel to one of the most iconic clubs in the world\, it makes sense that El Hotel Pacha starts the proceedings early\, with its NYE Dinner incorporating an exclusive six-course set menu with drinks\, plus entry to the iconic nightclub after midnight. No need to worry about designated drivers – it’s just a hop across the zebra crossing to arrive at your final destination! \nThe delicious dining experience begins with an amuse-bouche and starters include Mediterranean tuna carpaccio with caviar or lobster salad with mango and avocado. The main course of luxurious beef tenderloin with foie gras and mushrooms is followed by El Hotel Pacha’s signature Golden Cherry – a deluxe dessert filled with chocolate and kirsch. The festive menu costs 230€ per person including drinks and access to Pacha Ibiza. Spaces are extremely limited so be sure to book fast!
URL:https://white-ibiza.com/ibiza-calendar/2024-nye-dinner-at-el-hotel-pacha/
LOCATION:El Hotel Pacha\, Avinguda 8 d'Agost\, Eivissa\, Islas Baleares\, 07800\, Spain
CATEGORIES:Foodies,Clubs
ATTACH;FMTTYPE=image/jpeg:https://white-ibiza.com/wp-content/uploads/2024/12/white-ibiza-calendar-el-hotel-pacha-christmas-new-years-eve-2024.jpeg
GEO:38.9177309;1.4446226
X-APPLE-STRUCTURED-LOCATION;VALUE=URI;X-ADDRESS=El Hotel Pacha Avinguda 8 d'Agost Eivissa Islas Baleares 07800 Spain;X-APPLE-RADIUS=500;X-TITLE=Avinguda 8 d'Agost:geo:1.4446226,38.9177309
END:VEVENT
END:VCALENDAR