BEGIN:VCALENDAR
VERSION:2.0
PRODID:-//WHITE IBIZA - ECPv6.6.0.2//NONSGML v1.0//EN
CALSCALE:GREGORIAN
METHOD:PUBLISH
X-ORIGINAL-URL:https://white-ibiza.com
X-WR-CALDESC:Events for WHITE IBIZA
REFRESH-INTERVAL;VALUE=DURATION:PT1H
X-Robots-Tag:noindex
X-PUBLISHED-TTL:PT1H
BEGIN:VTIMEZONE
TZID:Europe/Madrid
BEGIN:DAYLIGHT
TZOFFSETFROM:+0100
TZOFFSETTO:+0200
TZNAME:CEST
DTSTART:20250330T010000
END:DAYLIGHT
BEGIN:STANDARD
TZOFFSETFROM:+0200
TZOFFSETTO:+0100
TZNAME:CET
DTSTART:20251026T010000
END:STANDARD
END:VTIMEZONE
BEGIN:VEVENT
DTSTART;TZID=Europe/Madrid:20250922T190000
DTEND;TZID=Europe/Madrid:20250922T230000
DTSTAMP:20260424T000717
CREATED:20250731T092517Z
LAST-MODIFIED:20250731T103418Z
UID:10023140-1758567600-1758582000@white-ibiza.com
SUMMARY:Burger & Beer at Cuyo Ibiza
DESCRIPTION:Mondays at Cuyo Ibiza are made for laid-back dinners by the sea\, with the resort’s Mexican-inspired beachfront restaurant serving up a comfort food classic with a coastal twist. Set between Hyde Ibiza and Mondrian Ibiza in Cala Llonga\, the stylish restaurant’s Burger & Beer night is your excuse to ease gently into the week\, flip-flops on\, sundown beer in hand and the soundtrack of the waves complemented by live music from Snr Cardona. \nThe 25€ special includes a stacked burger of your choice – from the cheese-laden La Classical and the spicy La Mexican to the smoky Mayahuel and more\, all available with Black Angus or Beyond patties – with fries and two crisp cold beers to wash it all down. Whether you’re just off the beach or heading out for the night\, this easy-going evening is all about good vibes\, casual indulgence and tasty treats with front-row views over the sea.
URL:https://white-ibiza.com/ibiza-calendar/burger-beer-at-cuyo-ibiza/2025-09-22/
LOCATION:Cuyo Ibiza\, Carrer de sa Talaia\, Cala Llonga\, Balearic Islands\, 07849\, Spain
CATEGORIES:Foodies
ATTACH;FMTTYPE=image/jpeg:https://white-ibiza.com/wp-content/uploads/2025/07/white-ibiza-burger-beer-cuyo-ibiza-2025.jpeg
GEO:38.9544963;1.5198869
X-APPLE-STRUCTURED-LOCATION;VALUE=URI;X-ADDRESS=Cuyo Ibiza Carrer de sa Talaia Cala Llonga Balearic Islands 07849 Spain;X-APPLE-RADIUS=500;X-TITLE=Carrer de sa Talaia:geo:1.5198869,38.9544963
END:VEVENT
BEGIN:VEVENT
DTSTART;TZID=Europe/Madrid:20250915T190000
DTEND;TZID=Europe/Madrid:20250915T230000
DTSTAMP:20260424T000717
CREATED:20250731T092517Z
LAST-MODIFIED:20250731T103418Z
UID:10023139-1757962800-1757977200@white-ibiza.com
SUMMARY:Burger & Beer at Cuyo Ibiza
DESCRIPTION:Mondays at Cuyo Ibiza are made for laid-back dinners by the sea\, with the resort’s Mexican-inspired beachfront restaurant serving up a comfort food classic with a coastal twist. Set between Hyde Ibiza and Mondrian Ibiza in Cala Llonga\, the stylish restaurant’s Burger & Beer night is your excuse to ease gently into the week\, flip-flops on\, sundown beer in hand and the soundtrack of the waves complemented by live music from Snr Cardona. \nThe 25€ special includes a stacked burger of your choice – from the cheese-laden La Classical and the spicy La Mexican to the smoky Mayahuel and more\, all available with Black Angus or Beyond patties – with fries and two crisp cold beers to wash it all down. Whether you’re just off the beach or heading out for the night\, this easy-going evening is all about good vibes\, casual indulgence and tasty treats with front-row views over the sea.
URL:https://white-ibiza.com/ibiza-calendar/burger-beer-at-cuyo-ibiza/2025-09-15/
LOCATION:Cuyo Ibiza\, Carrer de sa Talaia\, Cala Llonga\, Balearic Islands\, 07849\, Spain
CATEGORIES:Foodies
ATTACH;FMTTYPE=image/jpeg:https://white-ibiza.com/wp-content/uploads/2025/07/white-ibiza-burger-beer-cuyo-ibiza-2025.jpeg
GEO:38.9544963;1.5198869
X-APPLE-STRUCTURED-LOCATION;VALUE=URI;X-ADDRESS=Cuyo Ibiza Carrer de sa Talaia Cala Llonga Balearic Islands 07849 Spain;X-APPLE-RADIUS=500;X-TITLE=Carrer de sa Talaia:geo:1.5198869,38.9544963
END:VEVENT
BEGIN:VEVENT
DTSTART;TZID=Europe/Madrid:20250908T190000
DTEND;TZID=Europe/Madrid:20250908T230000
DTSTAMP:20260424T000717
CREATED:20250731T092517Z
LAST-MODIFIED:20250731T103418Z
UID:10023138-1757358000-1757372400@white-ibiza.com
SUMMARY:Burger & Beer at Cuyo Ibiza
DESCRIPTION:Mondays at Cuyo Ibiza are made for laid-back dinners by the sea\, with the resort’s Mexican-inspired beachfront restaurant serving up a comfort food classic with a coastal twist. Set between Hyde Ibiza and Mondrian Ibiza in Cala Llonga\, the stylish restaurant’s Burger & Beer night is your excuse to ease gently into the week\, flip-flops on\, sundown beer in hand and the soundtrack of the waves complemented by live music from Snr Cardona. \nThe 25€ special includes a stacked burger of your choice – from the cheese-laden La Classical and the spicy La Mexican to the smoky Mayahuel and more\, all available with Black Angus or Beyond patties – with fries and two crisp cold beers to wash it all down. Whether you’re just off the beach or heading out for the night\, this easy-going evening is all about good vibes\, casual indulgence and tasty treats with front-row views over the sea.
URL:https://white-ibiza.com/ibiza-calendar/burger-beer-at-cuyo-ibiza/2025-09-08/
LOCATION:Cuyo Ibiza\, Carrer de sa Talaia\, Cala Llonga\, Balearic Islands\, 07849\, Spain
CATEGORIES:Foodies
ATTACH;FMTTYPE=image/jpeg:https://white-ibiza.com/wp-content/uploads/2025/07/white-ibiza-burger-beer-cuyo-ibiza-2025.jpeg
GEO:38.9544963;1.5198869
X-APPLE-STRUCTURED-LOCATION;VALUE=URI;X-ADDRESS=Cuyo Ibiza Carrer de sa Talaia Cala Llonga Balearic Islands 07849 Spain;X-APPLE-RADIUS=500;X-TITLE=Carrer de sa Talaia:geo:1.5198869,38.9544963
END:VEVENT
BEGIN:VEVENT
DTSTART;TZID=Europe/Madrid:20250901T190000
DTEND;TZID=Europe/Madrid:20250901T230000
DTSTAMP:20260424T000717
CREATED:20250731T092517Z
LAST-MODIFIED:20250731T103418Z
UID:10023137-1756753200-1756767600@white-ibiza.com
SUMMARY:Burger & Beer at Cuyo Ibiza
DESCRIPTION:Mondays at Cuyo Ibiza are made for laid-back dinners by the sea\, with the resort’s Mexican-inspired beachfront restaurant serving up a comfort food classic with a coastal twist. Set between Hyde Ibiza and Mondrian Ibiza in Cala Llonga\, the stylish restaurant’s Burger & Beer night is your excuse to ease gently into the week\, flip-flops on\, sundown beer in hand and the soundtrack of the waves complemented by live music from Snr Cardona. \nThe 25€ special includes a stacked burger of your choice – from the cheese-laden La Classical and the spicy La Mexican to the smoky Mayahuel and more\, all available with Black Angus or Beyond patties – with fries and two crisp cold beers to wash it all down. Whether you’re just off the beach or heading out for the night\, this easy-going evening is all about good vibes\, casual indulgence and tasty treats with front-row views over the sea.
URL:https://white-ibiza.com/ibiza-calendar/burger-beer-at-cuyo-ibiza/2025-09-01/
LOCATION:Cuyo Ibiza\, Carrer de sa Talaia\, Cala Llonga\, Balearic Islands\, 07849\, Spain
CATEGORIES:Foodies
ATTACH;FMTTYPE=image/jpeg:https://white-ibiza.com/wp-content/uploads/2025/07/white-ibiza-burger-beer-cuyo-ibiza-2025.jpeg
GEO:38.9544963;1.5198869
X-APPLE-STRUCTURED-LOCATION;VALUE=URI;X-ADDRESS=Cuyo Ibiza Carrer de sa Talaia Cala Llonga Balearic Islands 07849 Spain;X-APPLE-RADIUS=500;X-TITLE=Carrer de sa Talaia:geo:1.5198869,38.9544963
END:VEVENT
BEGIN:VEVENT
DTSTART;TZID=Europe/Madrid:20250825T190000
DTEND;TZID=Europe/Madrid:20250825T230000
DTSTAMP:20260424T000717
CREATED:20250731T092517Z
LAST-MODIFIED:20250731T103418Z
UID:10023136-1756148400-1756162800@white-ibiza.com
SUMMARY:Burger & Beer at Cuyo Ibiza
DESCRIPTION:Mondays at Cuyo Ibiza are made for laid-back dinners by the sea\, with the resort’s Mexican-inspired beachfront restaurant serving up a comfort food classic with a coastal twist. Set between Hyde Ibiza and Mondrian Ibiza in Cala Llonga\, the stylish restaurant’s Burger & Beer night is your excuse to ease gently into the week\, flip-flops on\, sundown beer in hand and the soundtrack of the waves complemented by live music from Snr Cardona. \nThe 25€ special includes a stacked burger of your choice – from the cheese-laden La Classical and the spicy La Mexican to the smoky Mayahuel and more\, all available with Black Angus or Beyond patties – with fries and two crisp cold beers to wash it all down. Whether you’re just off the beach or heading out for the night\, this easy-going evening is all about good vibes\, casual indulgence and tasty treats with front-row views over the sea.
URL:https://white-ibiza.com/ibiza-calendar/burger-beer-at-cuyo-ibiza/2025-08-25/
LOCATION:Cuyo Ibiza\, Carrer de sa Talaia\, Cala Llonga\, Balearic Islands\, 07849\, Spain
CATEGORIES:Foodies
ATTACH;FMTTYPE=image/jpeg:https://white-ibiza.com/wp-content/uploads/2025/07/white-ibiza-burger-beer-cuyo-ibiza-2025.jpeg
GEO:38.9544963;1.5198869
X-APPLE-STRUCTURED-LOCATION;VALUE=URI;X-ADDRESS=Cuyo Ibiza Carrer de sa Talaia Cala Llonga Balearic Islands 07849 Spain;X-APPLE-RADIUS=500;X-TITLE=Carrer de sa Talaia:geo:1.5198869,38.9544963
END:VEVENT
BEGIN:VEVENT
DTSTART;TZID=Europe/Madrid:20250818T190000
DTEND;TZID=Europe/Madrid:20250818T230000
DTSTAMP:20260424T000717
CREATED:20250731T092517Z
LAST-MODIFIED:20250731T103418Z
UID:10023135-1755543600-1755558000@white-ibiza.com
SUMMARY:Burger & Beer at Cuyo Ibiza
DESCRIPTION:Mondays at Cuyo Ibiza are made for laid-back dinners by the sea\, with the resort’s Mexican-inspired beachfront restaurant serving up a comfort food classic with a coastal twist. Set between Hyde Ibiza and Mondrian Ibiza in Cala Llonga\, the stylish restaurant’s Burger & Beer night is your excuse to ease gently into the week\, flip-flops on\, sundown beer in hand and the soundtrack of the waves complemented by live music from Snr Cardona. \nThe 25€ special includes a stacked burger of your choice – from the cheese-laden La Classical and the spicy La Mexican to the smoky Mayahuel and more\, all available with Black Angus or Beyond patties – with fries and two crisp cold beers to wash it all down. Whether you’re just off the beach or heading out for the night\, this easy-going evening is all about good vibes\, casual indulgence and tasty treats with front-row views over the sea.
URL:https://white-ibiza.com/ibiza-calendar/burger-beer-at-cuyo-ibiza/2025-08-18/
LOCATION:Cuyo Ibiza\, Carrer de sa Talaia\, Cala Llonga\, Balearic Islands\, 07849\, Spain
CATEGORIES:Foodies
ATTACH;FMTTYPE=image/jpeg:https://white-ibiza.com/wp-content/uploads/2025/07/white-ibiza-burger-beer-cuyo-ibiza-2025.jpeg
GEO:38.9544963;1.5198869
X-APPLE-STRUCTURED-LOCATION;VALUE=URI;X-ADDRESS=Cuyo Ibiza Carrer de sa Talaia Cala Llonga Balearic Islands 07849 Spain;X-APPLE-RADIUS=500;X-TITLE=Carrer de sa Talaia:geo:1.5198869,38.9544963
END:VEVENT
BEGIN:VEVENT
DTSTART;TZID=Europe/Madrid:20250811T190000
DTEND;TZID=Europe/Madrid:20250811T230000
DTSTAMP:20260424T000717
CREATED:20250731T092517Z
LAST-MODIFIED:20250731T103418Z
UID:10023134-1754938800-1754953200@white-ibiza.com
SUMMARY:Burger & Beer at Cuyo Ibiza
DESCRIPTION:Mondays at Cuyo Ibiza are made for laid-back dinners by the sea\, with the resort’s Mexican-inspired beachfront restaurant serving up a comfort food classic with a coastal twist. Set between Hyde Ibiza and Mondrian Ibiza in Cala Llonga\, the stylish restaurant’s Burger & Beer night is your excuse to ease gently into the week\, flip-flops on\, sundown beer in hand and the soundtrack of the waves complemented by live music from Snr Cardona. \nThe 25€ special includes a stacked burger of your choice – from the cheese-laden La Classical and the spicy La Mexican to the smoky Mayahuel and more\, all available with Black Angus or Beyond patties – with fries and two crisp cold beers to wash it all down. Whether you’re just off the beach or heading out for the night\, this easy-going evening is all about good vibes\, casual indulgence and tasty treats with front-row views over the sea.
URL:https://white-ibiza.com/ibiza-calendar/burger-beer-at-cuyo-ibiza/2025-08-11/
LOCATION:Cuyo Ibiza\, Carrer de sa Talaia\, Cala Llonga\, Balearic Islands\, 07849\, Spain
CATEGORIES:Foodies
ATTACH;FMTTYPE=image/jpeg:https://white-ibiza.com/wp-content/uploads/2025/07/white-ibiza-burger-beer-cuyo-ibiza-2025.jpeg
GEO:38.9544963;1.5198869
X-APPLE-STRUCTURED-LOCATION;VALUE=URI;X-ADDRESS=Cuyo Ibiza Carrer de sa Talaia Cala Llonga Balearic Islands 07849 Spain;X-APPLE-RADIUS=500;X-TITLE=Carrer de sa Talaia:geo:1.5198869,38.9544963
END:VEVENT
BEGIN:VEVENT
DTSTART;TZID=Europe/Madrid:20250804T190000
DTEND;TZID=Europe/Madrid:20250804T230000
DTSTAMP:20260424T000717
CREATED:20250731T092517Z
LAST-MODIFIED:20250731T103418Z
UID:10023133-1754334000-1754348400@white-ibiza.com
SUMMARY:Burger & Beer at Cuyo Ibiza
DESCRIPTION:Mondays at Cuyo Ibiza are made for laid-back dinners by the sea\, with the resort’s Mexican-inspired beachfront restaurant serving up a comfort food classic with a coastal twist. Set between Hyde Ibiza and Mondrian Ibiza in Cala Llonga\, the stylish restaurant’s Burger & Beer night is your excuse to ease gently into the week\, flip-flops on\, sundown beer in hand and the soundtrack of the waves complemented by live music from Snr Cardona. \nThe 25€ special includes a stacked burger of your choice – from the cheese-laden La Classical and the spicy La Mexican to the smoky Mayahuel and more\, all available with Black Angus or Beyond patties – with fries and two crisp cold beers to wash it all down. Whether you’re just off the beach or heading out for the night\, this easy-going evening is all about good vibes\, casual indulgence and tasty treats with front-row views over the sea.
URL:https://white-ibiza.com/ibiza-calendar/burger-beer-at-cuyo-ibiza/2025-08-04/
LOCATION:Cuyo Ibiza\, Carrer de sa Talaia\, Cala Llonga\, Balearic Islands\, 07849\, Spain
CATEGORIES:Foodies
ATTACH;FMTTYPE=image/jpeg:https://white-ibiza.com/wp-content/uploads/2025/07/white-ibiza-burger-beer-cuyo-ibiza-2025.jpeg
GEO:38.9544963;1.5198869
X-APPLE-STRUCTURED-LOCATION;VALUE=URI;X-ADDRESS=Cuyo Ibiza Carrer de sa Talaia Cala Llonga Balearic Islands 07849 Spain;X-APPLE-RADIUS=500;X-TITLE=Carrer de sa Talaia:geo:1.5198869,38.9544963
END:VEVENT
BEGIN:VEVENT
DTSTART;TZID=Europe/Madrid:20250728T190000
DTEND;TZID=Europe/Madrid:20250728T230000
DTSTAMP:20260424T000717
CREATED:20250731T092517Z
LAST-MODIFIED:20250731T103418Z
UID:10023132-1753729200-1753743600@white-ibiza.com
SUMMARY:Burger & Beer at Cuyo Ibiza
DESCRIPTION:Mondays at Cuyo Ibiza are made for laid-back dinners by the sea\, with the resort’s Mexican-inspired beachfront restaurant serving up a comfort food classic with a coastal twist. Set between Hyde Ibiza and Mondrian Ibiza in Cala Llonga\, the stylish restaurant’s Burger & Beer night is your excuse to ease gently into the week\, flip-flops on\, sundown beer in hand and the soundtrack of the waves complemented by live music from Snr Cardona. \nThe 25€ special includes a stacked burger of your choice – from the cheese-laden La Classical and the spicy La Mexican to the smoky Mayahuel and more\, all available with Black Angus or Beyond patties – with fries and two crisp cold beers to wash it all down. Whether you’re just off the beach or heading out for the night\, this easy-going evening is all about good vibes\, casual indulgence and tasty treats with front-row views over the sea.
URL:https://white-ibiza.com/ibiza-calendar/burger-beer-at-cuyo-ibiza/2025-07-28/
LOCATION:Cuyo Ibiza\, Carrer de sa Talaia\, Cala Llonga\, Balearic Islands\, 07849\, Spain
CATEGORIES:Foodies
ATTACH;FMTTYPE=image/jpeg:https://white-ibiza.com/wp-content/uploads/2025/07/white-ibiza-burger-beer-cuyo-ibiza-2025.jpeg
GEO:38.9544963;1.5198869
X-APPLE-STRUCTURED-LOCATION;VALUE=URI;X-ADDRESS=Cuyo Ibiza Carrer de sa Talaia Cala Llonga Balearic Islands 07849 Spain;X-APPLE-RADIUS=500;X-TITLE=Carrer de sa Talaia:geo:1.5198869,38.9544963
END:VEVENT
BEGIN:VEVENT
DTSTART;TZID=Europe/Madrid:20250721T190000
DTEND;TZID=Europe/Madrid:20250721T230000
DTSTAMP:20260424T000717
CREATED:20250731T092517Z
LAST-MODIFIED:20250731T103418Z
UID:10022568-1753124400-1753138800@white-ibiza.com
SUMMARY:Burger & Beer at Cuyo Ibiza
DESCRIPTION:Mondays at Cuyo Ibiza are made for laid-back dinners by the sea\, with the resort’s Mexican-inspired beachfront restaurant serving up a comfort food classic with a coastal twist. Set between Hyde Ibiza and Mondrian Ibiza in Cala Llonga\, the stylish restaurant’s Burger & Beer night is your excuse to ease gently into the week\, flip-flops on\, sundown beer in hand and the soundtrack of the waves complemented by live music from Snr Cardona. \nThe 25€ special includes a stacked burger of your choice – from the cheese-laden La Classical and the spicy La Mexican to the smoky Mayahuel and more\, all available with Black Angus or Beyond patties – with fries and two crisp cold beers to wash it all down. Whether you’re just off the beach or heading out for the night\, this easy-going evening is all about good vibes\, casual indulgence and tasty treats with front-row views over the sea.
URL:https://white-ibiza.com/ibiza-calendar/burger-beer-at-cuyo-ibiza/2025-07-21/
LOCATION:Cuyo Ibiza\, Carrer de sa Talaia\, Cala Llonga\, Balearic Islands\, 07849\, Spain
CATEGORIES:Foodies
ATTACH;FMTTYPE=image/jpeg:https://white-ibiza.com/wp-content/uploads/2025/07/white-ibiza-burger-beer-cuyo-ibiza-2025.jpeg
GEO:38.9544963;1.5198869
X-APPLE-STRUCTURED-LOCATION;VALUE=URI;X-ADDRESS=Cuyo Ibiza Carrer de sa Talaia Cala Llonga Balearic Islands 07849 Spain;X-APPLE-RADIUS=500;X-TITLE=Carrer de sa Talaia:geo:1.5198869,38.9544963
END:VEVENT
BEGIN:VEVENT
DTSTART;TZID=Europe/Madrid:20250714T190000
DTEND;TZID=Europe/Madrid:20250714T230000
DTSTAMP:20260424T000717
CREATED:20250731T092517Z
LAST-MODIFIED:20250731T103418Z
UID:10022567-1752519600-1752534000@white-ibiza.com
SUMMARY:Burger & Beer at Cuyo Ibiza
DESCRIPTION:Mondays at Cuyo Ibiza are made for laid-back dinners by the sea\, with the resort’s Mexican-inspired beachfront restaurant serving up a comfort food classic with a coastal twist. Set between Hyde Ibiza and Mondrian Ibiza in Cala Llonga\, the stylish restaurant’s Burger & Beer night is your excuse to ease gently into the week\, flip-flops on\, sundown beer in hand and the soundtrack of the waves complemented by live music from Snr Cardona. \nThe 25€ special includes a stacked burger of your choice – from the cheese-laden La Classical and the spicy La Mexican to the smoky Mayahuel and more\, all available with Black Angus or Beyond patties – with fries and two crisp cold beers to wash it all down. Whether you’re just off the beach or heading out for the night\, this easy-going evening is all about good vibes\, casual indulgence and tasty treats with front-row views over the sea.
URL:https://white-ibiza.com/ibiza-calendar/burger-beer-at-cuyo-ibiza/2025-07-14/
LOCATION:Cuyo Ibiza\, Carrer de sa Talaia\, Cala Llonga\, Balearic Islands\, 07849\, Spain
CATEGORIES:Foodies
ATTACH;FMTTYPE=image/jpeg:https://white-ibiza.com/wp-content/uploads/2025/07/white-ibiza-burger-beer-cuyo-ibiza-2025.jpeg
GEO:38.9544963;1.5198869
X-APPLE-STRUCTURED-LOCATION;VALUE=URI;X-ADDRESS=Cuyo Ibiza Carrer de sa Talaia Cala Llonga Balearic Islands 07849 Spain;X-APPLE-RADIUS=500;X-TITLE=Carrer de sa Talaia:geo:1.5198869,38.9544963
END:VEVENT
BEGIN:VEVENT
DTSTART;TZID=Europe/Madrid:20250707T190000
DTEND;TZID=Europe/Madrid:20250707T230000
DTSTAMP:20260424T000717
CREATED:20250731T092517Z
LAST-MODIFIED:20250731T103418Z
UID:10022566-1751914800-1751929200@white-ibiza.com
SUMMARY:Burger & Beer at Cuyo Ibiza
DESCRIPTION:Mondays at Cuyo Ibiza are made for laid-back dinners by the sea\, with the resort’s Mexican-inspired beachfront restaurant serving up a comfort food classic with a coastal twist. Set between Hyde Ibiza and Mondrian Ibiza in Cala Llonga\, the stylish restaurant’s Burger & Beer night is your excuse to ease gently into the week\, flip-flops on\, sundown beer in hand and the soundtrack of the waves complemented by live music from Snr Cardona. \nThe 25€ special includes a stacked burger of your choice – from the cheese-laden La Classical and the spicy La Mexican to the smoky Mayahuel and more\, all available with Black Angus or Beyond patties – with fries and two crisp cold beers to wash it all down. Whether you’re just off the beach or heading out for the night\, this easy-going evening is all about good vibes\, casual indulgence and tasty treats with front-row views over the sea.
URL:https://white-ibiza.com/ibiza-calendar/burger-beer-at-cuyo-ibiza/2025-07-07/
LOCATION:Cuyo Ibiza\, Carrer de sa Talaia\, Cala Llonga\, Balearic Islands\, 07849\, Spain
CATEGORIES:Foodies
ATTACH;FMTTYPE=image/jpeg:https://white-ibiza.com/wp-content/uploads/2025/07/white-ibiza-burger-beer-cuyo-ibiza-2025.jpeg
GEO:38.9544963;1.5198869
X-APPLE-STRUCTURED-LOCATION;VALUE=URI;X-ADDRESS=Cuyo Ibiza Carrer de sa Talaia Cala Llonga Balearic Islands 07849 Spain;X-APPLE-RADIUS=500;X-TITLE=Carrer de sa Talaia:geo:1.5198869,38.9544963
END:VEVENT
END:VCALENDAR