BEGIN:VCALENDAR
VERSION:2.0
PRODID:-//WHITE IBIZA - ECPv6.6.0.2//NONSGML v1.0//EN
CALSCALE:GREGORIAN
METHOD:PUBLISH
X-WR-CALNAME:WHITE IBIZA
X-ORIGINAL-URL:https://white-ibiza.com
X-WR-CALDESC:Events for WHITE IBIZA
REFRESH-INTERVAL;VALUE=DURATION:PT1H
X-Robots-Tag:noindex
X-PUBLISHED-TTL:PT1H
BEGIN:VTIMEZONE
TZID:Europe/Madrid
BEGIN:DAYLIGHT
TZOFFSETFROM:+0100
TZOFFSETTO:+0200
TZNAME:CEST
DTSTART:20240331T010000
END:DAYLIGHT
BEGIN:STANDARD
TZOFFSETFROM:+0200
TZOFFSETTO:+0100
TZNAME:CET
DTSTART:20241027T010000
END:STANDARD
END:VTIMEZONE
BEGIN:VEVENT
DTSTART;TZID=Europe/Madrid:20240818T233000
DTEND;TZID=Europe/Madrid:20240819T060000
DTSTAMP:20260421T155517
CREATED:20240726T220127Z
LAST-MODIFIED:20240729T163020Z
UID:10000125-1724023800-1724047200@white-ibiza.com
SUMMARY:Franky Wah presents SHÈN at Club Chinois
DESCRIPTION:One of electronica’s hottest new names\, Franky Wah\, returns to Club Chinois for his ground-breaking Ibiza residency\, SHÈN every Sunday night this summer Joined by regular guests including Hernán Cattáneo\, Sasha & John Digweed\, Hot Since 82\, Joris Voorn\, Pete Tong\, Shimza and Miss Monique\, this is a star-Sunday night in the heart of Ibiza’s glitzy Marina district. \nWith a reputation for an immersive clubbing experience\, impressive residencies\, unexpected guest appearances\, cutting-edge sensory projections\, and a state-of-the-art interactive VIP corridor\, Club Chinois continues to set the bar high\, and is the perfect destination when you are in the mood for a little bit of grown-up hedonism. \nREAD MORE ABOUT CLUB CHINOIS ON WHITE IBIZA \nBUY TICKETS & VIP TABLES FOR FRANKY WAH PRESENTS SHÈN AT CLUB CHINOIS
URL:https://white-ibiza.com/ibiza-calendar/franky-wah-presents-shen-at-club-chinois/2024-08-18/
LOCATION:Club Chinois\, Passeig Joan Carles I\, Eivissa\, Islas Baleares\, 07800\, Spain
CATEGORIES:Clubs
ATTACH;FMTTYPE=image/jpeg:https://white-ibiza.com/wp-content/uploads/2024/07/white-ibiza-club-calendar-franky-wah-shen-club-chinois-2024.jpeg
GEO:38.9166558;1.4418039
X-APPLE-STRUCTURED-LOCATION;VALUE=URI;X-ADDRESS=Club Chinois Passeig Joan Carles I Eivissa Islas Baleares 07800 Spain;X-APPLE-RADIUS=500;X-TITLE=Passeig Joan Carles I:geo:1.4418039,38.9166558
END:VEVENT
BEGIN:VEVENT
DTSTART;TZID=Europe/Madrid:20240817T233000
DTEND;TZID=Europe/Madrid:20240818T060000
DTSTAMP:20260421T155517
CREATED:20240726T223802Z
LAST-MODIFIED:20240726T223802Z
UID:10000160-1723937400-1723960800@white-ibiza.com
SUMMARY:TRIP at Club Chinois
DESCRIPTION:With some of the most forward-thinking line-ups on the island in 2024\, renowned Ibiza-based promoter Johannes Goller hosts a summer of journeying around the electronic underground scene via his latest weekly venture\, TRIP.  \nThese Saturday nights at Club Chinois are exciting\, bold and well worth the travel\, whether you’re coming across the island or across the globe. The Ibiza venue has made quite the name for itself as an immersive clubbing experience that blends impressive residencies and surprising guests with cutting-edge sensory projections\, a state-of-the-art interactive VIP corridor and more\, 2024 looks set to be even more impressive than ever before. \nREAD MORE ABOUT CLUB CHINOIS ON WHITE IBIZA \nBUY TICKETS FOR TRIP AT CLUB CHINOIS
URL:https://white-ibiza.com/ibiza-calendar/trip-at-club-chinois/2024-08-17/
LOCATION:Club Chinois\, Passeig Joan Carles I\, Eivissa\, Islas Baleares\, 07800\, Spain
CATEGORIES:Clubs
ATTACH;FMTTYPE=image/jpeg:https://white-ibiza.com/wp-content/uploads/2024/07/white-ibiza-club-calendar-trip-club-chinois-2024.jpeg
GEO:38.9166558;1.4418039
X-APPLE-STRUCTURED-LOCATION;VALUE=URI;X-ADDRESS=Club Chinois Passeig Joan Carles I Eivissa Islas Baleares 07800 Spain;X-APPLE-RADIUS=500;X-TITLE=Passeig Joan Carles I:geo:1.4418039,38.9166558
END:VEVENT
BEGIN:VEVENT
DTSTART;TZID=Europe/Madrid:20240816T233000
DTEND;TZID=Europe/Madrid:20240817T060000
DTSTAMP:20260421T155517
CREATED:20240726T222909Z
LAST-MODIFIED:20240726T222909Z
UID:10000149-1723851000-1723874400@white-ibiza.com
SUMMARY:Pablo Fierro presents We’re Here at Club Chinois
DESCRIPTION:Pablo Fierro returns to Club Chinois\, in the heart of Ibiza’s glam Marina district\, for the third season of his electrifying We’re Here residency on Friday nights this summer. Embark on a musical journey with globetrotting vibe masters Sassoon\, HVMZA\, Moodkase\, Manuel Frias and percussionist Martin Viana\, all alongside Pablo Fierro himself.\nBringing an eclectic blend of Afro and Latin house beats to the luxurious setting of Club Chinois\, where unforgettable memories are made and the true spirit of Ibiza comes alive\, pre-sale tickets and VIP tables are available now. \nREAD MORE ABOUT CLUB CHINOIS ON WHITE IBIZA \nBUY TICKETS & VIP TABLES FOR PABLO FIERRO PRESENTS WE’RE HERE AT CLUB CHINOIS
URL:https://white-ibiza.com/ibiza-calendar/pablo-fierro-presents-were-here-at-club-chinois/2024-08-16/
LOCATION:Club Chinois\, Passeig Joan Carles I\, Eivissa\, Islas Baleares\, 07800\, Spain
CATEGORIES:Clubs
ATTACH;FMTTYPE=image/jpeg:https://white-ibiza.com/wp-content/uploads/2024/07/white-ibiza-club-calendar-pablo-fierro-presents-were-here-club-chinois-2024.jpeg
GEO:38.9166558;1.4418039
X-APPLE-STRUCTURED-LOCATION;VALUE=URI;X-ADDRESS=Club Chinois Passeig Joan Carles I Eivissa Islas Baleares 07800 Spain;X-APPLE-RADIUS=500;X-TITLE=Passeig Joan Carles I:geo:1.4418039,38.9166558
END:VEVENT
BEGIN:VEVENT
DTSTART;TZID=Europe/Madrid:20240812T080000
DTEND;TZID=Europe/Madrid:20240813T170000
DTSTAMP:20260421T155517
CREATED:20240726T220548Z
LAST-MODIFIED:20240730T065334Z
UID:10000134-1723449600-1723568400@white-ibiza.com
SUMMARY:La Troya at Club Chinois
DESCRIPTION:Still going strong after three decades\, the late Brasilio Oliveira’s long running and popular LGBTQIA+ party\, La Troya hosts Mondays at Club Chinois. With the inimitable Baby Marcelo at the head of the helm and DJ Oscar Colorado setting the musical tone\, the outlandish shows are a sight to behold and there really is no limit to the level of crazy that is some of the performances.  \nTruly anything goes at La Troya – along with the jaw-dropping immersive visual effects and all the glitz and glamour that you’d expect from a sumptuously decadent nightclub like Club Chinois\, this dazzlingly global venue is simply world-class 
URL:https://white-ibiza.com/ibiza-calendar/la-troya-at-club-chinois/2024-08-12/
LOCATION:Club Chinois\, Passeig Joan Carles I\, Eivissa\, Islas Baleares\, 07800\, Spain
CATEGORIES:Clubs
ATTACH;FMTTYPE=image/jpeg:https://white-ibiza.com/wp-content/uploads/2024/07/white-ibiza-club-calendar-la-troya-club-chinois-2024.jpeg
GEO:38.9166558;1.4418039
X-APPLE-STRUCTURED-LOCATION;VALUE=URI;X-ADDRESS=Club Chinois Passeig Joan Carles I Eivissa Islas Baleares 07800 Spain;X-APPLE-RADIUS=500;X-TITLE=Passeig Joan Carles I:geo:1.4418039,38.9166558
END:VEVENT
BEGIN:VEVENT
DTSTART;TZID=Europe/Madrid:20240811T233000
DTEND;TZID=Europe/Madrid:20240812T060000
DTSTAMP:20260421T155517
CREATED:20240726T220127Z
LAST-MODIFIED:20240729T163020Z
UID:10000124-1723419000-1723442400@white-ibiza.com
SUMMARY:Franky Wah presents SHÈN at Club Chinois
DESCRIPTION:One of electronica’s hottest new names\, Franky Wah\, returns to Club Chinois for his ground-breaking Ibiza residency\, SHÈN every Sunday night this summer Joined by regular guests including Hernán Cattáneo\, Sasha & John Digweed\, Hot Since 82\, Joris Voorn\, Pete Tong\, Shimza and Miss Monique\, this is a star-Sunday night in the heart of Ibiza’s glitzy Marina district. \nWith a reputation for an immersive clubbing experience\, impressive residencies\, unexpected guest appearances\, cutting-edge sensory projections\, and a state-of-the-art interactive VIP corridor\, Club Chinois continues to set the bar high\, and is the perfect destination when you are in the mood for a little bit of grown-up hedonism. \nREAD MORE ABOUT CLUB CHINOIS ON WHITE IBIZA \nBUY TICKETS & VIP TABLES FOR FRANKY WAH PRESENTS SHÈN AT CLUB CHINOIS
URL:https://white-ibiza.com/ibiza-calendar/franky-wah-presents-shen-at-club-chinois/2024-08-11/
LOCATION:Club Chinois\, Passeig Joan Carles I\, Eivissa\, Islas Baleares\, 07800\, Spain
CATEGORIES:Clubs
ATTACH;FMTTYPE=image/jpeg:https://white-ibiza.com/wp-content/uploads/2024/07/white-ibiza-club-calendar-franky-wah-shen-club-chinois-2024.jpeg
GEO:38.9166558;1.4418039
X-APPLE-STRUCTURED-LOCATION;VALUE=URI;X-ADDRESS=Club Chinois Passeig Joan Carles I Eivissa Islas Baleares 07800 Spain;X-APPLE-RADIUS=500;X-TITLE=Passeig Joan Carles I:geo:1.4418039,38.9166558
END:VEVENT
BEGIN:VEVENT
DTSTART;TZID=Europe/Madrid:20240810T233000
DTEND;TZID=Europe/Madrid:20240811T060000
DTSTAMP:20260421T155517
CREATED:20240726T223802Z
LAST-MODIFIED:20240726T223802Z
UID:10000159-1723332600-1723356000@white-ibiza.com
SUMMARY:TRIP at Club Chinois
DESCRIPTION:With some of the most forward-thinking line-ups on the island in 2024\, renowned Ibiza-based promoter Johannes Goller hosts a summer of journeying around the electronic underground scene via his latest weekly venture\, TRIP.  \nThese Saturday nights at Club Chinois are exciting\, bold and well worth the travel\, whether you’re coming across the island or across the globe. The Ibiza venue has made quite the name for itself as an immersive clubbing experience that blends impressive residencies and surprising guests with cutting-edge sensory projections\, a state-of-the-art interactive VIP corridor and more\, 2024 looks set to be even more impressive than ever before. \nREAD MORE ABOUT CLUB CHINOIS ON WHITE IBIZA \nBUY TICKETS FOR TRIP AT CLUB CHINOIS
URL:https://white-ibiza.com/ibiza-calendar/trip-at-club-chinois/2024-08-10/
LOCATION:Club Chinois\, Passeig Joan Carles I\, Eivissa\, Islas Baleares\, 07800\, Spain
CATEGORIES:Clubs
ATTACH;FMTTYPE=image/jpeg:https://white-ibiza.com/wp-content/uploads/2024/07/white-ibiza-club-calendar-trip-club-chinois-2024.jpeg
GEO:38.9166558;1.4418039
X-APPLE-STRUCTURED-LOCATION;VALUE=URI;X-ADDRESS=Club Chinois Passeig Joan Carles I Eivissa Islas Baleares 07800 Spain;X-APPLE-RADIUS=500;X-TITLE=Passeig Joan Carles I:geo:1.4418039,38.9166558
END:VEVENT
BEGIN:VEVENT
DTSTART;TZID=Europe/Madrid:20240809T233000
DTEND;TZID=Europe/Madrid:20240810T060000
DTSTAMP:20260421T155517
CREATED:20240726T222909Z
LAST-MODIFIED:20240726T222909Z
UID:10000148-1723246200-1723269600@white-ibiza.com
SUMMARY:Pablo Fierro presents We’re Here at Club Chinois
DESCRIPTION:Pablo Fierro returns to Club Chinois\, in the heart of Ibiza’s glam Marina district\, for the third season of his electrifying We’re Here residency on Friday nights this summer. Embark on a musical journey with globetrotting vibe masters Sassoon\, HVMZA\, Moodkase\, Manuel Frias and percussionist Martin Viana\, all alongside Pablo Fierro himself.\nBringing an eclectic blend of Afro and Latin house beats to the luxurious setting of Club Chinois\, where unforgettable memories are made and the true spirit of Ibiza comes alive\, pre-sale tickets and VIP tables are available now. \nREAD MORE ABOUT CLUB CHINOIS ON WHITE IBIZA \nBUY TICKETS & VIP TABLES FOR PABLO FIERRO PRESENTS WE’RE HERE AT CLUB CHINOIS
URL:https://white-ibiza.com/ibiza-calendar/pablo-fierro-presents-were-here-at-club-chinois/2024-08-09/
LOCATION:Club Chinois\, Passeig Joan Carles I\, Eivissa\, Islas Baleares\, 07800\, Spain
CATEGORIES:Clubs
ATTACH;FMTTYPE=image/jpeg:https://white-ibiza.com/wp-content/uploads/2024/07/white-ibiza-club-calendar-pablo-fierro-presents-were-here-club-chinois-2024.jpeg
GEO:38.9166558;1.4418039
X-APPLE-STRUCTURED-LOCATION;VALUE=URI;X-ADDRESS=Club Chinois Passeig Joan Carles I Eivissa Islas Baleares 07800 Spain;X-APPLE-RADIUS=500;X-TITLE=Passeig Joan Carles I:geo:1.4418039,38.9166558
END:VEVENT
BEGIN:VEVENT
DTSTART;TZID=Europe/Madrid:20240805T080000
DTEND;TZID=Europe/Madrid:20240806T170000
DTSTAMP:20260421T155517
CREATED:20240726T220548Z
LAST-MODIFIED:20240730T065334Z
UID:10000133-1722844800-1722963600@white-ibiza.com
SUMMARY:La Troya at Club Chinois
DESCRIPTION:Still going strong after three decades\, the late Brasilio Oliveira’s long running and popular LGBTQIA+ party\, La Troya hosts Mondays at Club Chinois. With the inimitable Baby Marcelo at the head of the helm and DJ Oscar Colorado setting the musical tone\, the outlandish shows are a sight to behold and there really is no limit to the level of crazy that is some of the performances.  \nTruly anything goes at La Troya – along with the jaw-dropping immersive visual effects and all the glitz and glamour that you’d expect from a sumptuously decadent nightclub like Club Chinois\, this dazzlingly global venue is simply world-class 
URL:https://white-ibiza.com/ibiza-calendar/la-troya-at-club-chinois/2024-08-05/
LOCATION:Club Chinois\, Passeig Joan Carles I\, Eivissa\, Islas Baleares\, 07800\, Spain
CATEGORIES:Clubs
ATTACH;FMTTYPE=image/jpeg:https://white-ibiza.com/wp-content/uploads/2024/07/white-ibiza-club-calendar-la-troya-club-chinois-2024.jpeg
GEO:38.9166558;1.4418039
X-APPLE-STRUCTURED-LOCATION;VALUE=URI;X-ADDRESS=Club Chinois Passeig Joan Carles I Eivissa Islas Baleares 07800 Spain;X-APPLE-RADIUS=500;X-TITLE=Passeig Joan Carles I:geo:1.4418039,38.9166558
END:VEVENT
BEGIN:VEVENT
DTSTART;TZID=Europe/Madrid:20240804T233000
DTEND;TZID=Europe/Madrid:20240805T060000
DTSTAMP:20260421T155517
CREATED:20240726T220127Z
LAST-MODIFIED:20240729T163020Z
UID:10000123-1722814200-1722837600@white-ibiza.com
SUMMARY:Franky Wah presents SHÈN at Club Chinois
DESCRIPTION:One of electronica’s hottest new names\, Franky Wah\, returns to Club Chinois for his ground-breaking Ibiza residency\, SHÈN every Sunday night this summer Joined by regular guests including Hernán Cattáneo\, Sasha & John Digweed\, Hot Since 82\, Joris Voorn\, Pete Tong\, Shimza and Miss Monique\, this is a star-Sunday night in the heart of Ibiza’s glitzy Marina district. \nWith a reputation for an immersive clubbing experience\, impressive residencies\, unexpected guest appearances\, cutting-edge sensory projections\, and a state-of-the-art interactive VIP corridor\, Club Chinois continues to set the bar high\, and is the perfect destination when you are in the mood for a little bit of grown-up hedonism. \nREAD MORE ABOUT CLUB CHINOIS ON WHITE IBIZA \nBUY TICKETS & VIP TABLES FOR FRANKY WAH PRESENTS SHÈN AT CLUB CHINOIS
URL:https://white-ibiza.com/ibiza-calendar/franky-wah-presents-shen-at-club-chinois/2024-08-04/
LOCATION:Club Chinois\, Passeig Joan Carles I\, Eivissa\, Islas Baleares\, 07800\, Spain
CATEGORIES:Clubs
ATTACH;FMTTYPE=image/jpeg:https://white-ibiza.com/wp-content/uploads/2024/07/white-ibiza-club-calendar-franky-wah-shen-club-chinois-2024.jpeg
GEO:38.9166558;1.4418039
X-APPLE-STRUCTURED-LOCATION;VALUE=URI;X-ADDRESS=Club Chinois Passeig Joan Carles I Eivissa Islas Baleares 07800 Spain;X-APPLE-RADIUS=500;X-TITLE=Passeig Joan Carles I:geo:1.4418039,38.9166558
END:VEVENT
BEGIN:VEVENT
DTSTART;TZID=Europe/Madrid:20240803T233000
DTEND;TZID=Europe/Madrid:20240804T060000
DTSTAMP:20260421T155517
CREATED:20240726T223802Z
LAST-MODIFIED:20240726T223802Z
UID:10000158-1722727800-1722751200@white-ibiza.com
SUMMARY:TRIP at Club Chinois
DESCRIPTION:With some of the most forward-thinking line-ups on the island in 2024\, renowned Ibiza-based promoter Johannes Goller hosts a summer of journeying around the electronic underground scene via his latest weekly venture\, TRIP.  \nThese Saturday nights at Club Chinois are exciting\, bold and well worth the travel\, whether you’re coming across the island or across the globe. The Ibiza venue has made quite the name for itself as an immersive clubbing experience that blends impressive residencies and surprising guests with cutting-edge sensory projections\, a state-of-the-art interactive VIP corridor and more\, 2024 looks set to be even more impressive than ever before. \nREAD MORE ABOUT CLUB CHINOIS ON WHITE IBIZA \nBUY TICKETS FOR TRIP AT CLUB CHINOIS
URL:https://white-ibiza.com/ibiza-calendar/trip-at-club-chinois/2024-08-03/
LOCATION:Club Chinois\, Passeig Joan Carles I\, Eivissa\, Islas Baleares\, 07800\, Spain
CATEGORIES:Clubs
ATTACH;FMTTYPE=image/jpeg:https://white-ibiza.com/wp-content/uploads/2024/07/white-ibiza-club-calendar-trip-club-chinois-2024.jpeg
GEO:38.9166558;1.4418039
X-APPLE-STRUCTURED-LOCATION;VALUE=URI;X-ADDRESS=Club Chinois Passeig Joan Carles I Eivissa Islas Baleares 07800 Spain;X-APPLE-RADIUS=500;X-TITLE=Passeig Joan Carles I:geo:1.4418039,38.9166558
END:VEVENT
BEGIN:VEVENT
DTSTART;TZID=Europe/Madrid:20240802T233000
DTEND;TZID=Europe/Madrid:20240803T060000
DTSTAMP:20260421T155517
CREATED:20240726T222909Z
LAST-MODIFIED:20240726T222909Z
UID:10000147-1722641400-1722664800@white-ibiza.com
SUMMARY:Pablo Fierro presents We’re Here at Club Chinois
DESCRIPTION:Pablo Fierro returns to Club Chinois\, in the heart of Ibiza’s glam Marina district\, for the third season of his electrifying We’re Here residency on Friday nights this summer. Embark on a musical journey with globetrotting vibe masters Sassoon\, HVMZA\, Moodkase\, Manuel Frias and percussionist Martin Viana\, all alongside Pablo Fierro himself.\nBringing an eclectic blend of Afro and Latin house beats to the luxurious setting of Club Chinois\, where unforgettable memories are made and the true spirit of Ibiza comes alive\, pre-sale tickets and VIP tables are available now. \nREAD MORE ABOUT CLUB CHINOIS ON WHITE IBIZA \nBUY TICKETS & VIP TABLES FOR PABLO FIERRO PRESENTS WE’RE HERE AT CLUB CHINOIS
URL:https://white-ibiza.com/ibiza-calendar/pablo-fierro-presents-were-here-at-club-chinois/2024-08-02/
LOCATION:Club Chinois\, Passeig Joan Carles I\, Eivissa\, Islas Baleares\, 07800\, Spain
CATEGORIES:Clubs
ATTACH;FMTTYPE=image/jpeg:https://white-ibiza.com/wp-content/uploads/2024/07/white-ibiza-club-calendar-pablo-fierro-presents-were-here-club-chinois-2024.jpeg
GEO:38.9166558;1.4418039
X-APPLE-STRUCTURED-LOCATION;VALUE=URI;X-ADDRESS=Club Chinois Passeig Joan Carles I Eivissa Islas Baleares 07800 Spain;X-APPLE-RADIUS=500;X-TITLE=Passeig Joan Carles I:geo:1.4418039,38.9166558
END:VEVENT
BEGIN:VEVENT
DTSTART;TZID=Europe/Madrid:20240731T233000
DTEND;TZID=Europe/Madrid:20240801T060000
DTSTAMP:20260421T155517
CREATED:20240726T221210Z
LAST-MODIFIED:20240729T162139Z
UID:10000142-1722468600-1722492000@white-ibiza.com
SUMMARY:Cadenza presents Luciano at Club Chinois
DESCRIPTION:On Thursday nights this summer\, the legendary Luciano brings his Cadenza party back to the Marina district at Club Chinois\, showcasing the best of the Swiss-Chilean DJ’s Cadenza labelmates.  \nFor the final event\, Stigmaz joins Luciano himself behind the decks\, making this a great chance to catch the master in his element. The incredible visuals and immersive special effects that Club Chinois is renowned for can only serve to enhance the overall experience once this island vagabond gets back behind the booth. Tickets for these events will be in high demand\, so this is one night worth planning ahead for and booking now. \nREAD MORE ABOUT CLUB CHINOIS ON WHITE IBIZA \nBUY TICKETS OR VIP TABLES FOR CADENZA PRESENTS LUCIANO AT CLUB CHINOIS
URL:https://white-ibiza.com/ibiza-calendar/cadenza-presents-luciano-at-club-chinois/
LOCATION:Club Chinois\, Passeig Joan Carles I\, Eivissa\, Islas Baleares\, 07800\, Spain
CATEGORIES:Clubs
ATTACH;FMTTYPE=image/jpeg:https://white-ibiza.com/wp-content/uploads/2024/07/white-ibiza-club-calendar-cadenza-presents-luciano-club-chinois-2024.jpeg
GEO:38.9166558;1.4418039
X-APPLE-STRUCTURED-LOCATION;VALUE=URI;X-ADDRESS=Club Chinois Passeig Joan Carles I Eivissa Islas Baleares 07800 Spain;X-APPLE-RADIUS=500;X-TITLE=Passeig Joan Carles I:geo:1.4418039,38.9166558
END:VEVENT
BEGIN:VEVENT
DTSTART;TZID=Europe/Madrid:20240729T080000
DTEND;TZID=Europe/Madrid:20240730T170000
DTSTAMP:20260421T155517
CREATED:20240726T220548Z
LAST-MODIFIED:20240730T065334Z
UID:10000132-1722240000-1722358800@white-ibiza.com
SUMMARY:La Troya at Club Chinois
DESCRIPTION:Still going strong after three decades\, the late Brasilio Oliveira’s long running and popular LGBTQIA+ party\, La Troya hosts Mondays at Club Chinois. With the inimitable Baby Marcelo at the head of the helm and DJ Oscar Colorado setting the musical tone\, the outlandish shows are a sight to behold and there really is no limit to the level of crazy that is some of the performances.  \nTruly anything goes at La Troya – along with the jaw-dropping immersive visual effects and all the glitz and glamour that you’d expect from a sumptuously decadent nightclub like Club Chinois\, this dazzlingly global venue is simply world-class 
URL:https://white-ibiza.com/ibiza-calendar/la-troya-at-club-chinois/2024-07-29/
LOCATION:Club Chinois\, Passeig Joan Carles I\, Eivissa\, Islas Baleares\, 07800\, Spain
CATEGORIES:Clubs
ATTACH;FMTTYPE=image/jpeg:https://white-ibiza.com/wp-content/uploads/2024/07/white-ibiza-club-calendar-la-troya-club-chinois-2024.jpeg
GEO:38.9166558;1.4418039
X-APPLE-STRUCTURED-LOCATION;VALUE=URI;X-ADDRESS=Club Chinois Passeig Joan Carles I Eivissa Islas Baleares 07800 Spain;X-APPLE-RADIUS=500;X-TITLE=Passeig Joan Carles I:geo:1.4418039,38.9166558
END:VEVENT
BEGIN:VEVENT
DTSTART;TZID=Europe/Madrid:20240728T233000
DTEND;TZID=Europe/Madrid:20240729T060000
DTSTAMP:20260421T155517
CREATED:20240726T220127Z
LAST-MODIFIED:20240729T163020Z
UID:10000122-1722209400-1722232800@white-ibiza.com
SUMMARY:Franky Wah presents SHÈN at Club Chinois
DESCRIPTION:One of electronica’s hottest new names\, Franky Wah\, returns to Club Chinois for his ground-breaking Ibiza residency\, SHÈN every Sunday night this summer Joined by regular guests including Hernán Cattáneo\, Sasha & John Digweed\, Hot Since 82\, Joris Voorn\, Pete Tong\, Shimza and Miss Monique\, this is a star-Sunday night in the heart of Ibiza’s glitzy Marina district. \nWith a reputation for an immersive clubbing experience\, impressive residencies\, unexpected guest appearances\, cutting-edge sensory projections\, and a state-of-the-art interactive VIP corridor\, Club Chinois continues to set the bar high\, and is the perfect destination when you are in the mood for a little bit of grown-up hedonism. \nREAD MORE ABOUT CLUB CHINOIS ON WHITE IBIZA \nBUY TICKETS & VIP TABLES FOR FRANKY WAH PRESENTS SHÈN AT CLUB CHINOIS
URL:https://white-ibiza.com/ibiza-calendar/franky-wah-presents-shen-at-club-chinois/2024-07-28/
LOCATION:Club Chinois\, Passeig Joan Carles I\, Eivissa\, Islas Baleares\, 07800\, Spain
CATEGORIES:Clubs
ATTACH;FMTTYPE=image/jpeg:https://white-ibiza.com/wp-content/uploads/2024/07/white-ibiza-club-calendar-franky-wah-shen-club-chinois-2024.jpeg
GEO:38.9166558;1.4418039
X-APPLE-STRUCTURED-LOCATION;VALUE=URI;X-ADDRESS=Club Chinois Passeig Joan Carles I Eivissa Islas Baleares 07800 Spain;X-APPLE-RADIUS=500;X-TITLE=Passeig Joan Carles I:geo:1.4418039,38.9166558
END:VEVENT
END:VCALENDAR