BEGIN:VCALENDAR
VERSION:2.0
PRODID:-//WHITE IBIZA - ECPv6.6.0.2//NONSGML v1.0//EN
CALSCALE:GREGORIAN
METHOD:PUBLISH
X-WR-CALNAME:WHITE IBIZA
X-ORIGINAL-URL:https://white-ibiza.com
X-WR-CALDESC:Events for WHITE IBIZA
REFRESH-INTERVAL;VALUE=DURATION:PT1H
X-Robots-Tag:noindex
X-PUBLISHED-TTL:PT1H
BEGIN:VTIMEZONE
TZID:Europe/Madrid
BEGIN:DAYLIGHT
TZOFFSETFROM:+0100
TZOFFSETTO:+0200
TZNAME:CEST
DTSTART:20250330T010000
END:DAYLIGHT
BEGIN:STANDARD
TZOFFSETFROM:+0200
TZOFFSETTO:+0100
TZNAME:CET
DTSTART:20251026T010000
END:STANDARD
END:VTIMEZONE
BEGIN:VEVENT
DTSTART;TZID=Europe/Madrid:20251031T160000
DTEND;TZID=Europe/Madrid:20251031T200000
DTSTAMP:20260421T130749
CREATED:20251030T095944Z
LAST-MODIFIED:20251030T095944Z
UID:10027078-1761926400-1761940800@white-ibiza.com
SUMMARY:Halloween Face Painting at Stevie Alla Bottega Il Buco
DESCRIPTION:Little monsters (and their parents) can get Halloween party-ready at Stevie Alla Bottega Il Buco\, where Ibiza’s favourite face-painting duo\, Saby and Macci from Bimbi Magical Events\, set up their brushes for an afternoon-into-evening of spooky sparkle. Stop by the buzzing Santa Gertrudis deli before heading into the village for its famous trick-or-treating – Il Buco is the perfect place for mum and dad enjoy a drink and snack while the kids get transformed into ghosts\, ghouls or glittering superheroes. \nWith options for all ages (from 5€ half-faces for little ones to 30€ full-faces for adults)\, this is the most fun way to start your Halloween night\, whether you’re running around the square with your little pals or planning a fright night adventure in Ibiza’s clubs later on. Walk in human\, leave a masterpiece. Payment by cash or card on the day; advance booking highly recommended.
URL:https://white-ibiza.com/ibiza-calendar/halloween-face-painting-at-stevie-alla-bottega-il-buco/
LOCATION:Bottega Il Buco\, Carrer Vénda de Parada\, Santa Gertrudis de Fruitera\, Islas Baleares\, 07814\, Spain
CATEGORIES:Foodies,Culture,Kids,Nightlife
ATTACH;FMTTYPE=image/jpeg:https://white-ibiza.com/wp-content/uploads/2025/10/white-ibiza-hallween-guide-2025-il-buco.jpeg
GEO:38.9988683;1.4283884
X-APPLE-STRUCTURED-LOCATION;VALUE=URI;X-ADDRESS=Bottega Il Buco Carrer Vénda de Parada Santa Gertrudis de Fruitera Islas Baleares 07814 Spain;X-APPLE-RADIUS=500;X-TITLE=Carrer Vénda de Parada:geo:1.4283884,38.9988683
END:VEVENT
END:VCALENDAR