BEGIN:VCALENDAR
VERSION:2.0
PRODID:-//WHITE IBIZA - ECPv6.6.0.2//NONSGML v1.0//EN
CALSCALE:GREGORIAN
METHOD:PUBLISH
X-WR-CALNAME:WHITE IBIZA
X-ORIGINAL-URL:https://white-ibiza.com
X-WR-CALDESC:Events for WHITE IBIZA
REFRESH-INTERVAL;VALUE=DURATION:PT1H
X-Robots-Tag:noindex
X-PUBLISHED-TTL:PT1H
BEGIN:VTIMEZONE
TZID:Europe/Madrid
BEGIN:DAYLIGHT
TZOFFSETFROM:+0100
TZOFFSETTO:+0200
TZNAME:CEST
DTSTART:20250330T010000
END:DAYLIGHT
BEGIN:STANDARD
TZOFFSETFROM:+0200
TZOFFSETTO:+0100
TZNAME:CET
DTSTART:20251026T010000
END:STANDARD
END:VTIMEZONE
BEGIN:VEVENT
DTSTART;TZID=Europe/Madrid:20250602T130000
DTEND;TZID=Europe/Madrid:20250602T210000
DTSTAMP:20260420T213206
CREATED:20250702T224252Z
LAST-MODIFIED:20250702T224252Z
UID:10018947-1748869200-1748898000@white-ibiza.com
SUMMARY:Beachfront Dining at Beso Beach Ibiza
DESCRIPTION:Long\, lazy afternoons spent on Ibiza’s most iconic beach\, Las Salinas\, are a quintessential island experience and there’s no better place to pull up a sunbed or a table and watch the entire experience unfold from 1pm through until sunset than Beso Beach Ibiza. Arrive early to score a sunlounger or oversized daybed as it’s first-come\, first-served\, or book a table on the stylish yet rustic restaurant terrace for lunch. \nThe extensive menu gives you all the more reason to visit multiple times throughout your summer stay. Start with tasty sharing plates of silky jamón ibérico; luxe croquettes made of red shrimp and topped with caviar; Wagyu carpaccio with truffle and parmesan or plump\, grilled scallops while perusing the main menu\, made up of Mediterranean-meets-Basque plates\, an impressive array of rice dishes and succulent meats and fresh seafood straight off the flaming grill. Just be sure to save room for dessert and a classic cocktail or two\, then see where the Ibiza evening takes you…
URL:https://white-ibiza.com/ibiza-calendar/beachfront-dining-at-beso-beach-ibiza/2025-06-02/
LOCATION:Beso Beach Ibiza\, Sant Jordi de ses Salines\, Islas Baleares\, 07817\, Spain
CATEGORIES:Foodies
ATTACH;FMTTYPE=image/jpeg:https://white-ibiza.com/wp-content/uploads/2025/04/white-ibiza-journal-foodies-beso-beach-ibiza-2025-01.jpeg
GEO:38.8911141;1.396924
END:VEVENT
BEGIN:VEVENT
DTSTART;TZID=Europe/Madrid:20250601T130000
DTEND;TZID=Europe/Madrid:20250601T210000
DTSTAMP:20260420T213206
CREATED:20250702T224252Z
LAST-MODIFIED:20250702T224252Z
UID:10018946-1748782800-1748811600@white-ibiza.com
SUMMARY:Beachfront Dining at Beso Beach Ibiza
DESCRIPTION:Long\, lazy afternoons spent on Ibiza’s most iconic beach\, Las Salinas\, are a quintessential island experience and there’s no better place to pull up a sunbed or a table and watch the entire experience unfold from 1pm through until sunset than Beso Beach Ibiza. Arrive early to score a sunlounger or oversized daybed as it’s first-come\, first-served\, or book a table on the stylish yet rustic restaurant terrace for lunch. \nThe extensive menu gives you all the more reason to visit multiple times throughout your summer stay. Start with tasty sharing plates of silky jamón ibérico; luxe croquettes made of red shrimp and topped with caviar; Wagyu carpaccio with truffle and parmesan or plump\, grilled scallops while perusing the main menu\, made up of Mediterranean-meets-Basque plates\, an impressive array of rice dishes and succulent meats and fresh seafood straight off the flaming grill. Just be sure to save room for dessert and a classic cocktail or two\, then see where the Ibiza evening takes you…
URL:https://white-ibiza.com/ibiza-calendar/beachfront-dining-at-beso-beach-ibiza/2025-06-01/
LOCATION:Beso Beach Ibiza\, Sant Jordi de ses Salines\, Islas Baleares\, 07817\, Spain
CATEGORIES:Foodies
ATTACH;FMTTYPE=image/jpeg:https://white-ibiza.com/wp-content/uploads/2025/04/white-ibiza-journal-foodies-beso-beach-ibiza-2025-01.jpeg
GEO:38.8911141;1.396924
END:VEVENT
BEGIN:VEVENT
DTSTART;TZID=Europe/Madrid:20250417T130000
DTEND;TZID=Europe/Madrid:20250417T210000
DTSTAMP:20260420T213206
CREATED:20250417T152321Z
LAST-MODIFIED:20250417T152321Z
UID:10015174-1744894800-1744923600@white-ibiza.com
SUMMARY:Summer Opening at Beso Beach Ibiza
DESCRIPTION:Proudly presiding over the iconic beach of Las Salinas\, Beso Beach Ibiza is a must-visit on the island’s beach club map. On April 17\, 2025\, it reopens for the summer season and not a moment too soon\, as the island is bustling with eager tourists looking to soak up some sun and indulge in the ultimate holiday pastime – beachfront feasting. \nServing up a delicious menu inspired by Mediterranean and Basque traditions\, Beso Beach Ibiza specialises in paella and seafood dishes\, with all ingredients sourced locally where possible. Dine in the stylish\, rustic chic restaurant or have your meals delivered to your luxurious daybed – there’s no rules here. And when the tables are cleared\, it’s time for music\, magic and dancing in the sand in true Ibiza style. As the saying goes\, no hay verano sin Beso\, which must mean today is the official first day of summer!
URL:https://white-ibiza.com/ibiza-calendar/summer-opening-at-beso-beach-ibiza/
LOCATION:Beso Beach Ibiza\, Sant Jordi de ses Salines\, Islas Baleares\, 07817\, Spain
CATEGORIES:Foodies
ATTACH;FMTTYPE=image/jpeg:https://white-ibiza.com/wp-content/uploads/2025/04/white-ibiza-calendar-beso-beach-ibiza-2025-02.jpeg
GEO:38.8911141;1.396924
END:VEVENT
END:VCALENDAR