BEGIN:VCALENDAR
VERSION:2.0
PRODID:-//WHITE IBIZA - ECPv6.6.0.2//NONSGML v1.0//EN
CALSCALE:GREGORIAN
METHOD:PUBLISH
X-WR-CALNAME:WHITE IBIZA
X-ORIGINAL-URL:https://white-ibiza.com
X-WR-CALDESC:Events for WHITE IBIZA
REFRESH-INTERVAL;VALUE=DURATION:PT1H
X-Robots-Tag:noindex
X-PUBLISHED-TTL:PT1H
BEGIN:VTIMEZONE
TZID:Europe/Madrid
BEGIN:DAYLIGHT
TZOFFSETFROM:+0100
TZOFFSETTO:+0200
TZNAME:CEST
DTSTART:20240331T010000
END:DAYLIGHT
BEGIN:STANDARD
TZOFFSETFROM:+0200
TZOFFSETTO:+0100
TZNAME:CET
DTSTART:20241027T010000
END:STANDARD
END:VTIMEZONE
BEGIN:VEVENT
DTSTART;TZID=Europe/Madrid:20241206T190000
DTEND;TZID=Europe/Madrid:20241206T233000
DTSTAMP:20260426T032702
CREATED:20241127T004904Z
LAST-MODIFIED:20250102T200658Z
UID:10011106-1733511600-1733527800@white-ibiza.com
SUMMARY:Dinner at 'La Era' at Aguamadera Ibiza
DESCRIPTION:Peaceful\, cosy and open to the public all year round\, La Era – the in-house wood-fire cooking restaurant within the incredible east coast Agroturismo Aguamadera Ibiza – is open for dinner from Wednesdays to Saturdays throughout the Ibiza winter. A roaring\, crackling fireplace and flickering candles set the scene within the beautifully restored finca\, further complemented by the tantalising smoky scents coming from the open kitchen\, where chefs abstain from using electricity in favour of mastering the art of cooking on an open flame. \nChef Gonzalo Cerrato Laguna is the mastermind behind the farm-to-table\, seasonal menus at La Era\, with most of the produce plucked daily from the flourishing farm and vegetable garden adjacent to the restaurant terrace. Cuisine evokes the simplicity and purity of the Mediterranean\, showcasing each ingredient in its unadorned glory\, enhanced only with woody\, smoke-infused flavours and complemented with fine wines and hand-crafted cocktails. Every decadent dinner here is a special occasion – gather your nearest and dearest\, kick back to a soundtrack of soul and jazz\, and immerse yourself in the world of Aguamadera Ibiza.
URL:https://white-ibiza.com/ibiza-calendar/2024-dinner-at-la-era-at-aguamadera-ibiza/2024-12-06/
LOCATION:Aguamadera Ibiza\, Cala Llonga\, Islas Baleares\, 07849\, Spain
CATEGORIES:Foodies
ATTACH;FMTTYPE=image/jpeg:https://white-ibiza.com/wp-content/uploads/2024/11/white-ibiza-calendar-la-era-aguamadera-ibiza-2024-04.jpeg
GEO:38.9557105;1.514811
END:VEVENT
BEGIN:VEVENT
DTSTART;TZID=Europe/Madrid:20241206T130000
DTEND;TZID=Europe/Madrid:20241206T163000
DTSTAMP:20260426T032702
CREATED:20241127T003000Z
LAST-MODIFIED:20250102T201859Z
UID:10011086-1733490000-1733502600@white-ibiza.com
SUMMARY:Lunch at 'La Era' at Aguamadera Ibiza
DESCRIPTION:A secluded hideaway on a pine-covered hillside on the island’s east coast\, Aguamadera Ibiza is the creative vision of islander Iria Urgell\, encompassing a stunning Agroturismo\, a cutting-edge regenerative farm\, a wellness hub and the impressive fire-cooking restaurant\, La Era – open to the public all year round. Here\, nature\, art\, food and sound come together to create unforgettable dining experiences\, with chef Gonzalo Cerrato at the helm. \nOpen for lunch from Wednesdays to Sundays throughout the winter season\, the menu at La Era is inspired by a traditional farming lifestyle\, the region’s heritage and the art of wood-fired cooking – with electricity completely eschewed in favour of the power of flames. Take a seat on the sunny terrace\, sip on hand-crafted cocktails and soak in the views\, or get cosy by the fireplace indoors\, and let the team from Aguamadera Ibiza welcome you into their home away from home for a flavour-filled meal focusing on simplicity\, purity and quality.
URL:https://white-ibiza.com/ibiza-calendar/2024-lunch-at-la-era-at-aguamadera-ibiza/2024-12-06/
LOCATION:Aguamadera Ibiza\, Cala Llonga\, Islas Baleares\, 07849\, Spain
CATEGORIES:Foodies
ATTACH;FMTTYPE=image/jpeg:https://white-ibiza.com/wp-content/uploads/2024/11/white-ibiza-calendar-la-era-aguamadera-ibiza-2024-02.jpeg
GEO:38.9557105;1.514811
END:VEVENT
BEGIN:VEVENT
DTSTART;TZID=Europe/Madrid:20241205T190000
DTEND;TZID=Europe/Madrid:20241205T233000
DTSTAMP:20260426T032702
CREATED:20241127T004904Z
LAST-MODIFIED:20250102T200658Z
UID:10011105-1733425200-1733441400@white-ibiza.com
SUMMARY:Dinner at 'La Era' at Aguamadera Ibiza
DESCRIPTION:Peaceful\, cosy and open to the public all year round\, La Era – the in-house wood-fire cooking restaurant within the incredible east coast Agroturismo Aguamadera Ibiza – is open for dinner from Wednesdays to Saturdays throughout the Ibiza winter. A roaring\, crackling fireplace and flickering candles set the scene within the beautifully restored finca\, further complemented by the tantalising smoky scents coming from the open kitchen\, where chefs abstain from using electricity in favour of mastering the art of cooking on an open flame. \nChef Gonzalo Cerrato Laguna is the mastermind behind the farm-to-table\, seasonal menus at La Era\, with most of the produce plucked daily from the flourishing farm and vegetable garden adjacent to the restaurant terrace. Cuisine evokes the simplicity and purity of the Mediterranean\, showcasing each ingredient in its unadorned glory\, enhanced only with woody\, smoke-infused flavours and complemented with fine wines and hand-crafted cocktails. Every decadent dinner here is a special occasion – gather your nearest and dearest\, kick back to a soundtrack of soul and jazz\, and immerse yourself in the world of Aguamadera Ibiza.
URL:https://white-ibiza.com/ibiza-calendar/2024-dinner-at-la-era-at-aguamadera-ibiza/2024-12-05/
LOCATION:Aguamadera Ibiza\, Cala Llonga\, Islas Baleares\, 07849\, Spain
CATEGORIES:Foodies
ATTACH;FMTTYPE=image/jpeg:https://white-ibiza.com/wp-content/uploads/2024/11/white-ibiza-calendar-la-era-aguamadera-ibiza-2024-04.jpeg
GEO:38.9557105;1.514811
END:VEVENT
BEGIN:VEVENT
DTSTART;TZID=Europe/Madrid:20241205T130000
DTEND;TZID=Europe/Madrid:20241205T163000
DTSTAMP:20260426T032702
CREATED:20241127T003000Z
LAST-MODIFIED:20250102T201859Z
UID:10011085-1733403600-1733416200@white-ibiza.com
SUMMARY:Lunch at 'La Era' at Aguamadera Ibiza
DESCRIPTION:A secluded hideaway on a pine-covered hillside on the island’s east coast\, Aguamadera Ibiza is the creative vision of islander Iria Urgell\, encompassing a stunning Agroturismo\, a cutting-edge regenerative farm\, a wellness hub and the impressive fire-cooking restaurant\, La Era – open to the public all year round. Here\, nature\, art\, food and sound come together to create unforgettable dining experiences\, with chef Gonzalo Cerrato at the helm. \nOpen for lunch from Wednesdays to Sundays throughout the winter season\, the menu at La Era is inspired by a traditional farming lifestyle\, the region’s heritage and the art of wood-fired cooking – with electricity completely eschewed in favour of the power of flames. Take a seat on the sunny terrace\, sip on hand-crafted cocktails and soak in the views\, or get cosy by the fireplace indoors\, and let the team from Aguamadera Ibiza welcome you into their home away from home for a flavour-filled meal focusing on simplicity\, purity and quality.
URL:https://white-ibiza.com/ibiza-calendar/2024-lunch-at-la-era-at-aguamadera-ibiza/2024-12-05/
LOCATION:Aguamadera Ibiza\, Cala Llonga\, Islas Baleares\, 07849\, Spain
CATEGORIES:Foodies
ATTACH;FMTTYPE=image/jpeg:https://white-ibiza.com/wp-content/uploads/2024/11/white-ibiza-calendar-la-era-aguamadera-ibiza-2024-02.jpeg
GEO:38.9557105;1.514811
END:VEVENT
BEGIN:VEVENT
DTSTART;TZID=Europe/Madrid:20241204T190000
DTEND;TZID=Europe/Madrid:20241204T233000
DTSTAMP:20260426T032702
CREATED:20241127T004904Z
LAST-MODIFIED:20250102T200658Z
UID:10011104-1733338800-1733355000@white-ibiza.com
SUMMARY:Dinner at 'La Era' at Aguamadera Ibiza
DESCRIPTION:Peaceful\, cosy and open to the public all year round\, La Era – the in-house wood-fire cooking restaurant within the incredible east coast Agroturismo Aguamadera Ibiza – is open for dinner from Wednesdays to Saturdays throughout the Ibiza winter. A roaring\, crackling fireplace and flickering candles set the scene within the beautifully restored finca\, further complemented by the tantalising smoky scents coming from the open kitchen\, where chefs abstain from using electricity in favour of mastering the art of cooking on an open flame. \nChef Gonzalo Cerrato Laguna is the mastermind behind the farm-to-table\, seasonal menus at La Era\, with most of the produce plucked daily from the flourishing farm and vegetable garden adjacent to the restaurant terrace. Cuisine evokes the simplicity and purity of the Mediterranean\, showcasing each ingredient in its unadorned glory\, enhanced only with woody\, smoke-infused flavours and complemented with fine wines and hand-crafted cocktails. Every decadent dinner here is a special occasion – gather your nearest and dearest\, kick back to a soundtrack of soul and jazz\, and immerse yourself in the world of Aguamadera Ibiza.
URL:https://white-ibiza.com/ibiza-calendar/2024-dinner-at-la-era-at-aguamadera-ibiza/2024-12-04/
LOCATION:Aguamadera Ibiza\, Cala Llonga\, Islas Baleares\, 07849\, Spain
CATEGORIES:Foodies
ATTACH;FMTTYPE=image/jpeg:https://white-ibiza.com/wp-content/uploads/2024/11/white-ibiza-calendar-la-era-aguamadera-ibiza-2024-04.jpeg
GEO:38.9557105;1.514811
END:VEVENT
BEGIN:VEVENT
DTSTART;TZID=Europe/Madrid:20241204T130000
DTEND;TZID=Europe/Madrid:20241204T163000
DTSTAMP:20260426T032702
CREATED:20241127T003000Z
LAST-MODIFIED:20250102T201859Z
UID:10011084-1733317200-1733329800@white-ibiza.com
SUMMARY:Lunch at 'La Era' at Aguamadera Ibiza
DESCRIPTION:A secluded hideaway on a pine-covered hillside on the island’s east coast\, Aguamadera Ibiza is the creative vision of islander Iria Urgell\, encompassing a stunning Agroturismo\, a cutting-edge regenerative farm\, a wellness hub and the impressive fire-cooking restaurant\, La Era – open to the public all year round. Here\, nature\, art\, food and sound come together to create unforgettable dining experiences\, with chef Gonzalo Cerrato at the helm. \nOpen for lunch from Wednesdays to Sundays throughout the winter season\, the menu at La Era is inspired by a traditional farming lifestyle\, the region’s heritage and the art of wood-fired cooking – with electricity completely eschewed in favour of the power of flames. Take a seat on the sunny terrace\, sip on hand-crafted cocktails and soak in the views\, or get cosy by the fireplace indoors\, and let the team from Aguamadera Ibiza welcome you into their home away from home for a flavour-filled meal focusing on simplicity\, purity and quality.
URL:https://white-ibiza.com/ibiza-calendar/2024-lunch-at-la-era-at-aguamadera-ibiza/2024-12-04/
LOCATION:Aguamadera Ibiza\, Cala Llonga\, Islas Baleares\, 07849\, Spain
CATEGORIES:Foodies
ATTACH;FMTTYPE=image/jpeg:https://white-ibiza.com/wp-content/uploads/2024/11/white-ibiza-calendar-la-era-aguamadera-ibiza-2024-02.jpeg
GEO:38.9557105;1.514811
END:VEVENT
BEGIN:VEVENT
DTSTART;TZID=Europe/Madrid:20241130T190000
DTEND;TZID=Europe/Madrid:20241130T233000
DTSTAMP:20260426T032702
CREATED:20241127T004904Z
LAST-MODIFIED:20250102T200658Z
UID:10011103-1732993200-1733009400@white-ibiza.com
SUMMARY:Dinner at 'La Era' at Aguamadera Ibiza
DESCRIPTION:Peaceful\, cosy and open to the public all year round\, La Era – the in-house wood-fire cooking restaurant within the incredible east coast Agroturismo Aguamadera Ibiza – is open for dinner from Wednesdays to Saturdays throughout the Ibiza winter. A roaring\, crackling fireplace and flickering candles set the scene within the beautifully restored finca\, further complemented by the tantalising smoky scents coming from the open kitchen\, where chefs abstain from using electricity in favour of mastering the art of cooking on an open flame. \nChef Gonzalo Cerrato Laguna is the mastermind behind the farm-to-table\, seasonal menus at La Era\, with most of the produce plucked daily from the flourishing farm and vegetable garden adjacent to the restaurant terrace. Cuisine evokes the simplicity and purity of the Mediterranean\, showcasing each ingredient in its unadorned glory\, enhanced only with woody\, smoke-infused flavours and complemented with fine wines and hand-crafted cocktails. Every decadent dinner here is a special occasion – gather your nearest and dearest\, kick back to a soundtrack of soul and jazz\, and immerse yourself in the world of Aguamadera Ibiza.
URL:https://white-ibiza.com/ibiza-calendar/2024-dinner-at-la-era-at-aguamadera-ibiza/2024-11-30/
LOCATION:Aguamadera Ibiza\, Cala Llonga\, Islas Baleares\, 07849\, Spain
CATEGORIES:Foodies
ATTACH;FMTTYPE=image/jpeg:https://white-ibiza.com/wp-content/uploads/2024/11/white-ibiza-calendar-la-era-aguamadera-ibiza-2024-04.jpeg
GEO:38.9557105;1.514811
END:VEVENT
BEGIN:VEVENT
DTSTART;TZID=Europe/Madrid:20241130T130000
DTEND;TZID=Europe/Madrid:20241130T163000
DTSTAMP:20260426T032702
CREATED:20241127T003000Z
LAST-MODIFIED:20250102T201859Z
UID:10011083-1732971600-1732984200@white-ibiza.com
SUMMARY:Lunch at 'La Era' at Aguamadera Ibiza
DESCRIPTION:A secluded hideaway on a pine-covered hillside on the island’s east coast\, Aguamadera Ibiza is the creative vision of islander Iria Urgell\, encompassing a stunning Agroturismo\, a cutting-edge regenerative farm\, a wellness hub and the impressive fire-cooking restaurant\, La Era – open to the public all year round. Here\, nature\, art\, food and sound come together to create unforgettable dining experiences\, with chef Gonzalo Cerrato at the helm. \nOpen for lunch from Wednesdays to Sundays throughout the winter season\, the menu at La Era is inspired by a traditional farming lifestyle\, the region’s heritage and the art of wood-fired cooking – with electricity completely eschewed in favour of the power of flames. Take a seat on the sunny terrace\, sip on hand-crafted cocktails and soak in the views\, or get cosy by the fireplace indoors\, and let the team from Aguamadera Ibiza welcome you into their home away from home for a flavour-filled meal focusing on simplicity\, purity and quality.
URL:https://white-ibiza.com/ibiza-calendar/2024-lunch-at-la-era-at-aguamadera-ibiza/2024-11-30/
LOCATION:Aguamadera Ibiza\, Cala Llonga\, Islas Baleares\, 07849\, Spain
CATEGORIES:Foodies
ATTACH;FMTTYPE=image/jpeg:https://white-ibiza.com/wp-content/uploads/2024/11/white-ibiza-calendar-la-era-aguamadera-ibiza-2024-02.jpeg
GEO:38.9557105;1.514811
END:VEVENT
BEGIN:VEVENT
DTSTART;TZID=Europe/Madrid:20241129T190000
DTEND;TZID=Europe/Madrid:20241129T233000
DTSTAMP:20260426T032702
CREATED:20241127T004904Z
LAST-MODIFIED:20250102T200658Z
UID:10011102-1732906800-1732923000@white-ibiza.com
SUMMARY:Dinner at 'La Era' at Aguamadera Ibiza
DESCRIPTION:Peaceful\, cosy and open to the public all year round\, La Era – the in-house wood-fire cooking restaurant within the incredible east coast Agroturismo Aguamadera Ibiza – is open for dinner from Wednesdays to Saturdays throughout the Ibiza winter. A roaring\, crackling fireplace and flickering candles set the scene within the beautifully restored finca\, further complemented by the tantalising smoky scents coming from the open kitchen\, where chefs abstain from using electricity in favour of mastering the art of cooking on an open flame. \nChef Gonzalo Cerrato Laguna is the mastermind behind the farm-to-table\, seasonal menus at La Era\, with most of the produce plucked daily from the flourishing farm and vegetable garden adjacent to the restaurant terrace. Cuisine evokes the simplicity and purity of the Mediterranean\, showcasing each ingredient in its unadorned glory\, enhanced only with woody\, smoke-infused flavours and complemented with fine wines and hand-crafted cocktails. Every decadent dinner here is a special occasion – gather your nearest and dearest\, kick back to a soundtrack of soul and jazz\, and immerse yourself in the world of Aguamadera Ibiza.
URL:https://white-ibiza.com/ibiza-calendar/2024-dinner-at-la-era-at-aguamadera-ibiza/2024-11-29/
LOCATION:Aguamadera Ibiza\, Cala Llonga\, Islas Baleares\, 07849\, Spain
CATEGORIES:Foodies
ATTACH;FMTTYPE=image/jpeg:https://white-ibiza.com/wp-content/uploads/2024/11/white-ibiza-calendar-la-era-aguamadera-ibiza-2024-04.jpeg
GEO:38.9557105;1.514811
END:VEVENT
BEGIN:VEVENT
DTSTART;TZID=Europe/Madrid:20241129T130000
DTEND;TZID=Europe/Madrid:20241129T163000
DTSTAMP:20260426T032702
CREATED:20241127T003000Z
LAST-MODIFIED:20250102T201859Z
UID:10011082-1732885200-1732897800@white-ibiza.com
SUMMARY:Lunch at 'La Era' at Aguamadera Ibiza
DESCRIPTION:A secluded hideaway on a pine-covered hillside on the island’s east coast\, Aguamadera Ibiza is the creative vision of islander Iria Urgell\, encompassing a stunning Agroturismo\, a cutting-edge regenerative farm\, a wellness hub and the impressive fire-cooking restaurant\, La Era – open to the public all year round. Here\, nature\, art\, food and sound come together to create unforgettable dining experiences\, with chef Gonzalo Cerrato at the helm. \nOpen for lunch from Wednesdays to Sundays throughout the winter season\, the menu at La Era is inspired by a traditional farming lifestyle\, the region’s heritage and the art of wood-fired cooking – with electricity completely eschewed in favour of the power of flames. Take a seat on the sunny terrace\, sip on hand-crafted cocktails and soak in the views\, or get cosy by the fireplace indoors\, and let the team from Aguamadera Ibiza welcome you into their home away from home for a flavour-filled meal focusing on simplicity\, purity and quality.
URL:https://white-ibiza.com/ibiza-calendar/2024-lunch-at-la-era-at-aguamadera-ibiza/2024-11-29/
LOCATION:Aguamadera Ibiza\, Cala Llonga\, Islas Baleares\, 07849\, Spain
CATEGORIES:Foodies
ATTACH;FMTTYPE=image/jpeg:https://white-ibiza.com/wp-content/uploads/2024/11/white-ibiza-calendar-la-era-aguamadera-ibiza-2024-02.jpeg
GEO:38.9557105;1.514811
END:VEVENT
BEGIN:VEVENT
DTSTART;TZID=Europe/Madrid:20241128T190000
DTEND;TZID=Europe/Madrid:20241128T233000
DTSTAMP:20260426T032702
CREATED:20241127T004904Z
LAST-MODIFIED:20250102T200658Z
UID:10011101-1732820400-1732836600@white-ibiza.com
SUMMARY:Dinner at 'La Era' at Aguamadera Ibiza
DESCRIPTION:Peaceful\, cosy and open to the public all year round\, La Era – the in-house wood-fire cooking restaurant within the incredible east coast Agroturismo Aguamadera Ibiza – is open for dinner from Wednesdays to Saturdays throughout the Ibiza winter. A roaring\, crackling fireplace and flickering candles set the scene within the beautifully restored finca\, further complemented by the tantalising smoky scents coming from the open kitchen\, where chefs abstain from using electricity in favour of mastering the art of cooking on an open flame. \nChef Gonzalo Cerrato Laguna is the mastermind behind the farm-to-table\, seasonal menus at La Era\, with most of the produce plucked daily from the flourishing farm and vegetable garden adjacent to the restaurant terrace. Cuisine evokes the simplicity and purity of the Mediterranean\, showcasing each ingredient in its unadorned glory\, enhanced only with woody\, smoke-infused flavours and complemented with fine wines and hand-crafted cocktails. Every decadent dinner here is a special occasion – gather your nearest and dearest\, kick back to a soundtrack of soul and jazz\, and immerse yourself in the world of Aguamadera Ibiza.
URL:https://white-ibiza.com/ibiza-calendar/2024-dinner-at-la-era-at-aguamadera-ibiza/2024-11-28/
LOCATION:Aguamadera Ibiza\, Cala Llonga\, Islas Baleares\, 07849\, Spain
CATEGORIES:Foodies
ATTACH;FMTTYPE=image/jpeg:https://white-ibiza.com/wp-content/uploads/2024/11/white-ibiza-calendar-la-era-aguamadera-ibiza-2024-04.jpeg
GEO:38.9557105;1.514811
END:VEVENT
BEGIN:VEVENT
DTSTART;TZID=Europe/Madrid:20241128T130000
DTEND;TZID=Europe/Madrid:20241128T163000
DTSTAMP:20260426T032702
CREATED:20241127T003000Z
LAST-MODIFIED:20250102T201859Z
UID:10011081-1732798800-1732811400@white-ibiza.com
SUMMARY:Lunch at 'La Era' at Aguamadera Ibiza
DESCRIPTION:A secluded hideaway on a pine-covered hillside on the island’s east coast\, Aguamadera Ibiza is the creative vision of islander Iria Urgell\, encompassing a stunning Agroturismo\, a cutting-edge regenerative farm\, a wellness hub and the impressive fire-cooking restaurant\, La Era – open to the public all year round. Here\, nature\, art\, food and sound come together to create unforgettable dining experiences\, with chef Gonzalo Cerrato at the helm. \nOpen for lunch from Wednesdays to Sundays throughout the winter season\, the menu at La Era is inspired by a traditional farming lifestyle\, the region’s heritage and the art of wood-fired cooking – with electricity completely eschewed in favour of the power of flames. Take a seat on the sunny terrace\, sip on hand-crafted cocktails and soak in the views\, or get cosy by the fireplace indoors\, and let the team from Aguamadera Ibiza welcome you into their home away from home for a flavour-filled meal focusing on simplicity\, purity and quality.
URL:https://white-ibiza.com/ibiza-calendar/2024-lunch-at-la-era-at-aguamadera-ibiza/2024-11-28/
LOCATION:Aguamadera Ibiza\, Cala Llonga\, Islas Baleares\, 07849\, Spain
CATEGORIES:Foodies
ATTACH;FMTTYPE=image/jpeg:https://white-ibiza.com/wp-content/uploads/2024/11/white-ibiza-calendar-la-era-aguamadera-ibiza-2024-02.jpeg
GEO:38.9557105;1.514811
END:VEVENT
BEGIN:VEVENT
DTSTART;TZID=Europe/Madrid:20241127T190000
DTEND;TZID=Europe/Madrid:20241127T233000
DTSTAMP:20260426T032702
CREATED:20241127T004904Z
LAST-MODIFIED:20250102T200658Z
UID:10011100-1732734000-1732750200@white-ibiza.com
SUMMARY:Dinner at 'La Era' at Aguamadera Ibiza
DESCRIPTION:Peaceful\, cosy and open to the public all year round\, La Era – the in-house wood-fire cooking restaurant within the incredible east coast Agroturismo Aguamadera Ibiza – is open for dinner from Wednesdays to Saturdays throughout the Ibiza winter. A roaring\, crackling fireplace and flickering candles set the scene within the beautifully restored finca\, further complemented by the tantalising smoky scents coming from the open kitchen\, where chefs abstain from using electricity in favour of mastering the art of cooking on an open flame. \nChef Gonzalo Cerrato Laguna is the mastermind behind the farm-to-table\, seasonal menus at La Era\, with most of the produce plucked daily from the flourishing farm and vegetable garden adjacent to the restaurant terrace. Cuisine evokes the simplicity and purity of the Mediterranean\, showcasing each ingredient in its unadorned glory\, enhanced only with woody\, smoke-infused flavours and complemented with fine wines and hand-crafted cocktails. Every decadent dinner here is a special occasion – gather your nearest and dearest\, kick back to a soundtrack of soul and jazz\, and immerse yourself in the world of Aguamadera Ibiza.
URL:https://white-ibiza.com/ibiza-calendar/2024-dinner-at-la-era-at-aguamadera-ibiza/2024-11-27/
LOCATION:Aguamadera Ibiza\, Cala Llonga\, Islas Baleares\, 07849\, Spain
CATEGORIES:Foodies
ATTACH;FMTTYPE=image/jpeg:https://white-ibiza.com/wp-content/uploads/2024/11/white-ibiza-calendar-la-era-aguamadera-ibiza-2024-04.jpeg
GEO:38.9557105;1.514811
END:VEVENT
BEGIN:VEVENT
DTSTART;TZID=Europe/Madrid:20241127T130000
DTEND;TZID=Europe/Madrid:20241127T163000
DTSTAMP:20260426T032702
CREATED:20241127T003000Z
LAST-MODIFIED:20250102T201859Z
UID:10011080-1732712400-1732725000@white-ibiza.com
SUMMARY:Lunch at 'La Era' at Aguamadera Ibiza
DESCRIPTION:A secluded hideaway on a pine-covered hillside on the island’s east coast\, Aguamadera Ibiza is the creative vision of islander Iria Urgell\, encompassing a stunning Agroturismo\, a cutting-edge regenerative farm\, a wellness hub and the impressive fire-cooking restaurant\, La Era – open to the public all year round. Here\, nature\, art\, food and sound come together to create unforgettable dining experiences\, with chef Gonzalo Cerrato at the helm. \nOpen for lunch from Wednesdays to Sundays throughout the winter season\, the menu at La Era is inspired by a traditional farming lifestyle\, the region’s heritage and the art of wood-fired cooking – with electricity completely eschewed in favour of the power of flames. Take a seat on the sunny terrace\, sip on hand-crafted cocktails and soak in the views\, or get cosy by the fireplace indoors\, and let the team from Aguamadera Ibiza welcome you into their home away from home for a flavour-filled meal focusing on simplicity\, purity and quality.
URL:https://white-ibiza.com/ibiza-calendar/2024-lunch-at-la-era-at-aguamadera-ibiza/2024-11-27/
LOCATION:Aguamadera Ibiza\, Cala Llonga\, Islas Baleares\, 07849\, Spain
CATEGORIES:Foodies
ATTACH;FMTTYPE=image/jpeg:https://white-ibiza.com/wp-content/uploads/2024/11/white-ibiza-calendar-la-era-aguamadera-ibiza-2024-02.jpeg
GEO:38.9557105;1.514811
END:VEVENT
BEGIN:VEVENT
DTSTART;TZID=Europe/Madrid:20241102T193000
DTEND;TZID=Europe/Madrid:20241103T023000
DTSTAMP:20260426T032702
CREATED:20241028T191928Z
LAST-MODIFIED:20241028T191928Z
UID:10009351-1730575800-1730601000@white-ibiza.com
SUMMARY:Día de los Muertos at Aguamadera Ibiza
DESCRIPTION:As a fittingly haunting end to the Halloween holidays\, Cala Llonga countryside boutique hotel and restaurant Aguamadera celebrates Día de los Muertos on Saturday November 02\, 2024\, with a fancy-dress dinner and dance from 7.30pm. \nCall up your Mexican spirits and indulge in a delicious set menu dinner for 88€\, including lobster and epazote Chilpachole\, seasonal mushroom tamale and cochinita pibil\, and then dance the night away to tunes from DJ Mezcalearics. An on-site make-up artist can help perfect your day of the dead look\, so be sure to book a slot when you make your table or guestlist reservation. Surely\, after this final party\, it’s time to retire to the crypt for winter hibernation…
URL:https://white-ibiza.com/ibiza-calendar/2024-ibiza-halloween-dia-de-los-muertos-at-aguamadera-ibiza/
LOCATION:Aguamadera Ibiza\, Cala Llonga\, Islas Baleares\, 07849\, Spain
CATEGORIES:Foodies,Culture
ATTACH;FMTTYPE=image/jpeg:https://white-ibiza.com/wp-content/uploads/2024/10/white-ibiza-calendar-ibiza-halloween-2024-aguamadera-ibiza.jpg
GEO:38.9557105;1.514811
END:VEVENT
BEGIN:VEVENT
DTSTART;TZID=Europe/Madrid:20241020T130000
DTEND;TZID=Europe/Madrid:20241020T180000
DTSTAMP:20260426T032702
CREATED:20241010T224014Z
LAST-MODIFIED:20241010T224014Z
UID:10008415-1729429200-1729447200@white-ibiza.com
SUMMARY:Fuego Libre at Aguamadera Ibiza
DESCRIPTION:Autumn is upon us and with it comes the harvest\, the matanzas\, the gathering of the crops from summer\, and the first edition of Fuego Libre at Aguamadera Ibiza on Sunday October 20\, 2024. The rustic luxe Agroturismo and firewood restaurant opens its doors to visitors and hotel guests alike for an extended family-style lunch from 1pm\, showcasing the fresh produce from onsite gardens\, and campo cooking at its finest. \nThe special ‘open fire’ à la carte menu includes Ibicencan lamb grilled on the cross\, padrón peppers\, potato gratin\, charred beetroot\, green beans\, brussel spouts and leeks along with many other house specialties\, all prepared and cooked with love and served with joy. There’s no better way to embrace the beginning of the new season than around these large community tables\, overlooking the rolling green hills and surrounded by friends\, old and new. Reservations essential.
URL:https://white-ibiza.com/ibiza-calendar/2024-fuego-libre-at-aguamadera-ibiza/
LOCATION:Aguamadera Ibiza\, Cala Llonga\, Islas Baleares\, 07849\, Spain
CATEGORIES:Foodies
ATTACH;FMTTYPE=image/jpeg:https://white-ibiza.com/wp-content/uploads/2024/10/white-ibiza-calendar-aguamadera-ibiza-2024.jpg
GEO:38.9557105;1.514811
END:VEVENT
END:VCALENDAR