BEGIN:VCALENDAR
VERSION:2.0
PRODID:-//WHITE IBIZA - ECPv6.6.0.2//NONSGML v1.0//EN
CALSCALE:GREGORIAN
METHOD:PUBLISH
X-ORIGINAL-URL:https://white-ibiza.com
X-WR-CALDESC:Events for WHITE IBIZA
REFRESH-INTERVAL;VALUE=DURATION:PT1H
X-Robots-Tag:noindex
X-PUBLISHED-TTL:PT1H
BEGIN:VTIMEZONE
TZID:Europe/Madrid
BEGIN:DAYLIGHT
TZOFFSETFROM:+0100
TZOFFSETTO:+0200
TZNAME:CEST
DTSTART:20260329T010000
END:DAYLIGHT
BEGIN:STANDARD
TZOFFSETFROM:+0200
TZOFFSETTO:+0100
TZNAME:CET
DTSTART:20261025T010000
END:STANDARD
END:VTIMEZONE
BEGIN:VEVENT
DTSTART;TZID=Europe/Madrid:20260427T180000
DTEND;TZID=Europe/Madrid:20260427T230000
DTSTAMP:20260425T171339
CREATED:20260112T082854Z
LAST-MODIFIED:20260112T082854Z
UID:10029358-1777312800-1777330800@white-ibiza.com
SUMMARY:Mezcal Mondays at Casa Lhasa
DESCRIPTION:While it might not lead to the most productive week of your life\, there’s no better time of year than winter to try out Mezcal Mondays at Casa Lhasa. From 6pm on Monday afternoons\, the cosy San Lorenzo eatery offers two-for-one tacos and other delectable bites and snacks to enjoy alongside mezcal cocktails created by artisanal brand\, Ojo de Isla. \nMezcal maestro and founder of Ojo de Isla\, Galo Tonella powers the bespoke beverages on offer\, while DJ Camilo Miranda provides the laidback Latino tunes to accompany the evening. The Casa Lhasa team are\, as always\, the most welcoming of hosts and on a Monday evening in winter in Ibiza\, you won’t find anywhere else more welcoming or warming. Just remember the saying – if you kiss the mezcal\, drinking it in small sips\, it will kiss you back! If not… you might need to call in sick on Tuesday.
URL:https://white-ibiza.com/ibiza-calendar/mezcal-mondays-at-casa-lhasa-3/2026-04-27/
LOCATION:Casa Lhasa\, Carrer Sant Llorenç\, Sant Llorenç de Balàfia\, Islas Baleares\, 07812\, Spain
CATEGORIES:Foodies
ATTACH;FMTTYPE=image/jpeg:https://white-ibiza.com/wp-content/uploads/2024/11/white-ibiza-calendar-casa-lhasa-2024-01.jpeg
GEO:39.0312561;1.4766502
X-APPLE-STRUCTURED-LOCATION;VALUE=URI;X-ADDRESS=Casa Lhasa Carrer Sant Llorenç Sant Llorenç de Balàfia Islas Baleares 07812 Spain;X-APPLE-RADIUS=500;X-TITLE=Carrer Sant Llorenç:geo:1.4766502,39.0312561
END:VEVENT
END:VCALENDAR