BEGIN:VCALENDAR
VERSION:2.0
PRODID:-//WHITE IBIZA - ECPv6.6.0.2//NONSGML v1.0//EN
CALSCALE:GREGORIAN
METHOD:PUBLISH
X-WR-CALNAME:WHITE IBIZA
X-ORIGINAL-URL:https://white-ibiza.com
X-WR-CALDESC:Events for WHITE IBIZA
REFRESH-INTERVAL;VALUE=DURATION:PT1H
X-Robots-Tag:noindex
X-PUBLISHED-TTL:PT1H
BEGIN:VTIMEZONE
TZID:Europe/Madrid
BEGIN:DAYLIGHT
TZOFFSETFROM:+0100
TZOFFSETTO:+0200
TZNAME:CEST
DTSTART:20260329T010000
END:DAYLIGHT
BEGIN:STANDARD
TZOFFSETFROM:+0200
TZOFFSETTO:+0100
TZNAME:CET
DTSTART:20261025T010000
END:STANDARD
END:VTIMEZONE
BEGIN:VEVENT
DTSTART;TZID=Europe/Madrid:20260424T080000
DTEND;TZID=Europe/Madrid:20260424T170000
DTSTAMP:20260423T195120
CREATED:20260423T143756Z
LAST-MODIFIED:20260423T143756Z
UID:10032088-1777017600-1777050000@white-ibiza.com
SUMMARY:Melon Bomb at Pikes Ibiza
DESCRIPTION:Back where it all began\, Ibiza’s beloved disco mischief-makers Melon Bomb return to Pikes Ibiza for their 11th season of shoulder shimmies and hip-swinging moments beneath the glitter of the legendary Freddies mirror ball. Part of the Pikes family since day dot\, this monthly residency has become a firm fixture on the island’s social calendar\, drawing a loyal crowd of locals and clued-up visitors\, year after year after year.  \nHands-in-the-air anthems and a few flashes of rave nostalgia woven in for good measure from DJs Paul Reynolds\, Scott Gray\, Ben Santiago and Corbi create that signature Melon Bomb energy from start to finish. Expect a packed dance floor\, plenty of familiar faces and rib-tickling musical fun all night long\, from the blissed out poolside vibes to the buzz of Plaza Mayor and the frantic fun of Freddies. Head to the Sunset Terrace for a breather\, a cocktail or a quick reset before diving straight back into the heart of all the action. Sign up for the free guestlist using the link below.
URL:https://white-ibiza.com/ibiza-calendar/melon-bomb-at-pikes-ibiza-3/2026-04-24/1/
LOCATION:Pikes Ibiza\, Camí de Sa Vorera\, Sant Antoni de Portmany\, Is\, 07820\, Spain
CATEGORIES:Nightlife
ATTACH;FMTTYPE=image/jpeg:https://white-ibiza.com/wp-content/uploads/2026/04/white-ibiza-club-calendar-pikes-ibiza-melon-bomb-2026.jpeg
GEO:38.986598;1.3254823
X-APPLE-STRUCTURED-LOCATION;VALUE=URI;X-ADDRESS=Pikes Ibiza Camí de Sa Vorera Sant Antoni de Portmany Is 07820 Spain;X-APPLE-RADIUS=500;X-TITLE=Camí de Sa Vorera:geo:1.3254823,38.986598
END:VEVENT
BEGIN:VEVENT
DTSTART;TZID=Europe/Madrid:20260424T210000
DTEND;TZID=Europe/Madrid:20260425T040000
DTSTAMP:20260423T195120
CREATED:20260423T143756Z
LAST-MODIFIED:20260423T143756Z
UID:10032089-1777064400-1777089600@white-ibiza.com
SUMMARY:Melon Bomb at Pikes Ibiza
DESCRIPTION:Back where it all began\, Ibiza’s beloved disco mischief-makers Melon Bomb return to Pikes Ibiza for their 11th season of shoulder shimmies and hip-swinging moments beneath the glitter of the legendary Freddies mirror ball. Part of the Pikes family since day dot\, this monthly residency has become a firm fixture on the island’s social calendar\, drawing a loyal crowd of locals and clued-up visitors\, year after year after year.  \nHands-in-the-air anthems and a few flashes of rave nostalgia woven in for good measure from DJs Paul Reynolds\, Scott Gray\, Ben Santiago and Corbi create that signature Melon Bomb energy from start to finish. Expect a packed dance floor\, plenty of familiar faces and rib-tickling musical fun all night long\, from the blissed out poolside vibes to the buzz of Plaza Mayor and the frantic fun of Freddies. Head to the Sunset Terrace for a breather\, a cocktail or a quick reset before diving straight back into the heart of all the action. Sign up for the free guestlist using the link below.
URL:https://white-ibiza.com/ibiza-calendar/melon-bomb-at-pikes-ibiza-3/2026-04-24/2/
LOCATION:Pikes Ibiza\, Camí de Sa Vorera\, Sant Antoni de Portmany\, Is\, 07820\, Spain
CATEGORIES:Nightlife
ATTACH;FMTTYPE=image/jpeg:https://white-ibiza.com/wp-content/uploads/2026/04/white-ibiza-club-calendar-pikes-ibiza-melon-bomb-2026.jpeg
GEO:38.986598;1.3254823
X-APPLE-STRUCTURED-LOCATION;VALUE=URI;X-ADDRESS=Pikes Ibiza Camí de Sa Vorera Sant Antoni de Portmany Is 07820 Spain;X-APPLE-RADIUS=500;X-TITLE=Camí de Sa Vorera:geo:1.3254823,38.986598
END:VEVENT
BEGIN:VEVENT
DTSTART;TZID=Europe/Madrid:20260515T210000
DTEND;TZID=Europe/Madrid:20260516T040000
DTSTAMP:20260423T195120
CREATED:20260423T143756Z
LAST-MODIFIED:20260423T143756Z
UID:10032090-1778878800-1778904000@white-ibiza.com
SUMMARY:Melon Bomb at Pikes Ibiza
DESCRIPTION:Back where it all began\, Ibiza’s beloved disco mischief-makers Melon Bomb return to Pikes Ibiza for their 11th season of shoulder shimmies and hip-swinging moments beneath the glitter of the legendary Freddies mirror ball. Part of the Pikes family since day dot\, this monthly residency has become a firm fixture on the island’s social calendar\, drawing a loyal crowd of locals and clued-up visitors\, year after year after year.  \nHands-in-the-air anthems and a few flashes of rave nostalgia woven in for good measure from DJs Paul Reynolds\, Scott Gray\, Ben Santiago and Corbi create that signature Melon Bomb energy from start to finish. Expect a packed dance floor\, plenty of familiar faces and rib-tickling musical fun all night long\, from the blissed out poolside vibes to the buzz of Plaza Mayor and the frantic fun of Freddies. Head to the Sunset Terrace for a breather\, a cocktail or a quick reset before diving straight back into the heart of all the action. Sign up for the free guestlist using the link below.
URL:https://white-ibiza.com/ibiza-calendar/melon-bomb-at-pikes-ibiza-3/2026-05-15/
LOCATION:Pikes Ibiza\, Camí de Sa Vorera\, Sant Antoni de Portmany\, Is\, 07820\, Spain
CATEGORIES:Nightlife
ATTACH;FMTTYPE=image/jpeg:https://white-ibiza.com/wp-content/uploads/2026/04/white-ibiza-club-calendar-pikes-ibiza-melon-bomb-2026.jpeg
GEO:38.986598;1.3254823
X-APPLE-STRUCTURED-LOCATION;VALUE=URI;X-ADDRESS=Pikes Ibiza Camí de Sa Vorera Sant Antoni de Portmany Is 07820 Spain;X-APPLE-RADIUS=500;X-TITLE=Camí de Sa Vorera:geo:1.3254823,38.986598
END:VEVENT
BEGIN:VEVENT
DTSTART;TZID=Europe/Madrid:20260604T210000
DTEND;TZID=Europe/Madrid:20260605T040000
DTSTAMP:20260423T195120
CREATED:20260423T143756Z
LAST-MODIFIED:20260423T143756Z
UID:10032091-1780606800-1780632000@white-ibiza.com
SUMMARY:Melon Bomb at Pikes Ibiza
DESCRIPTION:Back where it all began\, Ibiza’s beloved disco mischief-makers Melon Bomb return to Pikes Ibiza for their 11th season of shoulder shimmies and hip-swinging moments beneath the glitter of the legendary Freddies mirror ball. Part of the Pikes family since day dot\, this monthly residency has become a firm fixture on the island’s social calendar\, drawing a loyal crowd of locals and clued-up visitors\, year after year after year.  \nHands-in-the-air anthems and a few flashes of rave nostalgia woven in for good measure from DJs Paul Reynolds\, Scott Gray\, Ben Santiago and Corbi create that signature Melon Bomb energy from start to finish. Expect a packed dance floor\, plenty of familiar faces and rib-tickling musical fun all night long\, from the blissed out poolside vibes to the buzz of Plaza Mayor and the frantic fun of Freddies. Head to the Sunset Terrace for a breather\, a cocktail or a quick reset before diving straight back into the heart of all the action. Sign up for the free guestlist using the link below.
URL:https://white-ibiza.com/ibiza-calendar/melon-bomb-at-pikes-ibiza-3/2026-06-04/
LOCATION:Pikes Ibiza\, Camí de Sa Vorera\, Sant Antoni de Portmany\, Is\, 07820\, Spain
CATEGORIES:Nightlife
ATTACH;FMTTYPE=image/jpeg:https://white-ibiza.com/wp-content/uploads/2026/04/white-ibiza-club-calendar-pikes-ibiza-melon-bomb-2026.jpeg
GEO:38.986598;1.3254823
X-APPLE-STRUCTURED-LOCATION;VALUE=URI;X-ADDRESS=Pikes Ibiza Camí de Sa Vorera Sant Antoni de Portmany Is 07820 Spain;X-APPLE-RADIUS=500;X-TITLE=Camí de Sa Vorera:geo:1.3254823,38.986598
END:VEVENT
BEGIN:VEVENT
DTSTART;TZID=Europe/Madrid:20260709T210000
DTEND;TZID=Europe/Madrid:20260710T040000
DTSTAMP:20260423T195120
CREATED:20260423T143756Z
LAST-MODIFIED:20260423T143756Z
UID:10032092-1783630800-1783656000@white-ibiza.com
SUMMARY:Melon Bomb at Pikes Ibiza
DESCRIPTION:Back where it all began\, Ibiza’s beloved disco mischief-makers Melon Bomb return to Pikes Ibiza for their 11th season of shoulder shimmies and hip-swinging moments beneath the glitter of the legendary Freddies mirror ball. Part of the Pikes family since day dot\, this monthly residency has become a firm fixture on the island’s social calendar\, drawing a loyal crowd of locals and clued-up visitors\, year after year after year.  \nHands-in-the-air anthems and a few flashes of rave nostalgia woven in for good measure from DJs Paul Reynolds\, Scott Gray\, Ben Santiago and Corbi create that signature Melon Bomb energy from start to finish. Expect a packed dance floor\, plenty of familiar faces and rib-tickling musical fun all night long\, from the blissed out poolside vibes to the buzz of Plaza Mayor and the frantic fun of Freddies. Head to the Sunset Terrace for a breather\, a cocktail or a quick reset before diving straight back into the heart of all the action. Sign up for the free guestlist using the link below.
URL:https://white-ibiza.com/ibiza-calendar/melon-bomb-at-pikes-ibiza-3/2026-07-09/
LOCATION:Pikes Ibiza\, Camí de Sa Vorera\, Sant Antoni de Portmany\, Is\, 07820\, Spain
CATEGORIES:Nightlife
ATTACH;FMTTYPE=image/jpeg:https://white-ibiza.com/wp-content/uploads/2026/04/white-ibiza-club-calendar-pikes-ibiza-melon-bomb-2026.jpeg
GEO:38.986598;1.3254823
X-APPLE-STRUCTURED-LOCATION;VALUE=URI;X-ADDRESS=Pikes Ibiza Camí de Sa Vorera Sant Antoni de Portmany Is 07820 Spain;X-APPLE-RADIUS=500;X-TITLE=Camí de Sa Vorera:geo:1.3254823,38.986598
END:VEVENT
BEGIN:VEVENT
DTSTART;TZID=Europe/Madrid:20260806T210000
DTEND;TZID=Europe/Madrid:20260807T040000
DTSTAMP:20260423T195120
CREATED:20260423T143756Z
LAST-MODIFIED:20260423T143756Z
UID:10032093-1786050000-1786075200@white-ibiza.com
SUMMARY:Melon Bomb at Pikes Ibiza
DESCRIPTION:Back where it all began\, Ibiza’s beloved disco mischief-makers Melon Bomb return to Pikes Ibiza for their 11th season of shoulder shimmies and hip-swinging moments beneath the glitter of the legendary Freddies mirror ball. Part of the Pikes family since day dot\, this monthly residency has become a firm fixture on the island’s social calendar\, drawing a loyal crowd of locals and clued-up visitors\, year after year after year.  \nHands-in-the-air anthems and a few flashes of rave nostalgia woven in for good measure from DJs Paul Reynolds\, Scott Gray\, Ben Santiago and Corbi create that signature Melon Bomb energy from start to finish. Expect a packed dance floor\, plenty of familiar faces and rib-tickling musical fun all night long\, from the blissed out poolside vibes to the buzz of Plaza Mayor and the frantic fun of Freddies. Head to the Sunset Terrace for a breather\, a cocktail or a quick reset before diving straight back into the heart of all the action. Sign up for the free guestlist using the link below.
URL:https://white-ibiza.com/ibiza-calendar/melon-bomb-at-pikes-ibiza-3/2026-08-06/
LOCATION:Pikes Ibiza\, Camí de Sa Vorera\, Sant Antoni de Portmany\, Is\, 07820\, Spain
CATEGORIES:Nightlife
ATTACH;FMTTYPE=image/jpeg:https://white-ibiza.com/wp-content/uploads/2026/04/white-ibiza-club-calendar-pikes-ibiza-melon-bomb-2026.jpeg
GEO:38.986598;1.3254823
X-APPLE-STRUCTURED-LOCATION;VALUE=URI;X-ADDRESS=Pikes Ibiza Camí de Sa Vorera Sant Antoni de Portmany Is 07820 Spain;X-APPLE-RADIUS=500;X-TITLE=Camí de Sa Vorera:geo:1.3254823,38.986598
END:VEVENT
BEGIN:VEVENT
DTSTART;TZID=Europe/Madrid:20260917T210000
DTEND;TZID=Europe/Madrid:20260918T040000
DTSTAMP:20260423T195120
CREATED:20260423T143756Z
LAST-MODIFIED:20260423T143756Z
UID:10032094-1789678800-1789704000@white-ibiza.com
SUMMARY:Melon Bomb at Pikes Ibiza
DESCRIPTION:Back where it all began\, Ibiza’s beloved disco mischief-makers Melon Bomb return to Pikes Ibiza for their 11th season of shoulder shimmies and hip-swinging moments beneath the glitter of the legendary Freddies mirror ball. Part of the Pikes family since day dot\, this monthly residency has become a firm fixture on the island’s social calendar\, drawing a loyal crowd of locals and clued-up visitors\, year after year after year.  \nHands-in-the-air anthems and a few flashes of rave nostalgia woven in for good measure from DJs Paul Reynolds\, Scott Gray\, Ben Santiago and Corbi create that signature Melon Bomb energy from start to finish. Expect a packed dance floor\, plenty of familiar faces and rib-tickling musical fun all night long\, from the blissed out poolside vibes to the buzz of Plaza Mayor and the frantic fun of Freddies. Head to the Sunset Terrace for a breather\, a cocktail or a quick reset before diving straight back into the heart of all the action. Sign up for the free guestlist using the link below.
URL:https://white-ibiza.com/ibiza-calendar/melon-bomb-at-pikes-ibiza-3/2026-09-17/
LOCATION:Pikes Ibiza\, Camí de Sa Vorera\, Sant Antoni de Portmany\, Is\, 07820\, Spain
CATEGORIES:Nightlife
ATTACH;FMTTYPE=image/jpeg:https://white-ibiza.com/wp-content/uploads/2026/04/white-ibiza-club-calendar-pikes-ibiza-melon-bomb-2026.jpeg
GEO:38.986598;1.3254823
X-APPLE-STRUCTURED-LOCATION;VALUE=URI;X-ADDRESS=Pikes Ibiza Camí de Sa Vorera Sant Antoni de Portmany Is 07820 Spain;X-APPLE-RADIUS=500;X-TITLE=Camí de Sa Vorera:geo:1.3254823,38.986598
END:VEVENT
BEGIN:VEVENT
DTSTART;TZID=Europe/Madrid:20261009T210000
DTEND;TZID=Europe/Madrid:20261010T040000
DTSTAMP:20260423T195120
CREATED:20260423T143756Z
LAST-MODIFIED:20260423T143756Z
UID:10032095-1791579600-1791604800@white-ibiza.com
SUMMARY:Melon Bomb at Pikes Ibiza
DESCRIPTION:Back where it all began\, Ibiza’s beloved disco mischief-makers Melon Bomb return to Pikes Ibiza for their 11th season of shoulder shimmies and hip-swinging moments beneath the glitter of the legendary Freddies mirror ball. Part of the Pikes family since day dot\, this monthly residency has become a firm fixture on the island’s social calendar\, drawing a loyal crowd of locals and clued-up visitors\, year after year after year.  \nHands-in-the-air anthems and a few flashes of rave nostalgia woven in for good measure from DJs Paul Reynolds\, Scott Gray\, Ben Santiago and Corbi create that signature Melon Bomb energy from start to finish. Expect a packed dance floor\, plenty of familiar faces and rib-tickling musical fun all night long\, from the blissed out poolside vibes to the buzz of Plaza Mayor and the frantic fun of Freddies. Head to the Sunset Terrace for a breather\, a cocktail or a quick reset before diving straight back into the heart of all the action. Sign up for the free guestlist using the link below.
URL:https://white-ibiza.com/ibiza-calendar/melon-bomb-at-pikes-ibiza-3/2026-10-09/
LOCATION:Pikes Ibiza\, Camí de Sa Vorera\, Sant Antoni de Portmany\, Is\, 07820\, Spain
CATEGORIES:Nightlife
ATTACH;FMTTYPE=image/jpeg:https://white-ibiza.com/wp-content/uploads/2026/04/white-ibiza-club-calendar-pikes-ibiza-melon-bomb-2026.jpeg
GEO:38.986598;1.3254823
X-APPLE-STRUCTURED-LOCATION;VALUE=URI;X-ADDRESS=Pikes Ibiza Camí de Sa Vorera Sant Antoni de Portmany Is 07820 Spain;X-APPLE-RADIUS=500;X-TITLE=Camí de Sa Vorera:geo:1.3254823,38.986598
END:VEVENT
BEGIN:VEVENT
DTSTART;TZID=Europe/Madrid:20261022T210000
DTEND;TZID=Europe/Madrid:20261023T040000
DTSTAMP:20260423T195120
CREATED:20260423T143756Z
LAST-MODIFIED:20260423T143756Z
UID:10032096-1792702800-1792728000@white-ibiza.com
SUMMARY:Melon Bomb at Pikes Ibiza
DESCRIPTION:Back where it all began\, Ibiza’s beloved disco mischief-makers Melon Bomb return to Pikes Ibiza for their 11th season of shoulder shimmies and hip-swinging moments beneath the glitter of the legendary Freddies mirror ball. Part of the Pikes family since day dot\, this monthly residency has become a firm fixture on the island’s social calendar\, drawing a loyal crowd of locals and clued-up visitors\, year after year after year.  \nHands-in-the-air anthems and a few flashes of rave nostalgia woven in for good measure from DJs Paul Reynolds\, Scott Gray\, Ben Santiago and Corbi create that signature Melon Bomb energy from start to finish. Expect a packed dance floor\, plenty of familiar faces and rib-tickling musical fun all night long\, from the blissed out poolside vibes to the buzz of Plaza Mayor and the frantic fun of Freddies. Head to the Sunset Terrace for a breather\, a cocktail or a quick reset before diving straight back into the heart of all the action. Sign up for the free guestlist using the link below.
URL:https://white-ibiza.com/ibiza-calendar/melon-bomb-at-pikes-ibiza-3/2026-10-22/
LOCATION:Pikes Ibiza\, Camí de Sa Vorera\, Sant Antoni de Portmany\, Is\, 07820\, Spain
CATEGORIES:Nightlife
ATTACH;FMTTYPE=image/jpeg:https://white-ibiza.com/wp-content/uploads/2026/04/white-ibiza-club-calendar-pikes-ibiza-melon-bomb-2026.jpeg
GEO:38.986598;1.3254823
X-APPLE-STRUCTURED-LOCATION;VALUE=URI;X-ADDRESS=Pikes Ibiza Camí de Sa Vorera Sant Antoni de Portmany Is 07820 Spain;X-APPLE-RADIUS=500;X-TITLE=Camí de Sa Vorera:geo:1.3254823,38.986598
END:VEVENT
END:VCALENDAR