BEGIN:VCALENDAR
VERSION:2.0
PRODID:-//WHITE IBIZA - ECPv6.6.0.2//NONSGML v1.0//EN
CALSCALE:GREGORIAN
METHOD:PUBLISH
X-WR-CALNAME:WHITE IBIZA
X-ORIGINAL-URL:https://white-ibiza.com
X-WR-CALDESC:Events for WHITE IBIZA
REFRESH-INTERVAL;VALUE=DURATION:PT1H
X-Robots-Tag:noindex
X-PUBLISHED-TTL:PT1H
BEGIN:VTIMEZONE
TZID:Europe/Madrid
BEGIN:DAYLIGHT
TZOFFSETFROM:+0100
TZOFFSETTO:+0200
TZNAME:CEST
DTSTART:20260329T010000
END:DAYLIGHT
BEGIN:STANDARD
TZOFFSETFROM:+0200
TZOFFSETTO:+0100
TZNAME:CET
DTSTART:20261025T010000
END:STANDARD
END:VTIMEZONE
BEGIN:VEVENT
DTSTART;VALUE=DATE:20261004
DTEND;VALUE=DATE:20261006
DTSTAMP:20260424T180459
CREATED:20260423T095633Z
LAST-MODIFIED:20260423T095633Z
UID:10031686-1791097200-1791183599@white-ibiza.com
SUMMARY:COSMOS WEEK at Cala San Miguel Ibiza Resort
DESCRIPTION:COSMOS WEEK at Cala San Miguel Ibiza Resort lifts off on Monday August 10\, 2026\, and runs until Friday August 14 where five days of stargazing\, stillness and slow luxury await at one of the island’s most breathtaking natural settings. Perched above the tranquil bay of Cala San Miguel in Ibiza’s wild and wonderful north\, this adults-only retreat is the perfect spot to catch both the solar eclipse and the peak of the Perseid meteor shower\, making the sky above as spectacular as the setting below. \nCala San Miguel Ibiza Resort (part of the Curio Collection by Hilton) provides one of the most beautiful backdrops for yoga\, meditation and a program designed to reconnect mind\, body and the cosmos. Places are limited\, so if the idea of lying on a sun-warmed terrace watching shooting stars arc over the Mediterranean sounds like your kind of magic\, now is very much the time to book your place before it’s gone. 
URL:https://white-ibiza.com/ibiza-calendar/cosmos-week-at-cala-san-miguel-ibiza-resort/2026-10-04/
CATEGORIES:Wellness,Culture
ATTACH;FMTTYPE=image/jpeg:https://white-ibiza.com/wp-content/uploads/2026/04/white-ibiza-calendar-cala-san-miguel-ibiza-resort-cosmos-week-2026.jpeg
END:VEVENT
BEGIN:VEVENT
DTSTART;VALUE=DATE:20261005
DTEND;VALUE=DATE:20261007
DTSTAMP:20260424T180459
CREATED:20260423T095633Z
LAST-MODIFIED:20260423T095633Z
UID:10031687-1791183600-1791269999@white-ibiza.com
SUMMARY:COSMOS WEEK at Cala San Miguel Ibiza Resort
DESCRIPTION:COSMOS WEEK at Cala San Miguel Ibiza Resort lifts off on Monday August 10\, 2026\, and runs until Friday August 14 where five days of stargazing\, stillness and slow luxury await at one of the island’s most breathtaking natural settings. Perched above the tranquil bay of Cala San Miguel in Ibiza’s wild and wonderful north\, this adults-only retreat is the perfect spot to catch both the solar eclipse and the peak of the Perseid meteor shower\, making the sky above as spectacular as the setting below. \nCala San Miguel Ibiza Resort (part of the Curio Collection by Hilton) provides one of the most beautiful backdrops for yoga\, meditation and a program designed to reconnect mind\, body and the cosmos. Places are limited\, so if the idea of lying on a sun-warmed terrace watching shooting stars arc over the Mediterranean sounds like your kind of magic\, now is very much the time to book your place before it’s gone. 
URL:https://white-ibiza.com/ibiza-calendar/cosmos-week-at-cala-san-miguel-ibiza-resort/2026-10-05/
CATEGORIES:Wellness,Culture
ATTACH;FMTTYPE=image/jpeg:https://white-ibiza.com/wp-content/uploads/2026/04/white-ibiza-calendar-cala-san-miguel-ibiza-resort-cosmos-week-2026.jpeg
END:VEVENT
BEGIN:VEVENT
DTSTART;VALUE=DATE:20261006
DTEND;VALUE=DATE:20261008
DTSTAMP:20260424T180459
CREATED:20260423T095633Z
LAST-MODIFIED:20260423T095633Z
UID:10031688-1791270000-1791356399@white-ibiza.com
SUMMARY:COSMOS WEEK at Cala San Miguel Ibiza Resort
DESCRIPTION:COSMOS WEEK at Cala San Miguel Ibiza Resort lifts off on Monday August 10\, 2026\, and runs until Friday August 14 where five days of stargazing\, stillness and slow luxury await at one of the island’s most breathtaking natural settings. Perched above the tranquil bay of Cala San Miguel in Ibiza’s wild and wonderful north\, this adults-only retreat is the perfect spot to catch both the solar eclipse and the peak of the Perseid meteor shower\, making the sky above as spectacular as the setting below. \nCala San Miguel Ibiza Resort (part of the Curio Collection by Hilton) provides one of the most beautiful backdrops for yoga\, meditation and a program designed to reconnect mind\, body and the cosmos. Places are limited\, so if the idea of lying on a sun-warmed terrace watching shooting stars arc over the Mediterranean sounds like your kind of magic\, now is very much the time to book your place before it’s gone. 
URL:https://white-ibiza.com/ibiza-calendar/cosmos-week-at-cala-san-miguel-ibiza-resort/2026-10-06/
CATEGORIES:Wellness,Culture
ATTACH;FMTTYPE=image/jpeg:https://white-ibiza.com/wp-content/uploads/2026/04/white-ibiza-calendar-cala-san-miguel-ibiza-resort-cosmos-week-2026.jpeg
END:VEVENT
BEGIN:VEVENT
DTSTART;VALUE=DATE:20261007
DTEND;VALUE=DATE:20261009
DTSTAMP:20260424T180459
CREATED:20260423T095633Z
LAST-MODIFIED:20260423T095633Z
UID:10031689-1791356400-1791442799@white-ibiza.com
SUMMARY:COSMOS WEEK at Cala San Miguel Ibiza Resort
DESCRIPTION:COSMOS WEEK at Cala San Miguel Ibiza Resort lifts off on Monday August 10\, 2026\, and runs until Friday August 14 where five days of stargazing\, stillness and slow luxury await at one of the island’s most breathtaking natural settings. Perched above the tranquil bay of Cala San Miguel in Ibiza’s wild and wonderful north\, this adults-only retreat is the perfect spot to catch both the solar eclipse and the peak of the Perseid meteor shower\, making the sky above as spectacular as the setting below. \nCala San Miguel Ibiza Resort (part of the Curio Collection by Hilton) provides one of the most beautiful backdrops for yoga\, meditation and a program designed to reconnect mind\, body and the cosmos. Places are limited\, so if the idea of lying on a sun-warmed terrace watching shooting stars arc over the Mediterranean sounds like your kind of magic\, now is very much the time to book your place before it’s gone. 
URL:https://white-ibiza.com/ibiza-calendar/cosmos-week-at-cala-san-miguel-ibiza-resort/2026-10-07/
CATEGORIES:Wellness,Culture
ATTACH;FMTTYPE=image/jpeg:https://white-ibiza.com/wp-content/uploads/2026/04/white-ibiza-calendar-cala-san-miguel-ibiza-resort-cosmos-week-2026.jpeg
END:VEVENT
BEGIN:VEVENT
DTSTART;VALUE=DATE:20261008
DTEND;VALUE=DATE:20261010
DTSTAMP:20260424T180459
CREATED:20260423T095633Z
LAST-MODIFIED:20260423T095633Z
UID:10031690-1791442800-1791529199@white-ibiza.com
SUMMARY:COSMOS WEEK at Cala San Miguel Ibiza Resort
DESCRIPTION:COSMOS WEEK at Cala San Miguel Ibiza Resort lifts off on Monday August 10\, 2026\, and runs until Friday August 14 where five days of stargazing\, stillness and slow luxury await at one of the island’s most breathtaking natural settings. Perched above the tranquil bay of Cala San Miguel in Ibiza’s wild and wonderful north\, this adults-only retreat is the perfect spot to catch both the solar eclipse and the peak of the Perseid meteor shower\, making the sky above as spectacular as the setting below. \nCala San Miguel Ibiza Resort (part of the Curio Collection by Hilton) provides one of the most beautiful backdrops for yoga\, meditation and a program designed to reconnect mind\, body and the cosmos. Places are limited\, so if the idea of lying on a sun-warmed terrace watching shooting stars arc over the Mediterranean sounds like your kind of magic\, now is very much the time to book your place before it’s gone. 
URL:https://white-ibiza.com/ibiza-calendar/cosmos-week-at-cala-san-miguel-ibiza-resort/2026-10-08/
CATEGORIES:Wellness,Culture
ATTACH;FMTTYPE=image/jpeg:https://white-ibiza.com/wp-content/uploads/2026/04/white-ibiza-calendar-cala-san-miguel-ibiza-resort-cosmos-week-2026.jpeg
END:VEVENT
BEGIN:VEVENT
DTSTART;VALUE=DATE:20261009
DTEND;VALUE=DATE:20261011
DTSTAMP:20260424T180459
CREATED:20260423T095633Z
LAST-MODIFIED:20260423T095633Z
UID:10031691-1791529200-1791615599@white-ibiza.com
SUMMARY:COSMOS WEEK at Cala San Miguel Ibiza Resort
DESCRIPTION:COSMOS WEEK at Cala San Miguel Ibiza Resort lifts off on Monday August 10\, 2026\, and runs until Friday August 14 where five days of stargazing\, stillness and slow luxury await at one of the island’s most breathtaking natural settings. Perched above the tranquil bay of Cala San Miguel in Ibiza’s wild and wonderful north\, this adults-only retreat is the perfect spot to catch both the solar eclipse and the peak of the Perseid meteor shower\, making the sky above as spectacular as the setting below. \nCala San Miguel Ibiza Resort (part of the Curio Collection by Hilton) provides one of the most beautiful backdrops for yoga\, meditation and a program designed to reconnect mind\, body and the cosmos. Places are limited\, so if the idea of lying on a sun-warmed terrace watching shooting stars arc over the Mediterranean sounds like your kind of magic\, now is very much the time to book your place before it’s gone. 
URL:https://white-ibiza.com/ibiza-calendar/cosmos-week-at-cala-san-miguel-ibiza-resort/2026-10-09/
CATEGORIES:Wellness,Culture
ATTACH;FMTTYPE=image/jpeg:https://white-ibiza.com/wp-content/uploads/2026/04/white-ibiza-calendar-cala-san-miguel-ibiza-resort-cosmos-week-2026.jpeg
END:VEVENT
BEGIN:VEVENT
DTSTART;VALUE=DATE:20261010
DTEND;VALUE=DATE:20261012
DTSTAMP:20260424T180459
CREATED:20260423T095633Z
LAST-MODIFIED:20260423T095633Z
UID:10031692-1791615600-1791701999@white-ibiza.com
SUMMARY:COSMOS WEEK at Cala San Miguel Ibiza Resort
DESCRIPTION:COSMOS WEEK at Cala San Miguel Ibiza Resort lifts off on Monday August 10\, 2026\, and runs until Friday August 14 where five days of stargazing\, stillness and slow luxury await at one of the island’s most breathtaking natural settings. Perched above the tranquil bay of Cala San Miguel in Ibiza’s wild and wonderful north\, this adults-only retreat is the perfect spot to catch both the solar eclipse and the peak of the Perseid meteor shower\, making the sky above as spectacular as the setting below. \nCala San Miguel Ibiza Resort (part of the Curio Collection by Hilton) provides one of the most beautiful backdrops for yoga\, meditation and a program designed to reconnect mind\, body and the cosmos. Places are limited\, so if the idea of lying on a sun-warmed terrace watching shooting stars arc over the Mediterranean sounds like your kind of magic\, now is very much the time to book your place before it’s gone. 
URL:https://white-ibiza.com/ibiza-calendar/cosmos-week-at-cala-san-miguel-ibiza-resort/2026-10-10/
CATEGORIES:Wellness,Culture
ATTACH;FMTTYPE=image/jpeg:https://white-ibiza.com/wp-content/uploads/2026/04/white-ibiza-calendar-cala-san-miguel-ibiza-resort-cosmos-week-2026.jpeg
END:VEVENT
BEGIN:VEVENT
DTSTART;TZID=Europe/Madrid:20261010T090000
DTEND;TZID=Europe/Madrid:20261010T100000
DTSTAMP:20260424T180459
CREATED:20260423T095039Z
LAST-MODIFIED:20260423T095039Z
UID:10031623-1791622800-1791626400@white-ibiza.com
SUMMARY:Yoga Sessions at La Torre Ibiza
DESCRIPTION:Stretch your way into the weekend at one of Ibiza’s most soul-soothing settings\, as the sandy rocks below La Torre Ibiza become an alfresco yoga studio every weekend through the summer. The glorious views alone are enough to calm your mind and open your heart. Saturdays start bright and early at 9am\, while Sundays begin gently at 9.30am.   \nSet above the sea in Cap Negret\, this peaceful spot feels miles away from the buzz of San Antonio\, with just the sounds of nature\, the scent of salt on the breeze and a little flow to set your day right. Arrive early so you have plenty of time to settle on the mat before class starts\, then stay for breakfast at La Torre Ibiza\, soak up the morning light and savour the start of the day\, Ibiza style.
URL:https://white-ibiza.com/ibiza-calendar/yoga-sessions-at-la-torre-ibiza-2/2026-10-10/
LOCATION:La Torre Ibiza\, Carretera Cap Negret\, Sant Antoni de Portmany\, Islas Baleares\, 07820\, Spain
CATEGORIES:Wellness
ATTACH;FMTTYPE=image/jpeg:https://white-ibiza.com/wp-content/uploads/2025/07/white-ibiza-calendar-la-torre-ibiza-yoga-2025-01.jpeg
GEO:38.9981354;1.2855332
X-APPLE-STRUCTURED-LOCATION;VALUE=URI;X-ADDRESS=La Torre Ibiza Carretera Cap Negret Sant Antoni de Portmany Islas Baleares 07820 Spain;X-APPLE-RADIUS=500;X-TITLE=Carretera Cap Negret:geo:1.2855332,38.9981354
END:VEVENT
BEGIN:VEVENT
DTSTART;VALUE=DATE:20261011
DTEND;VALUE=DATE:20261013
DTSTAMP:20260424T180459
CREATED:20260423T095633Z
LAST-MODIFIED:20260423T095633Z
UID:10031693-1791702000-1791788399@white-ibiza.com
SUMMARY:COSMOS WEEK at Cala San Miguel Ibiza Resort
DESCRIPTION:COSMOS WEEK at Cala San Miguel Ibiza Resort lifts off on Monday August 10\, 2026\, and runs until Friday August 14 where five days of stargazing\, stillness and slow luxury await at one of the island’s most breathtaking natural settings. Perched above the tranquil bay of Cala San Miguel in Ibiza’s wild and wonderful north\, this adults-only retreat is the perfect spot to catch both the solar eclipse and the peak of the Perseid meteor shower\, making the sky above as spectacular as the setting below. \nCala San Miguel Ibiza Resort (part of the Curio Collection by Hilton) provides one of the most beautiful backdrops for yoga\, meditation and a program designed to reconnect mind\, body and the cosmos. Places are limited\, so if the idea of lying on a sun-warmed terrace watching shooting stars arc over the Mediterranean sounds like your kind of magic\, now is very much the time to book your place before it’s gone. 
URL:https://white-ibiza.com/ibiza-calendar/cosmos-week-at-cala-san-miguel-ibiza-resort/2026-10-11/
CATEGORIES:Wellness,Culture
ATTACH;FMTTYPE=image/jpeg:https://white-ibiza.com/wp-content/uploads/2026/04/white-ibiza-calendar-cala-san-miguel-ibiza-resort-cosmos-week-2026.jpeg
END:VEVENT
BEGIN:VEVENT
DTSTART;TZID=Europe/Madrid:20261011T090000
DTEND;TZID=Europe/Madrid:20261011T100000
DTSTAMP:20260424T180459
CREATED:20260423T095039Z
LAST-MODIFIED:20260423T095039Z
UID:10031624-1791709200-1791712800@white-ibiza.com
SUMMARY:Yoga Sessions at La Torre Ibiza
DESCRIPTION:Stretch your way into the weekend at one of Ibiza’s most soul-soothing settings\, as the sandy rocks below La Torre Ibiza become an alfresco yoga studio every weekend through the summer. The glorious views alone are enough to calm your mind and open your heart. Saturdays start bright and early at 9am\, while Sundays begin gently at 9.30am.   \nSet above the sea in Cap Negret\, this peaceful spot feels miles away from the buzz of San Antonio\, with just the sounds of nature\, the scent of salt on the breeze and a little flow to set your day right. Arrive early so you have plenty of time to settle on the mat before class starts\, then stay for breakfast at La Torre Ibiza\, soak up the morning light and savour the start of the day\, Ibiza style.
URL:https://white-ibiza.com/ibiza-calendar/yoga-sessions-at-la-torre-ibiza-2/2026-10-11/
LOCATION:La Torre Ibiza\, Carretera Cap Negret\, Sant Antoni de Portmany\, Islas Baleares\, 07820\, Spain
CATEGORIES:Wellness
ATTACH;FMTTYPE=image/jpeg:https://white-ibiza.com/wp-content/uploads/2025/07/white-ibiza-calendar-la-torre-ibiza-yoga-2025-01.jpeg
GEO:38.9981354;1.2855332
X-APPLE-STRUCTURED-LOCATION;VALUE=URI;X-ADDRESS=La Torre Ibiza Carretera Cap Negret Sant Antoni de Portmany Islas Baleares 07820 Spain;X-APPLE-RADIUS=500;X-TITLE=Carretera Cap Negret:geo:1.2855332,38.9981354
END:VEVENT
END:VCALENDAR