BEGIN:VCALENDAR
VERSION:2.0
PRODID:-//WHITE IBIZA - ECPv6.6.0.2//NONSGML v1.0//EN
CALSCALE:GREGORIAN
METHOD:PUBLISH
X-ORIGINAL-URL:https://white-ibiza.com
X-WR-CALDESC:Events for WHITE IBIZA
REFRESH-INTERVAL;VALUE=DURATION:PT1H
X-Robots-Tag:noindex
X-PUBLISHED-TTL:PT1H
BEGIN:VTIMEZONE
TZID:Europe/Madrid
BEGIN:DAYLIGHT
TZOFFSETFROM:+0100
TZOFFSETTO:+0200
TZNAME:CEST
DTSTART:20260329T010000
END:DAYLIGHT
BEGIN:STANDARD
TZOFFSETFROM:+0200
TZOFFSETTO:+0100
TZNAME:CET
DTSTART:20261025T010000
END:STANDARD
END:VTIMEZONE
BEGIN:VEVENT
DTSTART;VALUE=DATE:20260501
DTEND;VALUE=DATE:20260503
DTSTAMP:20260423T192133
CREATED:20260423T093426Z
LAST-MODIFIED:20260423T093426Z
UID:10031571-1777618800-1777705199@white-ibiza.com
SUMMARY:2026 Opening at 7Pines Resort Ibiza
DESCRIPTION:A new season begins at 7Pines Resort Ibiza on Friday May 01\, 2026\, as this breathtaking clifftop retreat above one of the island’s last remaining secret coves throws open its doors and another summer of sophisticated luxury begins. Perched on the western edge of Ibiza with nothing but the azure hues of the Mediterranean sea and sky stretching out before you\, plus the iconic silhouette of Es Vedrá atop the horizon\, there are few more spectacular places on earth to shake off the last of those pre-season cobwebs.  \nFrom lazy lunches by the Laguna Pool to sunset rituals at the seafront Cone Club\, beachside cocktails at the Pershing Yacht Terrace and some deeply restorative sessions at Pure Seven spa\, 7Pines Resort Ibiza slots effortlessly back into the rhythm of island life from day dot. Early birds and returning regulars would do well to get their reservations in now as spaces are always limited. 
URL:https://white-ibiza.com/ibiza-calendar/2026-opening-at-7pines-resort-ibiza/
LOCATION:7Pines Resort Ibiza\, Carrer sa Conillera\, Sant Josep de sa Talaia\, Islas Baleares\, 07829\, Spain
CATEGORIES:Wellness,Foodies
ATTACH;FMTTYPE=image/jpeg:https://white-ibiza.com/wp-content/uploads/2024/04/white-ibiza-hotel-luxury-resort-7pines-resort-ibiza-2025-15.jpeg
GEO:38.9518138;1.2238867
X-APPLE-STRUCTURED-LOCATION;VALUE=URI;X-ADDRESS=7Pines Resort Ibiza Carrer sa Conillera Sant Josep de sa Talaia Islas Baleares 07829 Spain;X-APPLE-RADIUS=500;X-TITLE=Carrer sa Conillera:geo:1.2238867,38.9518138
END:VEVENT
END:VCALENDAR