BEGIN:VCALENDAR
VERSION:2.0
PRODID:-//WHITE IBIZA - ECPv6.6.0.2//NONSGML v1.0//EN
CALSCALE:GREGORIAN
METHOD:PUBLISH
X-WR-CALNAME:WHITE IBIZA
X-ORIGINAL-URL:https://white-ibiza.com
X-WR-CALDESC:Events for WHITE IBIZA
REFRESH-INTERVAL;VALUE=DURATION:PT1H
X-Robots-Tag:noindex
X-PUBLISHED-TTL:PT1H
BEGIN:VTIMEZONE
TZID:Europe/Madrid
BEGIN:DAYLIGHT
TZOFFSETFROM:+0100
TZOFFSETTO:+0200
TZNAME:CEST
DTSTART:20260329T010000
END:DAYLIGHT
BEGIN:STANDARD
TZOFFSETFROM:+0200
TZOFFSETTO:+0100
TZNAME:CET
DTSTART:20261025T010000
END:STANDARD
END:VTIMEZONE
BEGIN:VEVENT
DTSTART;VALUE=DATE:20260510
DTEND;VALUE=DATE:20260512
DTSTAMP:20260425T173257
CREATED:20260407T101916Z
LAST-MODIFIED:20260407T101916Z
UID:10031347-1778396400-1778482799@white-ibiza.com
SUMMARY:Hyde Ibiza Fest at Hyde Ibiza
DESCRIPTION:Set within the sleepy bay of Cala Llonga\, Hyde Ibiza Fest unfolds over four days at Hyde Hotel\, Ibiza as a gathering of music\, wellness and community. The programme leans into the island’s cultural pulse\, bringing together a mix of collaborations that span Ibiza’s nightlife and creative scene\, from Amnesia Ibiza’s 50th anniversary to a partnership with Club Chinois Ibiza\, alongside the unmistakable spirit of Las Dalias Ibiza woven into the beachside hotel setting.  \nBroadcasts from Pure Ibiza Radio and Ibiza Global Radio kick the tempo in the evenings\, while the daytime offering shifts gears into something slower and more restorative. Sunrise yoga and breathwork sessions\, immersive tastings and curated art experiences with Sarah Main are threaded throughout the weekend.  \nWith a meaningful local connection at its heart\, supporting the Ibiza and Formentera Against Cancer Association with a very special Golf Tournament Against Cancer\, an added sense of purpose is brought to the festivities. Its inclusive format feels perfectly in tune with the island right now\, where music\, wellbeing and community sit side by side rather than in totally separate lanes.  
URL:https://white-ibiza.com/ibiza-calendar/hyde-ibiza-fest-at-hyde-ibiza/2026-05-10/
LOCATION:Hyde Ibiza\, Cala Llonga\, Islas Baleares\, 07849\, Spain
CATEGORIES:Wellness,Culture
ATTACH;FMTTYPE=image/jpeg:https://white-ibiza.com/wp-content/uploads/2025/08/white-ibiza-calendar-hyde-pool-2025.jpg
GEO:38.9557105;1.514811
END:VEVENT
BEGIN:VEVENT
DTSTART;VALUE=DATE:20260511
DTEND;VALUE=DATE:20260513
DTSTAMP:20260425T173257
CREATED:20260407T101916Z
LAST-MODIFIED:20260407T101916Z
UID:10031348-1778482800-1778569199@white-ibiza.com
SUMMARY:Hyde Ibiza Fest at Hyde Ibiza
DESCRIPTION:Set within the sleepy bay of Cala Llonga\, Hyde Ibiza Fest unfolds over four days at Hyde Hotel\, Ibiza as a gathering of music\, wellness and community. The programme leans into the island’s cultural pulse\, bringing together a mix of collaborations that span Ibiza’s nightlife and creative scene\, from Amnesia Ibiza’s 50th anniversary to a partnership with Club Chinois Ibiza\, alongside the unmistakable spirit of Las Dalias Ibiza woven into the beachside hotel setting.  \nBroadcasts from Pure Ibiza Radio and Ibiza Global Radio kick the tempo in the evenings\, while the daytime offering shifts gears into something slower and more restorative. Sunrise yoga and breathwork sessions\, immersive tastings and curated art experiences with Sarah Main are threaded throughout the weekend.  \nWith a meaningful local connection at its heart\, supporting the Ibiza and Formentera Against Cancer Association with a very special Golf Tournament Against Cancer\, an added sense of purpose is brought to the festivities. Its inclusive format feels perfectly in tune with the island right now\, where music\, wellbeing and community sit side by side rather than in totally separate lanes.  
URL:https://white-ibiza.com/ibiza-calendar/hyde-ibiza-fest-at-hyde-ibiza/2026-05-11/
LOCATION:Hyde Ibiza\, Cala Llonga\, Islas Baleares\, 07849\, Spain
CATEGORIES:Wellness,Culture
ATTACH;FMTTYPE=image/jpeg:https://white-ibiza.com/wp-content/uploads/2025/08/white-ibiza-calendar-hyde-pool-2025.jpg
GEO:38.9557105;1.514811
END:VEVENT
BEGIN:VEVENT
DTSTART;TZID=Europe/Madrid:20260511T090000
DTEND;TZID=Europe/Madrid:20260511T180000
DTSTAMP:20260425T173257
CREATED:20260326T160316Z
LAST-MODIFIED:20260326T160413Z
UID:10031291-1778490000-1778522400@white-ibiza.com
SUMMARY:Terres Margantes | Una Altra Arcàdia Exhibition at Estudio Laterna
DESCRIPTION:The creative talents of Enric Majoral and Jordi Sarrà come vividly to life this spring via Terres Margantes | Una Altra Arcàdia at Estudio Laterna – an exhibition that offers two artistic views on the earthy terrain of Formentera from quite differing disciplines.  Majoral\, the jeweller and sculptor extraordinaire\, brings his nature–inspired bronze sculptures to the Santa Gertrudis artist’s haven\, where they can be seen alongside the captivating photographs of Sarrà\, whose lens records an alternate way to enjoy each piece. The Terres Margantes | Una Altra Arcàdia exhibition at Estudio Laterna is showing every weekday until Wednesday May 27\, 2026\, and drop-ins are always welcome.
URL:https://white-ibiza.com/ibiza-calendar/terres-margantes-una-altra-arcadia-exhibition-at-estudio-laterna/2026-05-11/
LOCATION:Estudio Laterna\, Carrer Vénda de Parada\, Santa Gertrudis de Fruitera\, Islas Baleares\, 07814\, Spain
CATEGORIES:Culture
ATTACH;FMTTYPE=image/jpeg:https://white-ibiza.com/wp-content/uploads/2026/03/white-ibiza-calendar-estudio-laterna-2026.jpeg
GEO:38.9988683;1.4283884
X-APPLE-STRUCTURED-LOCATION;VALUE=URI;X-ADDRESS=Estudio Laterna Carrer Vénda de Parada Santa Gertrudis de Fruitera Islas Baleares 07814 Spain;X-APPLE-RADIUS=500;X-TITLE=Carrer Vénda de Parada:geo:1.4283884,38.9988683
END:VEVENT
BEGIN:VEVENT
DTSTART;TZID=Europe/Madrid:20260512T090000
DTEND;TZID=Europe/Madrid:20260512T180000
DTSTAMP:20260425T173257
CREATED:20260326T160316Z
LAST-MODIFIED:20260326T160413Z
UID:10031292-1778576400-1778608800@white-ibiza.com
SUMMARY:Terres Margantes | Una Altra Arcàdia Exhibition at Estudio Laterna
DESCRIPTION:The creative talents of Enric Majoral and Jordi Sarrà come vividly to life this spring via Terres Margantes | Una Altra Arcàdia at Estudio Laterna – an exhibition that offers two artistic views on the earthy terrain of Formentera from quite differing disciplines.  Majoral\, the jeweller and sculptor extraordinaire\, brings his nature–inspired bronze sculptures to the Santa Gertrudis artist’s haven\, where they can be seen alongside the captivating photographs of Sarrà\, whose lens records an alternate way to enjoy each piece. The Terres Margantes | Una Altra Arcàdia exhibition at Estudio Laterna is showing every weekday until Wednesday May 27\, 2026\, and drop-ins are always welcome.
URL:https://white-ibiza.com/ibiza-calendar/terres-margantes-una-altra-arcadia-exhibition-at-estudio-laterna/2026-05-12/
LOCATION:Estudio Laterna\, Carrer Vénda de Parada\, Santa Gertrudis de Fruitera\, Islas Baleares\, 07814\, Spain
CATEGORIES:Culture
ATTACH;FMTTYPE=image/jpeg:https://white-ibiza.com/wp-content/uploads/2026/03/white-ibiza-calendar-estudio-laterna-2026.jpeg
GEO:38.9988683;1.4283884
X-APPLE-STRUCTURED-LOCATION;VALUE=URI;X-ADDRESS=Estudio Laterna Carrer Vénda de Parada Santa Gertrudis de Fruitera Islas Baleares 07814 Spain;X-APPLE-RADIUS=500;X-TITLE=Carrer Vénda de Parada:geo:1.4283884,38.9988683
END:VEVENT
BEGIN:VEVENT
DTSTART;TZID=Europe/Madrid:20260512T110000
DTEND;TZID=Europe/Madrid:20260512T200000
DTSTAMP:20260425T173257
CREATED:20260416T145950Z
LAST-MODIFIED:20260416T174940Z
UID:10031560-1778583600-1778616000@white-ibiza.com
SUMMARY:Under the Surface Exhibition by Ned Irving at Olas Gallery
DESCRIPTION:A lifelong fascination with water and its ever-shifting reflections was the starting point for Under the Surface – the new exhibition by Ned Irving at Olas Gallery this spring. Born in Ibiza\, Irving takes viewers deep into a watery world where light bounces and colours refract\, creating a kaleidoscopic exploration of what often escapes ordinary perception. \nThrough a series of stunning photographs\, dive into a liminal space that hovers between reality and abstraction in the petite beachside gallery in Santa Eulalia with the exhibition running daily (excluding Sundays and Mondays) between 11am and 2pm\, then again from 5pm until 8pm until Tuesday May 21\, 2026. Olas Gallery was founded by photographer Sofia Gomez Fonzo and is the perfect spot to take in the work of some of the island’s best artists\, photographers and creatives while discovering the artistic spirit of Ibiza. Use the link below to find out more. 
URL:https://white-ibiza.com/ibiza-calendar/under-the-surface-exhibition-by-ned-irving-at-olas-gallery/2026-05-12/
LOCATION:Olas Gallery\, Calle Juan Tur Tur\, Santa Eulalia del Río\, Islas Baleares\, 07840\, Spain
CATEGORIES:Culture
ATTACH;FMTTYPE=image/png:https://white-ibiza.com/wp-content/uploads/2026/04/white-ibiza-calendar-olas-gallery-under-the-surface-exhibition-2026.png
GEO:38.9819402;1.5324936
X-APPLE-STRUCTURED-LOCATION;VALUE=URI;X-ADDRESS=Olas Gallery Calle Juan Tur Tur Santa Eulalia del Río Islas Baleares 07840 Spain;X-APPLE-RADIUS=500;X-TITLE=Calle Juan Tur Tur:geo:1.5324936,38.9819402
END:VEVENT
BEGIN:VEVENT
DTSTART;TZID=Europe/Madrid:20260513T090000
DTEND;TZID=Europe/Madrid:20260513T180000
DTSTAMP:20260425T173257
CREATED:20260326T160316Z
LAST-MODIFIED:20260326T160413Z
UID:10031293-1778662800-1778695200@white-ibiza.com
SUMMARY:Terres Margantes | Una Altra Arcàdia Exhibition at Estudio Laterna
DESCRIPTION:The creative talents of Enric Majoral and Jordi Sarrà come vividly to life this spring via Terres Margantes | Una Altra Arcàdia at Estudio Laterna – an exhibition that offers two artistic views on the earthy terrain of Formentera from quite differing disciplines.  Majoral\, the jeweller and sculptor extraordinaire\, brings his nature–inspired bronze sculptures to the Santa Gertrudis artist’s haven\, where they can be seen alongside the captivating photographs of Sarrà\, whose lens records an alternate way to enjoy each piece. The Terres Margantes | Una Altra Arcàdia exhibition at Estudio Laterna is showing every weekday until Wednesday May 27\, 2026\, and drop-ins are always welcome.
URL:https://white-ibiza.com/ibiza-calendar/terres-margantes-una-altra-arcadia-exhibition-at-estudio-laterna/2026-05-13/
LOCATION:Estudio Laterna\, Carrer Vénda de Parada\, Santa Gertrudis de Fruitera\, Islas Baleares\, 07814\, Spain
CATEGORIES:Culture
ATTACH;FMTTYPE=image/jpeg:https://white-ibiza.com/wp-content/uploads/2026/03/white-ibiza-calendar-estudio-laterna-2026.jpeg
GEO:38.9988683;1.4283884
X-APPLE-STRUCTURED-LOCATION;VALUE=URI;X-ADDRESS=Estudio Laterna Carrer Vénda de Parada Santa Gertrudis de Fruitera Islas Baleares 07814 Spain;X-APPLE-RADIUS=500;X-TITLE=Carrer Vénda de Parada:geo:1.4283884,38.9988683
END:VEVENT
BEGIN:VEVENT
DTSTART;TZID=Europe/Madrid:20260513T110000
DTEND;TZID=Europe/Madrid:20260513T200000
DTSTAMP:20260425T173257
CREATED:20260416T145950Z
LAST-MODIFIED:20260416T174940Z
UID:10031561-1778670000-1778702400@white-ibiza.com
SUMMARY:Under the Surface Exhibition by Ned Irving at Olas Gallery
DESCRIPTION:A lifelong fascination with water and its ever-shifting reflections was the starting point for Under the Surface – the new exhibition by Ned Irving at Olas Gallery this spring. Born in Ibiza\, Irving takes viewers deep into a watery world where light bounces and colours refract\, creating a kaleidoscopic exploration of what often escapes ordinary perception. \nThrough a series of stunning photographs\, dive into a liminal space that hovers between reality and abstraction in the petite beachside gallery in Santa Eulalia with the exhibition running daily (excluding Sundays and Mondays) between 11am and 2pm\, then again from 5pm until 8pm until Tuesday May 21\, 2026. Olas Gallery was founded by photographer Sofia Gomez Fonzo and is the perfect spot to take in the work of some of the island’s best artists\, photographers and creatives while discovering the artistic spirit of Ibiza. Use the link below to find out more. 
URL:https://white-ibiza.com/ibiza-calendar/under-the-surface-exhibition-by-ned-irving-at-olas-gallery/2026-05-13/
LOCATION:Olas Gallery\, Calle Juan Tur Tur\, Santa Eulalia del Río\, Islas Baleares\, 07840\, Spain
CATEGORIES:Culture
ATTACH;FMTTYPE=image/png:https://white-ibiza.com/wp-content/uploads/2026/04/white-ibiza-calendar-olas-gallery-under-the-surface-exhibition-2026.png
GEO:38.9819402;1.5324936
X-APPLE-STRUCTURED-LOCATION;VALUE=URI;X-ADDRESS=Olas Gallery Calle Juan Tur Tur Santa Eulalia del Río Islas Baleares 07840 Spain;X-APPLE-RADIUS=500;X-TITLE=Calle Juan Tur Tur:geo:1.5324936,38.9819402
END:VEVENT
BEGIN:VEVENT
DTSTART;TZID=Europe/Madrid:20260514T090000
DTEND;TZID=Europe/Madrid:20260514T180000
DTSTAMP:20260425T173257
CREATED:20260326T160316Z
LAST-MODIFIED:20260326T160413Z
UID:10031294-1778749200-1778781600@white-ibiza.com
SUMMARY:Terres Margantes | Una Altra Arcàdia Exhibition at Estudio Laterna
DESCRIPTION:The creative talents of Enric Majoral and Jordi Sarrà come vividly to life this spring via Terres Margantes | Una Altra Arcàdia at Estudio Laterna – an exhibition that offers two artistic views on the earthy terrain of Formentera from quite differing disciplines.  Majoral\, the jeweller and sculptor extraordinaire\, brings his nature–inspired bronze sculptures to the Santa Gertrudis artist’s haven\, where they can be seen alongside the captivating photographs of Sarrà\, whose lens records an alternate way to enjoy each piece. The Terres Margantes | Una Altra Arcàdia exhibition at Estudio Laterna is showing every weekday until Wednesday May 27\, 2026\, and drop-ins are always welcome.
URL:https://white-ibiza.com/ibiza-calendar/terres-margantes-una-altra-arcadia-exhibition-at-estudio-laterna/2026-05-14/
LOCATION:Estudio Laterna\, Carrer Vénda de Parada\, Santa Gertrudis de Fruitera\, Islas Baleares\, 07814\, Spain
CATEGORIES:Culture
ATTACH;FMTTYPE=image/jpeg:https://white-ibiza.com/wp-content/uploads/2026/03/white-ibiza-calendar-estudio-laterna-2026.jpeg
GEO:38.9988683;1.4283884
X-APPLE-STRUCTURED-LOCATION;VALUE=URI;X-ADDRESS=Estudio Laterna Carrer Vénda de Parada Santa Gertrudis de Fruitera Islas Baleares 07814 Spain;X-APPLE-RADIUS=500;X-TITLE=Carrer Vénda de Parada:geo:1.4283884,38.9988683
END:VEVENT
BEGIN:VEVENT
DTSTART;TZID=Europe/Madrid:20260514T110000
DTEND;TZID=Europe/Madrid:20260514T200000
DTSTAMP:20260425T173257
CREATED:20260416T145950Z
LAST-MODIFIED:20260416T174940Z
UID:10031562-1778756400-1778788800@white-ibiza.com
SUMMARY:Under the Surface Exhibition by Ned Irving at Olas Gallery
DESCRIPTION:A lifelong fascination with water and its ever-shifting reflections was the starting point for Under the Surface – the new exhibition by Ned Irving at Olas Gallery this spring. Born in Ibiza\, Irving takes viewers deep into a watery world where light bounces and colours refract\, creating a kaleidoscopic exploration of what often escapes ordinary perception. \nThrough a series of stunning photographs\, dive into a liminal space that hovers between reality and abstraction in the petite beachside gallery in Santa Eulalia with the exhibition running daily (excluding Sundays and Mondays) between 11am and 2pm\, then again from 5pm until 8pm until Tuesday May 21\, 2026. Olas Gallery was founded by photographer Sofia Gomez Fonzo and is the perfect spot to take in the work of some of the island’s best artists\, photographers and creatives while discovering the artistic spirit of Ibiza. Use the link below to find out more. 
URL:https://white-ibiza.com/ibiza-calendar/under-the-surface-exhibition-by-ned-irving-at-olas-gallery/2026-05-14/
LOCATION:Olas Gallery\, Calle Juan Tur Tur\, Santa Eulalia del Río\, Islas Baleares\, 07840\, Spain
CATEGORIES:Culture
ATTACH;FMTTYPE=image/png:https://white-ibiza.com/wp-content/uploads/2026/04/white-ibiza-calendar-olas-gallery-under-the-surface-exhibition-2026.png
GEO:38.9819402;1.5324936
X-APPLE-STRUCTURED-LOCATION;VALUE=URI;X-ADDRESS=Olas Gallery Calle Juan Tur Tur Santa Eulalia del Río Islas Baleares 07840 Spain;X-APPLE-RADIUS=500;X-TITLE=Calle Juan Tur Tur:geo:1.5324936,38.9819402
END:VEVENT
BEGIN:VEVENT
DTSTART;TZID=Europe/Madrid:20260515T090000
DTEND;TZID=Europe/Madrid:20260515T180000
DTSTAMP:20260425T173257
CREATED:20260326T160316Z
LAST-MODIFIED:20260326T160413Z
UID:10031295-1778835600-1778868000@white-ibiza.com
SUMMARY:Terres Margantes | Una Altra Arcàdia Exhibition at Estudio Laterna
DESCRIPTION:The creative talents of Enric Majoral and Jordi Sarrà come vividly to life this spring via Terres Margantes | Una Altra Arcàdia at Estudio Laterna – an exhibition that offers two artistic views on the earthy terrain of Formentera from quite differing disciplines.  Majoral\, the jeweller and sculptor extraordinaire\, brings his nature–inspired bronze sculptures to the Santa Gertrudis artist’s haven\, where they can be seen alongside the captivating photographs of Sarrà\, whose lens records an alternate way to enjoy each piece. The Terres Margantes | Una Altra Arcàdia exhibition at Estudio Laterna is showing every weekday until Wednesday May 27\, 2026\, and drop-ins are always welcome.
URL:https://white-ibiza.com/ibiza-calendar/terres-margantes-una-altra-arcadia-exhibition-at-estudio-laterna/2026-05-15/
LOCATION:Estudio Laterna\, Carrer Vénda de Parada\, Santa Gertrudis de Fruitera\, Islas Baleares\, 07814\, Spain
CATEGORIES:Culture
ATTACH;FMTTYPE=image/jpeg:https://white-ibiza.com/wp-content/uploads/2026/03/white-ibiza-calendar-estudio-laterna-2026.jpeg
GEO:38.9988683;1.4283884
X-APPLE-STRUCTURED-LOCATION;VALUE=URI;X-ADDRESS=Estudio Laterna Carrer Vénda de Parada Santa Gertrudis de Fruitera Islas Baleares 07814 Spain;X-APPLE-RADIUS=500;X-TITLE=Carrer Vénda de Parada:geo:1.4283884,38.9988683
END:VEVENT
BEGIN:VEVENT
DTSTART;TZID=Europe/Madrid:20260515T110000
DTEND;TZID=Europe/Madrid:20260515T200000
DTSTAMP:20260425T173257
CREATED:20260416T145950Z
LAST-MODIFIED:20260416T174940Z
UID:10031563-1778842800-1778875200@white-ibiza.com
SUMMARY:Under the Surface Exhibition by Ned Irving at Olas Gallery
DESCRIPTION:A lifelong fascination with water and its ever-shifting reflections was the starting point for Under the Surface – the new exhibition by Ned Irving at Olas Gallery this spring. Born in Ibiza\, Irving takes viewers deep into a watery world where light bounces and colours refract\, creating a kaleidoscopic exploration of what often escapes ordinary perception. \nThrough a series of stunning photographs\, dive into a liminal space that hovers between reality and abstraction in the petite beachside gallery in Santa Eulalia with the exhibition running daily (excluding Sundays and Mondays) between 11am and 2pm\, then again from 5pm until 8pm until Tuesday May 21\, 2026. Olas Gallery was founded by photographer Sofia Gomez Fonzo and is the perfect spot to take in the work of some of the island’s best artists\, photographers and creatives while discovering the artistic spirit of Ibiza. Use the link below to find out more. 
URL:https://white-ibiza.com/ibiza-calendar/under-the-surface-exhibition-by-ned-irving-at-olas-gallery/2026-05-15/
LOCATION:Olas Gallery\, Calle Juan Tur Tur\, Santa Eulalia del Río\, Islas Baleares\, 07840\, Spain
CATEGORIES:Culture
ATTACH;FMTTYPE=image/png:https://white-ibiza.com/wp-content/uploads/2026/04/white-ibiza-calendar-olas-gallery-under-the-surface-exhibition-2026.png
GEO:38.9819402;1.5324936
X-APPLE-STRUCTURED-LOCATION;VALUE=URI;X-ADDRESS=Olas Gallery Calle Juan Tur Tur Santa Eulalia del Río Islas Baleares 07840 Spain;X-APPLE-RADIUS=500;X-TITLE=Calle Juan Tur Tur:geo:1.5324936,38.9819402
END:VEVENT
BEGIN:VEVENT
DTSTART;TZID=Europe/Madrid:20260516T110000
DTEND;TZID=Europe/Madrid:20260516T200000
DTSTAMP:20260425T173257
CREATED:20260416T145950Z
LAST-MODIFIED:20260416T174940Z
UID:10031564-1778929200-1778961600@white-ibiza.com
SUMMARY:Under the Surface Exhibition by Ned Irving at Olas Gallery
DESCRIPTION:A lifelong fascination with water and its ever-shifting reflections was the starting point for Under the Surface – the new exhibition by Ned Irving at Olas Gallery this spring. Born in Ibiza\, Irving takes viewers deep into a watery world where light bounces and colours refract\, creating a kaleidoscopic exploration of what often escapes ordinary perception. \nThrough a series of stunning photographs\, dive into a liminal space that hovers between reality and abstraction in the petite beachside gallery in Santa Eulalia with the exhibition running daily (excluding Sundays and Mondays) between 11am and 2pm\, then again from 5pm until 8pm until Tuesday May 21\, 2026. Olas Gallery was founded by photographer Sofia Gomez Fonzo and is the perfect spot to take in the work of some of the island’s best artists\, photographers and creatives while discovering the artistic spirit of Ibiza. Use the link below to find out more. 
URL:https://white-ibiza.com/ibiza-calendar/under-the-surface-exhibition-by-ned-irving-at-olas-gallery/2026-05-16/
LOCATION:Olas Gallery\, Calle Juan Tur Tur\, Santa Eulalia del Río\, Islas Baleares\, 07840\, Spain
CATEGORIES:Culture
ATTACH;FMTTYPE=image/png:https://white-ibiza.com/wp-content/uploads/2026/04/white-ibiza-calendar-olas-gallery-under-the-surface-exhibition-2026.png
GEO:38.9819402;1.5324936
X-APPLE-STRUCTURED-LOCATION;VALUE=URI;X-ADDRESS=Olas Gallery Calle Juan Tur Tur Santa Eulalia del Río Islas Baleares 07840 Spain;X-APPLE-RADIUS=500;X-TITLE=Calle Juan Tur Tur:geo:1.5324936,38.9819402
END:VEVENT
BEGIN:VEVENT
DTSTART;TZID=Europe/Madrid:20260516T210000
DTEND;TZID=Europe/Madrid:20260517T040000
DTSTAMP:20260425T173257
CREATED:20260409T130247Z
LAST-MODIFIED:20260409T130247Z
UID:10031421-1778965200-1778990400@white-ibiza.com
SUMMARY:Pikes House Party at Pikes Ibiza
DESCRIPTION:As the saying goes\, there’s no party like a Pikes House Party\, and the island’s most beloved boutique hotel and party hotspot\, Pikes Ibiza\, is back with its frolic-filled flagship event every Saturday night throughout the summer. Imagine the best house party you ever went to\, throw in some shiny disco balls\, a whole lot of skipping the light fandango and a little dash of the unexpected and you’re only halfway there. \nPikes House Party famously begins around the Club Tropicana pool\, with some laid-back beats and ferociously strong cocktails. Over on The Sunset Terrace\, The Pikes House Band strut their stuff\, performing a mix of house classics and original jams over dinner. As the evening spills out into the hotel’s social buzzing heart\, Plaza Mayor\, toes start tapping and it’s time to hang on tight as you feel the inevitable pull of Freddies drawing you into its web of disco ditties and late-night jollies. \nThese riotous parties are not for the faint-hearted – bring your stamina and an open mind and you may just find yourself singing along with the Crazy Piano Man or hypothetically splashing around in the legendary Bathtub Club. Register for the free guestlist\, book a table in The Pikes Restaurant\, or opt for Night Slices in the Garden Bar to ensure entry at the link below.
URL:https://white-ibiza.com/ibiza-calendar/pikes-house-party-at-pikes-ibiza-2/2026-05-16/
LOCATION:Pikes Ibiza\, Camí de Sa Vorera\, Sant Antoni de Portmany\, Is\, 07820\, Spain
CATEGORIES:Culture,Nightlife
ATTACH;FMTTYPE=image/jpeg:https://white-ibiza.com/wp-content/uploads/2026/04/white-ibiza-club-calendar-pikes-house-party-freddies-pikes-ibiza-2026.jpeg
GEO:38.986598;1.3254823
X-APPLE-STRUCTURED-LOCATION;VALUE=URI;X-ADDRESS=Pikes Ibiza Camí de Sa Vorera Sant Antoni de Portmany Is 07820 Spain;X-APPLE-RADIUS=500;X-TITLE=Camí de Sa Vorera:geo:1.3254823,38.986598
END:VEVENT
BEGIN:VEVENT
DTSTART;TZID=Europe/Madrid:20260517T100000
DTEND;TZID=Europe/Madrid:20260517T150000
DTSTAMP:20260425T173257
CREATED:20260112T084617Z
LAST-MODIFIED:20260112T084641Z
UID:10029489-1779012000-1779030000@white-ibiza.com
SUMMARY:Sunday Artisan Market in San Juan
DESCRIPTION:Every Sunday\, the sleepy village square of San Juan comes to life as the famous Artisan Market takes over the streets\, lanes and corners from 10am until 3pm\, drawing locals\, island families and curious visitors up into the north of the island. Stalls feature handmade crafts\, natural products\, jewellery\, crystals\, vintage pieces\, hand-stitched fashion\, homemade treats and kitchen-table creations from a community of artisans who have been holding court on Sundays in San Juan for years. \nThe atmosphere is bohemian\, musical and wonderfully laid-back as live musicians set up in the main village square\, friends linger over coffees\, kids weave between stalls and the whole village feels like one big family get-together\, all year round.
URL:https://white-ibiza.com/ibiza-calendar/sunday-artisan-market-in-san-juan-3/2026-05-17/
LOCATION:San Juan\, Sant Joan de Labritja\, Islas Baleares\, 07810\, Spain
CATEGORIES:Culture
ATTACH;FMTTYPE=image/jpeg:https://white-ibiza.com/wp-content/uploads/2025/12/white-ibiza-calendar-san-juan-market-2025.jpeg
GEO:39.0717396;1.5111806
END:VEVENT
END:VCALENDAR