BEGIN:VCALENDAR
VERSION:2.0
PRODID:-//WHITE IBIZA - ECPv6.6.0.2//NONSGML v1.0//EN
CALSCALE:GREGORIAN
METHOD:PUBLISH
X-WR-CALNAME:WHITE IBIZA
X-ORIGINAL-URL:https://white-ibiza.com
X-WR-CALDESC:Events for WHITE IBIZA
REFRESH-INTERVAL;VALUE=DURATION:PT1H
X-Robots-Tag:noindex
X-PUBLISHED-TTL:PT1H
BEGIN:VTIMEZONE
TZID:Europe/Madrid
BEGIN:DAYLIGHT
TZOFFSETFROM:+0100
TZOFFSETTO:+0200
TZNAME:CEST
DTSTART:20260329T010000
END:DAYLIGHT
BEGIN:STANDARD
TZOFFSETFROM:+0200
TZOFFSETTO:+0100
TZNAME:CET
DTSTART:20261025T010000
END:STANDARD
END:VTIMEZONE
BEGIN:VEVENT
DTSTART;TZID=Europe/Madrid:20260425T230000
DTEND;TZID=Europe/Madrid:20260425T230000
DTSTAMP:20260421T142244
CREATED:20260122T143607Z
LAST-MODIFIED:20260124T100559Z
UID:10030531-1777158000-1777158000@white-ibiza.com
SUMMARY:2026 Opening Weekend Part 2 with Solomun & BLOND:ISH at Pacha Ibiza
DESCRIPTION:On Saturday April 25\, 2026\, the 2026 Pacha Ibiza Opening Weekend baton is passed from Marco Carola to Croatian titan Solomun\, for part two of the iconic club’s opening weekend. Expect a packed dancefloor as the Diynamic Music head honcho and Pacha Ibiza stalwart spins his web of deep melodic house and techno alongside Pacha regulars BLOND:ISH and Angel Linde.   \nAs the island wakes from its winter slumber\, these parties are the perfect chance for islanders to reconnect once again after their winter travels or hibernation. Whether you make it to both nights is a question of stamina\, but a whole weekend of Pacha Ibiza-filled fun is the best excuse for trying. 
URL:https://white-ibiza.com/ibiza-calendar/2026-opening-weekend-part-2-with-solomun-blondish-at-pacha-ibiza/
LOCATION:Pacha Ibiza\, Avinguda 8 d'Agost\, Eivissa\, Islas Baleares\, 07800\, Spain
CATEGORIES:Clubs
ATTACH;FMTTYPE=image/jpeg:https://white-ibiza.com/wp-content/uploads/2025/04/white-ibiza-club-calendar-solomun-plus-one-pacha-ibiza-2025-05.jpeg
GEO:38.9177309;1.4446226
X-APPLE-STRUCTURED-LOCATION;VALUE=URI;X-ADDRESS=Pacha Ibiza Avinguda 8 d'Agost Eivissa Islas Baleares 07800 Spain;X-APPLE-RADIUS=500;X-TITLE=Avinguda 8 d'Agost:geo:1.4446226,38.9177309
END:VEVENT
END:VCALENDAR