BEGIN:VCALENDAR
VERSION:2.0
PRODID:-//WHITE IBIZA - ECPv6.6.0.2//NONSGML v1.0//EN
CALSCALE:GREGORIAN
METHOD:PUBLISH
X-WR-CALNAME:WHITE IBIZA
X-ORIGINAL-URL:https://white-ibiza.com
X-WR-CALDESC:Events for WHITE IBIZA
REFRESH-INTERVAL;VALUE=DURATION:PT1H
X-Robots-Tag:noindex
X-PUBLISHED-TTL:PT1H
BEGIN:VTIMEZONE
TZID:Europe/Madrid
BEGIN:DAYLIGHT
TZOFFSETFROM:+0100
TZOFFSETTO:+0200
TZNAME:CEST
DTSTART:20260329T010000
END:DAYLIGHT
BEGIN:STANDARD
TZOFFSETFROM:+0200
TZOFFSETTO:+0100
TZNAME:CET
DTSTART:20261025T010000
END:STANDARD
END:VTIMEZONE
BEGIN:VEVENT
DTSTART;TZID=Europe/Madrid:20260419T130000
DTEND;TZID=Europe/Madrid:20260420T040000
DTSTAMP:20260421T142245
CREATED:20260409T132355Z
LAST-MODIFIED:20260409T132355Z
UID:10031449-1776603600-1776657600@white-ibiza.com
SUMMARY:Sundays at Pikes at Pikes Ibiza
DESCRIPTION:Sundays at Pikes are an island institution\, where last night’s excesses are soothed by a dip\, a drink and a few Balearic bangers by the pool while the next day’s hangovers are only just getting started. \nWhether you’re fuelling up for the night ahead or soaking up the sins of the night before\, there’s no better remedy than the famous Pikes Sunday Roast prepared by in-house culinary maestro Tim Payne and his team of merry chefs at The Pikes Restaurant. Expect plates piled high with crispy roasties\, Yorkshire puds\, creamy cauliflower cheese and lots of gravy-drenched goodness. Throw in a cheeky espresso martini\, a little Plaza Mayor shimmy and suddenly you’re in Freddies until 4am\, dancing to the sounds of the world’s best DJs like Monday isn’t a thing. \nFrom roast to rave\, this is the kind of Sunday service you’ll want to go to again and again. Tables and guestlist at Pikes Ibiza get snapped up fast\, so be sure to book early.
URL:https://white-ibiza.com/ibiza-calendar/sundays-at-pikes-at-pikes-ibiza/2026-04-19/
LOCATION:Pikes Ibiza\, Camí de Sa Vorera\, Sant Antoni de Portmany\, Is\, 07820\, Spain
CATEGORIES:Foodies,Clubs,Nightlife
ATTACH;FMTTYPE=image/jpeg:https://white-ibiza.com/wp-content/uploads/2026/04/white-ibiza-calendar-sundays-at-pikes-ibiza-2026.jpeg
GEO:38.986598;1.3254823
X-APPLE-STRUCTURED-LOCATION;VALUE=URI;X-ADDRESS=Pikes Ibiza Camí de Sa Vorera Sant Antoni de Portmany Is 07820 Spain;X-APPLE-RADIUS=500;X-TITLE=Camí de Sa Vorera:geo:1.3254823,38.986598
END:VEVENT
END:VCALENDAR