BEGIN:VCALENDAR
VERSION:2.0
PRODID:-//WHITE IBIZA - ECPv6.6.0.2//NONSGML v1.0//EN
CALSCALE:GREGORIAN
METHOD:PUBLISH
X-WR-CALNAME:WHITE IBIZA
X-ORIGINAL-URL:https://white-ibiza.com
X-WR-CALDESC:Events for WHITE IBIZA
REFRESH-INTERVAL;VALUE=DURATION:PT1H
X-Robots-Tag:noindex
X-PUBLISHED-TTL:PT1H
BEGIN:VTIMEZONE
TZID:Europe/Madrid
BEGIN:DAYLIGHT
TZOFFSETFROM:+0100
TZOFFSETTO:+0200
TZNAME:CEST
DTSTART:20260329T010000
END:DAYLIGHT
BEGIN:STANDARD
TZOFFSETFROM:+0200
TZOFFSETTO:+0100
TZNAME:CET
DTSTART:20261025T010000
END:STANDARD
END:VTIMEZONE
BEGIN:VEVENT
DTSTART;TZID=Europe/Madrid:20260417T230000
DTEND;TZID=Europe/Madrid:20260418T060000
DTSTAMP:20260421T172918
CREATED:20260416T144837Z
LAST-MODIFIED:20260416T174844Z
UID:10031537-1776466800-1776492000@white-ibiza.com
SUMMARY:Chinois Presents Andrea Oliva at Chinois Ibiza 
DESCRIPTION:Andrea Oliva steps up to the decks at Chinois Ibiza on Friday April 17\, 2026\, bringing his signature tech-house precision to the minute Marina dancefloor for one night only. The Swiss DJ returns to one of Ibiza town’s slickest club spaces\, where the focus stays firmly on the music and the super cool pre-season crowd it draws into its hypnotic lights.\n\nOliva is joined by Henri Bergmann\, alongside Spanish selector Karretero\, for a night of percussive vibes and melodic house magic. Don’t miss out on one of the first bops of the season as the island’s sassiest dancefloor heats up for another year of late-night antics. Snag your tickets and VIP tables before they are gone for good.
URL:https://white-ibiza.com/ibiza-calendar/chinois-presents-andrea-oliva-at-chinois-ibiza/
LOCATION:Club Chinois\, Passeig Joan Carles I\, Eivissa\, Islas Baleares\, 07800\, Spain
CATEGORIES:Clubs
ATTACH;FMTTYPE=image/jpeg:https://white-ibiza.com/wp-content/uploads/2024/04/white-ibiza-clubbing-chinois-ibiza-2025-14.jpeg
GEO:38.9166558;1.4418039
X-APPLE-STRUCTURED-LOCATION;VALUE=URI;X-ADDRESS=Club Chinois Passeig Joan Carles I Eivissa Islas Baleares 07800 Spain;X-APPLE-RADIUS=500;X-TITLE=Passeig Joan Carles I:geo:1.4418039,38.9166558
END:VEVENT
END:VCALENDAR