BEGIN:VCALENDAR
VERSION:2.0
PRODID:-//WHITE IBIZA - ECPv6.6.0.2//NONSGML v1.0//EN
CALSCALE:GREGORIAN
METHOD:PUBLISH
X-WR-CALNAME:WHITE IBIZA
X-ORIGINAL-URL:https://white-ibiza.com
X-WR-CALDESC:Events for WHITE IBIZA
REFRESH-INTERVAL;VALUE=DURATION:PT1H
X-Robots-Tag:noindex
X-PUBLISHED-TTL:PT1H
BEGIN:VTIMEZONE
TZID:Europe/Madrid
BEGIN:DAYLIGHT
TZOFFSETFROM:+0100
TZOFFSETTO:+0200
TZNAME:CEST
DTSTART:20260329T010000
END:DAYLIGHT
BEGIN:STANDARD
TZOFFSETFROM:+0200
TZOFFSETTO:+0100
TZNAME:CET
DTSTART:20261025T010000
END:STANDARD
END:VTIMEZONE
BEGIN:VEVENT
DTSTART;TZID=Europe/Madrid:20260411T210000
DTEND;TZID=Europe/Madrid:20260412T040000
DTSTAMP:20260423T212357
CREATED:20260409T124125Z
LAST-MODIFIED:20260409T124139Z
UID:10031397-1775941200-1775966400@white-ibiza.com
SUMMARY:Supernova at Las Dalias & Akasha Ibiza
DESCRIPTION:Supernova lights up Las Dalias and Akasha Ibiza on Saturday April 11\, 2026 as the one and only Nick Warren steps up to the decks alongside Igor Marijuan\, Bohem and Man O To. Expect a flawless mix of deep house sounds\, solid groove and tech from these Ibiza legends\, and a night where music\, movement and sound blur as one. \nThe evening begins under the stars at Las Dalias with music flowing through the iconic San Carlos gardens\, before slipping indoors to the intimate energy of Akasha Ibiza\, where the party continues until the early hours of the morning.
URL:https://white-ibiza.com/ibiza-calendar/supernova-at-las-dalias-akasha-ibiza-2/
LOCATION:Akasha Ibiza\, Carretera\, Sant Carles de Peralta\, Islas Baleares\, 07850\, Spain
CATEGORIES:Clubs
ATTACH;FMTTYPE=image/jpeg:https://white-ibiza.com/wp-content/uploads/2025/05/white-ibiza-club-calendar-sven-vath-presents-trance-las-dalias-akasha-ibiza-2025.jpeg
GEO:39.0283589;1.5576922
X-APPLE-STRUCTURED-LOCATION;VALUE=URI;X-ADDRESS=Akasha Ibiza Carretera Sant Carles de Peralta Islas Baleares 07850 Spain;X-APPLE-RADIUS=500;X-TITLE=Carretera:geo:1.5576922,39.0283589
END:VEVENT
END:VCALENDAR