BEGIN:VCALENDAR
VERSION:2.0
PRODID:-//WHITE IBIZA - ECPv6.6.0.2//NONSGML v1.0//EN
CALSCALE:GREGORIAN
METHOD:PUBLISH
X-ORIGINAL-URL:https://white-ibiza.com
X-WR-CALDESC:Events for WHITE IBIZA
REFRESH-INTERVAL;VALUE=DURATION:PT1H
X-Robots-Tag:noindex
X-PUBLISHED-TTL:PT1H
BEGIN:VTIMEZONE
TZID:Europe/Madrid
BEGIN:DAYLIGHT
TZOFFSETFROM:+0100
TZOFFSETTO:+0200
TZNAME:CEST
DTSTART:20260329T010000
END:DAYLIGHT
BEGIN:STANDARD
TZOFFSETFROM:+0200
TZOFFSETTO:+0100
TZNAME:CET
DTSTART:20261025T010000
END:STANDARD
END:VTIMEZONE
BEGIN:VEVENT
DTSTART;TZID=Europe/Madrid:20260410T210000
DTEND;TZID=Europe/Madrid:20260411T040000
DTSTAMP:20260423T230027
CREATED:20260210T125349Z
LAST-MODIFIED:20260409T123141Z
UID:10030586-1775854800-1775880000@white-ibiza.com
SUMMARY:Opening Party at Pikes Ibiza
DESCRIPTION:The island’s most revered boutique hotel and naughty nightspot\, Pikes Ibiza\, throws open the doors to its hard-partying heart\, Freddies\, on Friday April 10\, 2026 – all set for another season of ridiculous rollicks and hedonistic fun. From poolside cavorting and deliciously delightful dining\, the iconic venue has polished those disco balls and refilled the shiny balls in the Bathtub Club for a summer of non–stop mischief\, madness and mayhem.  Whether you want to dine by the light of the silvery moon in The Pikes Restaurant\, dance till your toes twinkle in Freddies or simply hang out in Plaza Mayor where old friends and new are welcomed with equal gusto\, the Pikes Opening Party never fails to raise an eyebrow and tickle a fancy. The cocktails are potent\, the vibes are sublime and with Leon Vynehall behind the decks in Freddies\, anticipation is running high. And keep some fuel in the tank – the Pikes Opening Weekend also features the Pikes House Party Opening on Saturday and the Sundays at Pikes Opening Party the day after that. It’s a marathon\, not a sprint!
URL:https://white-ibiza.com/ibiza-calendar/opening-party-at-pikes-ibiza/
LOCATION:Pikes Ibiza\, Camí de Sa Vorera\, Sant Antoni de Portmany\, Is\, 07820\, Spain
CATEGORIES:Clubs
ATTACH;FMTTYPE=image/jpeg:https://white-ibiza.com/wp-content/uploads/2025/08/white-ibiza-clubbing-freddies-pikes-ibiza-2025-12.jpeg
GEO:38.986598;1.3254823
X-APPLE-STRUCTURED-LOCATION;VALUE=URI;X-ADDRESS=Pikes Ibiza Camí de Sa Vorera Sant Antoni de Portmany Is 07820 Spain;X-APPLE-RADIUS=500;X-TITLE=Camí de Sa Vorera:geo:1.3254823,38.986598
END:VEVENT
BEGIN:VEVENT
DTSTART;TZID=Europe/Madrid:20260410T233000
DTEND;TZID=Europe/Madrid:20260411T060000
DTSTAMP:20260423T230027
CREATED:20260409T094512Z
LAST-MODIFIED:20260409T094512Z
UID:10031395-1775863800-1775887200@white-ibiza.com
SUMMARY:TRIP at Chinois Ibiza
DESCRIPTION:Chinois Ibiza offers a little something for your mind\, your body and your soul thanks to island clubbing sweetheart\, TRIP. Known for curating some of the most forward-thinking line-ups on the island\, Ibiza-based promoter Johannes Goller invites the heroes of the electronic underground scene to the Marina’s slickest dancefloor on Friday April 10\, 2026 – the perfect excuse to get together with like-minded partygoers before the season truly kicks off. \nSpecial guest DJs Arapu\, Enzo Siragusa and Sweet6teen take up residence in the booth for a night that is full of the unexpected and jam-packed with island A-listers as well as in-the-know visitors all ready to get the season started with a bang. Set against the intimate\, high-impact backdrop of Chinois Ibiza\, TRIP delivers a dancefloor-first experience where deep house\, minimal grooves and late-night mischief collide – be sure to book your tickets and VIP tables early so you don’t miss out!
URL:https://white-ibiza.com/ibiza-calendar/trip-at-chinois-ibiza-3/
LOCATION:Club Chinois\, Passeig Joan Carles I\, Eivissa\, Islas Baleares\, 07800\, Spain
CATEGORIES:Clubs
ATTACH;FMTTYPE=image/jpeg:https://white-ibiza.com/wp-content/uploads/2024/04/white-ibiza-clubbing-chinois-ibiza-2025-03.jpeg
GEO:38.9166558;1.4418039
X-APPLE-STRUCTURED-LOCATION;VALUE=URI;X-ADDRESS=Club Chinois Passeig Joan Carles I Eivissa Islas Baleares 07800 Spain;X-APPLE-RADIUS=500;X-TITLE=Passeig Joan Carles I:geo:1.4418039,38.9166558
END:VEVENT
END:VCALENDAR