BEGIN:VCALENDAR
VERSION:2.0
PRODID:-//WHITE IBIZA - ECPv6.6.0.2//NONSGML v1.0//EN
CALSCALE:GREGORIAN
METHOD:PUBLISH
X-ORIGINAL-URL:https://white-ibiza.com
X-WR-CALDESC:Events for WHITE IBIZA
REFRESH-INTERVAL;VALUE=DURATION:PT1H
X-Robots-Tag:noindex
X-PUBLISHED-TTL:PT1H
BEGIN:VTIMEZONE
TZID:Europe/Madrid
BEGIN:DAYLIGHT
TZOFFSETFROM:+0100
TZOFFSETTO:+0200
TZNAME:CEST
DTSTART:20250330T010000
END:DAYLIGHT
BEGIN:STANDARD
TZOFFSETFROM:+0200
TZOFFSETTO:+0100
TZNAME:CET
DTSTART:20251026T010000
END:STANDARD
END:VTIMEZONE
BEGIN:VEVENT
DTSTART;TZID=Europe/Madrid:20250426T160000
DTEND;TZID=Europe/Madrid:20250426T230000
DTSTAMP:20260420T110356
CREATED:20250123T224252Z
LAST-MODIFIED:20250424T125229Z
UID:10014085-1745683200-1745708400@white-ibiza.com
SUMMARY:Ushuaïa Opening Party 2025 at Ushuaïa Ibiza
DESCRIPTION:Ibiza clubbers rejoice – the dates are announced and the sign up for pre-sale has begun. The official start of the 2025 Ibiza summer season begins on Saturday April 26\, 2025 with the Ushuaïa Ibiza Opening Party 2025. Set inside the party hotel of the same name\, this open-air poolside venue with an unmistakeable shell-shaped stage single-handedly redefined clubbing in Ibiza when it first opened and hasn’t stopped consistently wowing the crowds ever since. \nMind-blowing visuals\, explosive pyrotechnics\, dazzling performances and plenty and plenty of confetti cannons\, the spectacle of Ushuaïa Ibiza is only matched by the calibre of the DJ line-ups. The Ushuaïa Ibiza Opening Party 2025 line-up features Adriatique\, Ben Böhmer live\, Deer Jade\, Kevin De vries\, Miss Monique and Paul Kalkbrenner live\, and the party is a double-header affair with sister nightclub\, Hï Ibiza\, just steps across the road. Start working on your stamina – it doesn’t get any bigger than this.
URL:https://white-ibiza.com/ibiza-calendar/ushuaia-opening-party-2025-at-ushuaia-ibiza/
LOCATION:Ushuaïa Ibiza\, Carretera de Platja d'en Bossa\, Playa d'en Bossa\, Islas Baleares\, 07817\, Spain
CATEGORIES:Clubs
ATTACH;FMTTYPE=image/jpeg:https://white-ibiza.com/wp-content/uploads/2025/01/white-ibiza-calendar-ushuaia-ibiza-2025-01.jpeg
GEO:38.8853955;1.4048106
X-APPLE-STRUCTURED-LOCATION;VALUE=URI;X-ADDRESS=Ushuaïa Ibiza Carretera de Platja d'en Bossa Playa d'en Bossa Islas Baleares 07817 Spain;X-APPLE-RADIUS=500;X-TITLE=Carretera de Platja d'en Bossa:geo:1.4048106,38.8853955
END:VEVENT
BEGIN:VEVENT
DTSTART;TZID=Europe/Madrid:20250426T170000
DTEND;TZID=Europe/Madrid:20250427T050000
DTSTAMP:20260420T110356
CREATED:20250417T155017Z
LAST-MODIFIED:20250417T155017Z
UID:10015731-1745686800-1745730000@white-ibiza.com
SUMMARY:Love Groove Night – A Tribute to Alfredo at Las Dalias
DESCRIPTION:No one shaped Ibiza’s sound quite like Alfredo. From the moment he arrived on the island in 1976\, the Argentinian visionary carved out a style all his own\, blending genres\, defying formulas and igniting what would later be known around the world as the Balearic Beat. By the time his iconic Amnesia residency rolled around in 1984\, Ibiza nights were forever changed. \nThis April\, as the International Music Summit returns\, Las Dalias and Akasha Ibiza honour the man behind the movement with Love Groove Night – a 12-hour sonic tribute curated by Fiorito Space Systems and IMS. Expect a very danceable voyage that channels the freewheeling spirit of Alfredo’s era\, from early evening garden vibes to the heady intimacy of the Akasha Ibiza dancefloor\, the line-up is packed with island regulars and Balearic torchbearers – including Alfredo’s son\, Jaime Fiorito\, plus Terry Farley\, Nancy Noise\, Homies and more.
URL:https://white-ibiza.com/ibiza-calendar/love-groove-night-a-tribute-to-alfredo-at-las-dalias/
LOCATION:Akasha Ibiza\, Carretera\, Sant Carles de Peralta\, Islas Baleares\, 07850\, Spain
CATEGORIES:Clubs
ATTACH;FMTTYPE=image/jpeg:https://white-ibiza.com/wp-content/uploads/2025/03/white-ibiza-calendar-namaste-las-dalias-akasha-ibiza-2025.jpeg
GEO:39.0283589;1.5576922
X-APPLE-STRUCTURED-LOCATION;VALUE=URI;X-ADDRESS=Akasha Ibiza Carretera Sant Carles de Peralta Islas Baleares 07850 Spain;X-APPLE-RADIUS=500;X-TITLE=Carretera:geo:1.5576922,39.0283589
END:VEVENT
BEGIN:VEVENT
DTSTART;TZID=Europe/Madrid:20250426T210000
DTEND;TZID=Europe/Madrid:20250427T040000
DTSTAMP:20260420T110356
CREATED:20250514T230843Z
LAST-MODIFIED:20250514T230929Z
UID:10017380-1745701200-1745726400@white-ibiza.com
SUMMARY:Pikes House Party at Pikes Ibiza
DESCRIPTION:Saturday nights at Pikes Ibiza are the busiest\, buzziest night of the week in the iconic hotel in the hills of San Antonio – as the saying goes\, there’s no party like a Pikes House Party! The nightlife venue’s signature soirée is a full-blown\, all-night adventure through one of Ibiza’s most delightfully unhinged wonderlands\, and it all starts on the Sunset Terrace\, where the Pikes House Band put their own unique twist on the dinner-and-a-show concept. \nFrom there\, it’s a slow spin through the alfresco playground of Plaza Mayor before diving headfirst into Freddies to twirl below the islands favourite discoball until the early hours. Expect house\, disco\, Balearic oddities and feel-good gold from some of the very best DJs in the world\, up close and personal in the intimat club room. Add in some time spent dancing in the world’s tiniest discotheque\, aka The Bathtub Club\, singalongs with the Crazy Piano Man and a garden full of beautiful misfits and you’ve got a night of unpredictable\, unforgettable magic and madness. Entry is always free but you do need to register for guestlist in advance at the link below.
URL:https://white-ibiza.com/ibiza-calendar/pikes-house-party-at-pikes-ibiza/2025-04-26/
LOCATION:Pikes Ibiza\, Camí de Sa Vorera\, Sant Antoni de Portmany\, Is\, 07820\, Spain
CATEGORIES:Clubs
ATTACH;FMTTYPE=image/jpeg:https://white-ibiza.com/wp-content/uploads/2025/05/white-ibiza-club-calendar-pikes-house-party-pikes-ibiza-2025.jpeg
GEO:38.986598;1.3254823
X-APPLE-STRUCTURED-LOCATION;VALUE=URI;X-ADDRESS=Pikes Ibiza Camí de Sa Vorera Sant Antoni de Portmany Is 07820 Spain;X-APPLE-RADIUS=500;X-TITLE=Camí de Sa Vorera:geo:1.3254823,38.986598
END:VEVENT
BEGIN:VEVENT
DTSTART;TZID=Europe/Madrid:20250426T230000
DTEND;TZID=Europe/Madrid:20250427T060000
DTSTAMP:20260420T110356
CREATED:20250123T224724Z
LAST-MODIFIED:20250424T125448Z
UID:10014086-1745708400-1745733600@white-ibiza.com
SUMMARY:Hï Opening Party 2025 at Hï Ibiza
DESCRIPTION:There’s no rest for Ibiza clubbers on Saturday April 26\, 2025\, as the sign up for pre-sale for the highly anticipated Hï Ibiza Opening Party is now open – an event that marks the official start of the 2025 Ibiza summer season. Voted the World’s Number One Club for the third year running (as voted by readers of DJ Mag)\, Hï Ibiza is truly the global benchmark for a cutting-edge\, technologically advanced nightclub. With weekly line-ups that rival any European festival and visual displays that test the imagination\, this Playa d’en Bossa superclub consistently raises the bar in Ibiza and around the world. \nThe Hï Ibiza Opening Party 2025 line-up features Chris Stussy\, Damian Lazarus\, Honey Dijon\, Joseph Capriati\, Josh Baker\, Luciano\, Miluhska and The Martinez Brothers in The Theatre and Amelie Lens\, Anfisa Letyago\, Ben Hemsley\, Hannah Laing and La La in the Club Room\, plus Cormac\, DJ Mag Allstars\, Dom Townsend\, Melon Bomb and The Menendez Brothers in the Wild Corner. The Ibiza summer starts here.
URL:https://white-ibiza.com/ibiza-calendar/hi-opening-party-2025-at-hi-ibiza/
LOCATION:Hï Ibiza\, Platja d'en Bossa\, San Jorge de ses Salines\, Islas Baleares\, 07800\, Spain
CATEGORIES:Clubs
ATTACH;FMTTYPE=image/jpeg:https://white-ibiza.com/wp-content/uploads/2025/01/white-ibiza-calendar-hi-ibiza-2025-02.jpeg
GEO:38.8840273;1.4059791
X-APPLE-STRUCTURED-LOCATION;VALUE=URI;X-ADDRESS=Hï Ibiza Platja d'en Bossa San Jorge de ses Salines Islas Baleares 07800 Spain;X-APPLE-RADIUS=500;X-TITLE=Platja d'en Bossa:geo:1.4059791,38.8840273
END:VEVENT
BEGIN:VEVENT
DTSTART;TZID=Europe/Madrid:20250426T235900
DTEND;TZID=Europe/Madrid:20250427T060000
DTSTAMP:20260420T110356
CREATED:20250424T124917Z
LAST-MODIFIED:20250424T124917Z
UID:10015781-1745711940-1745733600@white-ibiza.com
SUMMARY:Pacha Opening Weekend with Purple Disco Machine at Pacha Ibiza
DESCRIPTION:Ding ding! Round two of the 2025 Pacha Opening Weekend in 2025 features Purple Disco Machine on Saturday April 26\, 2025 as the Grammy Award winning producer and DJ brings all his Italo-disco 80s mashups to the club. \nCelebrating over 50 years of entertaining clubbers on the edge of Ibiza town\, like many Ibiza residents\, Pacha Ibiza shows no sign of slowing down or ageing. A dynamic array of electronic artists – both favourably established and pioneering and fresh\, pop into the legendary club over the course of its opening weekend – and it really wouldn’t be the start of summer without a night of swishing on that dancefloor or getting lost in those meandering corridors again. Disco boots at the ready!
URL:https://white-ibiza.com/ibiza-calendar/pacha-opening-weekend-with-purple-disco-machine-at-pacha-ibiza/
LOCATION:Pacha Ibiza\, Avinguda 8 d'Agost\, Eivissa\, Islas Baleares\, 07800\, Spain
CATEGORIES:Clubs
ATTACH;FMTTYPE=image/jpeg:https://white-ibiza.com/wp-content/uploads/2025/04/white-ibiza-club-calendar-general-pacha-ibiza-2025-01.jpeg
GEO:38.9177309;1.4446226
X-APPLE-STRUCTURED-LOCATION;VALUE=URI;X-ADDRESS=Pacha Ibiza Avinguda 8 d'Agost Eivissa Islas Baleares 07800 Spain;X-APPLE-RADIUS=500;X-TITLE=Avinguda 8 d'Agost:geo:1.4446226,38.9177309
END:VEVENT
END:VCALENDAR