BEGIN:VCALENDAR
VERSION:2.0
PRODID:-//WHITE IBIZA - ECPv6.6.0.2//NONSGML v1.0//EN
CALSCALE:GREGORIAN
METHOD:PUBLISH
X-ORIGINAL-URL:https://white-ibiza.com
X-WR-CALDESC:Events for WHITE IBIZA
REFRESH-INTERVAL;VALUE=DURATION:PT1H
X-Robots-Tag:noindex
X-PUBLISHED-TTL:PT1H
BEGIN:VTIMEZONE
TZID:Europe/Madrid
BEGIN:DAYLIGHT
TZOFFSETFROM:+0100
TZOFFSETTO:+0200
TZNAME:CEST
DTSTART:20250330T010000
END:DAYLIGHT
BEGIN:STANDARD
TZOFFSETFROM:+0200
TZOFFSETTO:+0100
TZNAME:CET
DTSTART:20251026T010000
END:STANDARD
END:VTIMEZONE
BEGIN:VEVENT
DTSTART;TZID=Europe/Madrid:20250424T210000
DTEND;TZID=Europe/Madrid:20250425T160000
DTSTAMP:20260420T121010
CREATED:20250424T113540Z
LAST-MODIFIED:20250424T113540Z
UID:10015778-1745528400-1745596800@white-ibiza.com
SUMMARY:Back To Mine Opening Party at Pikes Ibiza
DESCRIPTION:The iconic Back To Mine albums are a staple in any music lover’s collection – the soundtrack to countless afterparties\, the musical accompaniment to the mornings after\, the must-have playlists for a road trip and now\, more recently\, the must-visit parties at Pikes Ibiza. \nEmbark on a musical odyssey as Back To Mine returns to its spiritual home this season\, kicking off tonight from 9pm. Get into the groove by the pool with Kakura\, 8 Bit Society and Nutritious\, then shimmy into Plaza Mayor where Paul Harris from Grammy winning Dirty Vegas is joined by Mas Que nada and Christophe b2b Hamish Hey What. Very special superstar guests Eats Everything and Fat Tony return to Freddies to keep you on your toes until the early hours\, while over in the Bathtub Club\, Days of Disco go silly to the sounds of Centrl\, Storm Mollison\, Cash Only\, Syncia and Zach Witness. Summer has officially begun.
URL:https://white-ibiza.com/ibiza-calendar/back-to-mine-opening-party-at-pikes-ibiza/
LOCATION:Pikes Ibiza\, Camí de Sa Vorera\, Sant Antoni de Portmany\, Is\, 07820\, Spain
CATEGORIES:Clubs,Nightlife
ATTACH;FMTTYPE=image/jpeg:https://white-ibiza.com/wp-content/uploads/2025/04/white-ibiza-calendar-back-to-mine-pikes-ibiza-2025.jpeg
GEO:38.986598;1.3254823
X-APPLE-STRUCTURED-LOCATION;VALUE=URI;X-ADDRESS=Pikes Ibiza Camí de Sa Vorera Sant Antoni de Portmany Is 07820 Spain;X-APPLE-RADIUS=500;X-TITLE=Camí de Sa Vorera:geo:1.3254823,38.986598
END:VEVENT
BEGIN:VEVENT
DTSTART;TZID=Europe/Madrid:20250425T170000
DTEND;TZID=Europe/Madrid:20250425T235900
DTSTAMP:20260420T121010
CREATED:20250123T220310Z
LAST-MODIFIED:20250424T124253Z
UID:10013900-1745600400-1745625540@white-ibiza.com
SUMMARY:IMS Dalt Vila at Baluarte de Santa Lucía
DESCRIPTION:The International Music Summit landed in Ibiza this week\, with its famed open-air party known among many revellers as the official kick-off for the island’s busy party season. Tonight\, the summit reaches its crescendo with the grand finale event\, IMS Dalt Vila\, hosted within the historic fortress walls of Dalt Vila\, a UNESCO World Heritage Listed Site in Ibiza’s old town. \nThis epic seven-hour affair promises an electrifying line-up featuring performances by Luxi Villar\, Girls Don’t Sync\, TSHA B2B Bradley Zero\, Pete Tong B2B Deer Jade\, Korolova\, HUGEL B2B Major League DJz and Paco Osuna. Entry is included in the cost of IMS delegate badges\, or general admission tickets are priced at 60€ per person and will be in high demand – snap yours up early to guarantee entry.
URL:https://white-ibiza.com/ibiza-calendar/ims-dalt-vila-at-baluarte-de-santa-lucia/
LOCATION:Dalt Vila\, Plaça de Vila\, Eivissa\, Islas Baleares\, 07800\, Spain
CATEGORIES:Clubs
ATTACH;FMTTYPE=image/jpeg:https://white-ibiza.com/wp-content/uploads/2025/01/white-ibiza-club-calendar-ims-dalt-vila-2025.jpeg
GEO:38.9081673;1.4361561
X-APPLE-STRUCTURED-LOCATION;VALUE=URI;X-ADDRESS=Dalt Vila Plaça de Vila Eivissa Islas Baleares 07800 Spain;X-APPLE-RADIUS=500;X-TITLE=Plaça de Vila:geo:1.4361561,38.9081673
END:VEVENT
BEGIN:VEVENT
DTSTART;TZID=Europe/Madrid:20250425T235900
DTEND;TZID=Europe/Madrid:20250426T060000
DTSTAMP:20260420T121010
CREATED:20250424T124633Z
LAST-MODIFIED:20250424T124633Z
UID:10015780-1745625540-1745647200@white-ibiza.com
SUMMARY:Pacha Opening Weekend with Solomun at Pacha Ibiza
DESCRIPTION:The first wave of the Ibiza 2025 opening weekends begins just after Easter this year\, with the popping of the red cherries at Pacha Ibiza by Solomun on Friday April 25\, 2025. Presiding over the first night of the three-part Pacha Opening Party weekend extravaganza\, the long-time club resident plays all night long\, as he prefers it\, as he clears the dust from the dancefloor and brings the sparkle back to the glitterballs for another year. \nCelebrating over 50 years of entertaining clubbers on the edge of Ibiza town\, like many Ibiza residents\, Pacha Ibiza shows no sign of slowing down or ageing. A dynamic array of electronic artists – both favourably established and pioneering and fresh\, pop into the legendary club over the course of its opening weekend – and it really wouldn’t be the start of summer without a night of swishing on that dancefloor or getting lost in those meandering corridors again. Disco heels at the ready!
URL:https://white-ibiza.com/ibiza-calendar/pacha-opening-weekend-with-solomun-at-pacha-ibiza/
LOCATION:Pacha Ibiza\, Avinguda 8 d'Agost\, Eivissa\, Islas Baleares\, 07800\, Spain
CATEGORIES:Clubs
ATTACH;FMTTYPE=image/jpeg:https://white-ibiza.com/wp-content/uploads/2025/04/white-ibiza-club-calendar-solomun-plus-one-pacha-ibiza-2025-04.jpeg
GEO:38.9177309;1.4446226
X-APPLE-STRUCTURED-LOCATION;VALUE=URI;X-ADDRESS=Pacha Ibiza Avinguda 8 d'Agost Eivissa Islas Baleares 07800 Spain;X-APPLE-RADIUS=500;X-TITLE=Avinguda 8 d'Agost:geo:1.4446226,38.9177309
END:VEVENT
END:VCALENDAR