BEGIN:VCALENDAR
VERSION:2.0
PRODID:-//WHITE IBIZA - ECPv6.6.0.2//NONSGML v1.0//EN
CALSCALE:GREGORIAN
METHOD:PUBLISH
X-ORIGINAL-URL:https://white-ibiza.com
X-WR-CALDESC:Events for WHITE IBIZA
REFRESH-INTERVAL;VALUE=DURATION:PT1H
X-Robots-Tag:noindex
X-PUBLISHED-TTL:PT1H
BEGIN:VTIMEZONE
TZID:Europe/Madrid
BEGIN:DAYLIGHT
TZOFFSETFROM:+0100
TZOFFSETTO:+0200
TZNAME:CEST
DTSTART:20250330T010000
END:DAYLIGHT
BEGIN:STANDARD
TZOFFSETFROM:+0200
TZOFFSETTO:+0100
TZNAME:CET
DTSTART:20251026T010000
END:STANDARD
END:VTIMEZONE
BEGIN:VEVENT
DTSTART;TZID=Europe/Madrid:20250419T210000
DTEND;TZID=Europe/Madrid:20250420T040000
DTSTAMP:20260420T205928
CREATED:20250514T230843Z
LAST-MODIFIED:20250514T230929Z
UID:10017379-1745096400-1745121600@white-ibiza.com
SUMMARY:Pikes House Party at Pikes Ibiza
DESCRIPTION:Saturday nights at Pikes Ibiza are the busiest\, buzziest night of the week in the iconic hotel in the hills of San Antonio – as the saying goes\, there’s no party like a Pikes House Party! The nightlife venue’s signature soirée is a full-blown\, all-night adventure through one of Ibiza’s most delightfully unhinged wonderlands\, and it all starts on the Sunset Terrace\, where the Pikes House Band put their own unique twist on the dinner-and-a-show concept. \nFrom there\, it’s a slow spin through the alfresco playground of Plaza Mayor before diving headfirst into Freddies to twirl below the islands favourite discoball until the early hours. Expect house\, disco\, Balearic oddities and feel-good gold from some of the very best DJs in the world\, up close and personal in the intimat club room. Add in some time spent dancing in the world’s tiniest discotheque\, aka The Bathtub Club\, singalongs with the Crazy Piano Man and a garden full of beautiful misfits and you’ve got a night of unpredictable\, unforgettable magic and madness. Entry is always free but you do need to register for guestlist in advance at the link below.
URL:https://white-ibiza.com/ibiza-calendar/pikes-house-party-at-pikes-ibiza/2025-04-19/
LOCATION:Pikes Ibiza\, Camí de Sa Vorera\, Sant Antoni de Portmany\, Is\, 07820\, Spain
CATEGORIES:Clubs
ATTACH;FMTTYPE=image/jpeg:https://white-ibiza.com/wp-content/uploads/2025/05/white-ibiza-club-calendar-pikes-house-party-pikes-ibiza-2025.jpeg
GEO:38.986598;1.3254823
X-APPLE-STRUCTURED-LOCATION;VALUE=URI;X-ADDRESS=Pikes Ibiza Camí de Sa Vorera Sant Antoni de Portmany Is 07820 Spain;X-APPLE-RADIUS=500;X-TITLE=Camí de Sa Vorera:geo:1.3254823,38.986598
END:VEVENT
BEGIN:VEVENT
DTSTART;TZID=Europe/Madrid:20250419T210000
DTEND;TZID=Europe/Madrid:20250420T060000
DTSTAMP:20260420T205928
CREATED:20250417T133254Z
LAST-MODIFIED:20250417T133254Z
UID:10015161-1745096400-1745128800@white-ibiza.com
SUMMARY:Keep On Dancing at Es Paradis
DESCRIPTION:Keep On Dancing makes its return to Es Paradis this Easter weekend\, bringing colour\, character and an effortlessly cool crowd that’s made the party one of the island’s underground staples. From disco to deep house and through to something a little heavier after dark\, it’s a free-spirited blend of groove-led sound and playful atmosphere all served up in one of Ibiza’s most iconic and old-school venues. \nThings kick off at 9pm on Saturday April 19\, 2025 with aperitivos from La Tana\, with good wine\, small bites and the kind of early-evening atmosphere that sets the tone for the mayhem to come. All three of the club rooms are programmed with some of the best names in underground sounds\, including Jonny Rock\, Magda\, Knario\, Miller and Be.Lanuit in the main room\, and Jeremy Weeks\, Stephane Ghenacia\, Santanna Oush and Chelu Garcia in the Latina Room\, while the Blue Room is hosted by Softies. From laid-back locals and intrigued first-timers to seasoned island faces\, everyone is at Keep On Dancing for the same reason: a proper pre-season night out!
URL:https://white-ibiza.com/ibiza-calendar/keep-on-dancing-at-es-paradis/
LOCATION:Es Paradis\, Carrer Salvador Espriu\, Sant Antoni de Portmany\, Islas Baleares\, 07820\, Spain
CATEGORIES:Clubs
ATTACH;FMTTYPE=image/jpeg:https://white-ibiza.com/wp-content/uploads/2025/04/white-ibiza-calendar-es-paradis-2025-01.jpeg
GEO:38.9786591;1.3079518
X-APPLE-STRUCTURED-LOCATION;VALUE=URI;X-ADDRESS=Es Paradis Carrer Salvador Espriu Sant Antoni de Portmany Islas Baleares 07820 Spain;X-APPLE-RADIUS=500;X-TITLE=Carrer Salvador Espriu:geo:1.3079518,38.9786591
END:VEVENT
END:VCALENDAR