BEGIN:VCALENDAR
VERSION:2.0
PRODID:-//WHITE IBIZA - ECPv6.6.0.2//NONSGML v1.0//EN
CALSCALE:GREGORIAN
METHOD:PUBLISH
X-WR-CALNAME:WHITE IBIZA
X-ORIGINAL-URL:https://white-ibiza.com
X-WR-CALDESC:Events for WHITE IBIZA
REFRESH-INTERVAL;VALUE=DURATION:PT1H
X-Robots-Tag:noindex
X-PUBLISHED-TTL:PT1H
BEGIN:VTIMEZONE
TZID:Europe/Madrid
BEGIN:DAYLIGHT
TZOFFSETFROM:+0100
TZOFFSETTO:+0200
TZNAME:CEST
DTSTART:20250330T010000
END:DAYLIGHT
BEGIN:STANDARD
TZOFFSETFROM:+0200
TZOFFSETTO:+0100
TZNAME:CET
DTSTART:20251026T010000
END:STANDARD
END:VTIMEZONE
BEGIN:VEVENT
DTSTART;TZID=Europe/Madrid:20250323T120000
DTEND;TZID=Europe/Madrid:20250324T060000
DTSTAMP:20260424T104857
CREATED:20250320T130734Z
LAST-MODIFIED:20250320T130734Z
UID:10014639-1742731200-1742796000@white-ibiza.com
SUMMARY:Namaste Fiesta de la Primavera at Las Dalias & Akasha Ibiza
DESCRIPTION:This weekend\, the legendary Namaste party night takes over Las Dalias and Akasha Ibiza for its annual Fiesta de la Primavera – spring is finally here! Bringing its eclectic music and earthy tribal beats to the vibrant San Carlos hotspot\, home of the famous hippy market\, Namaste kicks off from 12pm in the gardens and continues well into the early hours in the club. \nJoin the who’s who of the island alternative crew as music and magic fill the air\, and you’ll soon see why this party is so iconic\, with special guest DJs Talcual\, Joselito\, Pomboklap and Gaya Brisa by day and Joselito\, Lotus Imane and Neliah Kandisha on the decks from 8pm inside – it seems the party never ends in this far northern corner of the island.Entry is free in the garden\, and pre-tickets to Akasha Ibiza are 15€ at the link below.
URL:https://white-ibiza.com/ibiza-calendar/namaste-fiesta-de-la-primavera-at-las-dalias-akasha-ibiza/
LOCATION:Las Dalias Hippy Market\, San Carlos\, Islas Baleares\, 07850\, Spain
CATEGORIES:Clubs
ATTACH;FMTTYPE=image/jpeg:https://white-ibiza.com/wp-content/uploads/2025/03/white-ibiza-calendar-namaste-las-dalias-akasha-ibiza-2025.jpeg
GEO:39.0330945;1.5649456
END:VEVENT
END:VCALENDAR