BEGIN:VCALENDAR
VERSION:2.0
PRODID:-//WHITE IBIZA - ECPv6.6.0.2//NONSGML v1.0//EN
CALSCALE:GREGORIAN
METHOD:PUBLISH
X-WR-CALNAME:WHITE IBIZA
X-ORIGINAL-URL:https://white-ibiza.com
X-WR-CALDESC:Events for WHITE IBIZA
REFRESH-INTERVAL;VALUE=DURATION:PT1H
X-Robots-Tag:noindex
X-PUBLISHED-TTL:PT1H
BEGIN:VTIMEZONE
TZID:Europe/Madrid
BEGIN:DAYLIGHT
TZOFFSETFROM:+0100
TZOFFSETTO:+0200
TZNAME:CEST
DTSTART:20270328T010000
END:DAYLIGHT
BEGIN:STANDARD
TZOFFSETFROM:+0200
TZOFFSETTO:+0100
TZNAME:CET
DTSTART:20271031T010000
END:STANDARD
END:VTIMEZONE
BEGIN:VEVENT
DTSTART;TZID=Europe/Madrid:20270815T163000
DTEND;TZID=Europe/Madrid:20270815T210000
DTSTAMP:20260425T183433
CREATED:20260423T095943Z
LAST-MODIFIED:20260423T095943Z
UID:10032059-1818347400-1818363600@white-ibiza.com
SUMMARY:Fat Tony's Boat Brunch at Irish Beach
DESCRIPTION:Steady those sea legs and batten down the hatches as Fat Tony’s Boat Brunch sets sail from San Antonio on selected Sundays throughout high summer. Kicking off two hours before departure at Irish Beach\, just a three-minute stroll from the harbour\, guests gather for an exclusive pre-party with special guest DJs\, dancers\, sunshine and of course\, the chance to meet Fat Tony himself.\nUpgrade to the Boat Brunch Ticket and you’ll also be treated to a spread of Spanish fare and unlimited prosecco at Irish Beach. Going back to the original Ibiza party vibes of the 90s\, get ready for three hours of house\, disco and feel-good Ibiza energy on the open seas. Capacity is strictly limited on each vessel\, so early booking is strongly recommended. 
URL:https://white-ibiza.com/ibiza-calendar/fat-tonys-boat-brunch-at-irish-beach/2027-08-15/
LOCATION:Illes Balears
CATEGORIES:Nightlife
ATTACH;FMTTYPE=image/jpeg:https://white-ibiza.com/wp-content/uploads/2026/04/white-ibiza-calendar-fat-tonys-boat-brunch-2026.jpeg
END:VEVENT
END:VCALENDAR