BEGIN:VCALENDAR
VERSION:2.0
PRODID:-//WHITE IBIZA - ECPv6.6.0.2//NONSGML v1.0//EN
CALSCALE:GREGORIAN
METHOD:PUBLISH
X-WR-CALNAME:WHITE IBIZA
X-ORIGINAL-URL:https://white-ibiza.com
X-WR-CALDESC:Events for WHITE IBIZA
REFRESH-INTERVAL;VALUE=DURATION:PT1H
X-Robots-Tag:noindex
X-PUBLISHED-TTL:PT1H
BEGIN:VTIMEZONE
TZID:Europe/Madrid
BEGIN:DAYLIGHT
TZOFFSETFROM:+0100
TZOFFSETTO:+0200
TZNAME:CEST
DTSTART:20270328T010000
END:DAYLIGHT
BEGIN:STANDARD
TZOFFSETFROM:+0200
TZOFFSETTO:+0100
TZNAME:CET
DTSTART:20271031T010000
END:STANDARD
END:VTIMEZONE
BEGIN:VEVENT
DTSTART;VALUE=DATE:20270812
DTEND;VALUE=DATE:20270814
DTSTAMP:20260425T135237
CREATED:20260423T095633Z
LAST-MODIFIED:20260423T095633Z
UID:10031998-1818054000-1818140399@white-ibiza.com
SUMMARY:COSMOS WEEK at Cala San Miguel Ibiza Resort
DESCRIPTION:COSMOS WEEK at Cala San Miguel Ibiza Resort lifts off on Monday August 10\, 2026\, and runs until Friday August 14 where five days of stargazing\, stillness and slow luxury await at one of the island’s most breathtaking natural settings. Perched above the tranquil bay of Cala San Miguel in Ibiza’s wild and wonderful north\, this adults-only retreat is the perfect spot to catch both the solar eclipse and the peak of the Perseid meteor shower\, making the sky above as spectacular as the setting below. \nCala San Miguel Ibiza Resort (part of the Curio Collection by Hilton) provides one of the most beautiful backdrops for yoga\, meditation and a program designed to reconnect mind\, body and the cosmos. Places are limited\, so if the idea of lying on a sun-warmed terrace watching shooting stars arc over the Mediterranean sounds like your kind of magic\, now is very much the time to book your place before it’s gone. 
URL:https://white-ibiza.com/ibiza-calendar/cosmos-week-at-cala-san-miguel-ibiza-resort/2027-08-12/
LOCATION:Illes Balears
CATEGORIES:Wellness,Culture
ATTACH;FMTTYPE=image/jpeg:https://white-ibiza.com/wp-content/uploads/2026/04/white-ibiza-calendar-cala-san-miguel-ibiza-resort-cosmos-week-2026.jpeg
END:VEVENT
BEGIN:VEVENT
DTSTART;TZID=Europe/Madrid:20270812T230000
DTEND;TZID=Europe/Madrid:20270813T060000
DTSTAMP:20260425T135237
CREATED:20260112T162933Z
LAST-MODIFIED:20260112T162933Z
UID:10029746-1818111600-1818136800@white-ibiza.com
SUMMARY:Defected at Chinois
DESCRIPTION:In this season’s game of clubbing musical chairs\, Chinois Ibiza welcomes island stalwarts\, Defected\, for a summer of serious house music vibes. The Marina-side venue\, with its intimate atmosphere\, cutting-edge soundsystem and über cool clientele\, opens its doors every Thursday night throughout the summer to one of dance music’s most respected labels and as far as dynamic duos go it doesn’t get much better than this new pairing.  \nAs the Ibiza clubbing scene continues to shift and change\, there’s no better way to pre-start your weekend than a funky strut on one of the island’s most stylish dancefloors to some of house music’s biggest sounds.   \nLine-ups for the weekly Defected at Chinois Ibiza events to be announced soon and tickets and VIP tables are already on sale at the link below. Watch this space for further updates\, then non your dancing shoes and your most glam fit and hit what promises to be a match made in clubbing heaven.
URL:https://white-ibiza.com/ibiza-calendar/defected-at-chinois/2027-08-12/
LOCATION:Club Chinois\, Passeig Joan Carles I\, Eivissa\, Islas Baleares\, 07800\, Spain
CATEGORIES:Clubs
ATTACH;FMTTYPE=image/jpeg:https://white-ibiza.com/wp-content/uploads/2024/04/white-ibiza-clubbing-chinois-ibiza-2025-14.jpeg
GEO:38.9166558;1.4418039
X-APPLE-STRUCTURED-LOCATION;VALUE=URI;X-ADDRESS=Club Chinois Passeig Joan Carles I Eivissa Islas Baleares 07800 Spain;X-APPLE-RADIUS=500;X-TITLE=Passeig Joan Carles I:geo:1.4418039,38.9166558
END:VEVENT
END:VCALENDAR