BEGIN:VCALENDAR
VERSION:2.0
PRODID:-//WHITE IBIZA - ECPv6.6.0.2//NONSGML v1.0//EN
CALSCALE:GREGORIAN
METHOD:PUBLISH
X-ORIGINAL-URL:https://white-ibiza.com
X-WR-CALDESC:Events for WHITE IBIZA
REFRESH-INTERVAL;VALUE=DURATION:PT1H
X-Robots-Tag:noindex
X-PUBLISHED-TTL:PT1H
BEGIN:VTIMEZONE
TZID:Europe/Madrid
BEGIN:DAYLIGHT
TZOFFSETFROM:+0100
TZOFFSETTO:+0200
TZNAME:CEST
DTSTART:20270328T010000
END:DAYLIGHT
BEGIN:STANDARD
TZOFFSETFROM:+0200
TZOFFSETTO:+0100
TZNAME:CET
DTSTART:20271031T010000
END:STANDARD
END:VTIMEZONE
BEGIN:VEVENT
DTSTART;VALUE=DATE:20270809
DTEND;VALUE=DATE:20270811
DTSTAMP:20260423T151348
CREATED:20260423T095633Z
LAST-MODIFIED:20260423T095633Z
UID:10031995-1817794800-1817881199@white-ibiza.com
SUMMARY:COSMOS WEEK at Cala San Miguel Ibiza Resort
DESCRIPTION:COSMOS WEEK at Cala San Miguel Ibiza Resort lifts off on Monday August 10\, 2026\, and runs until Friday August 14 where five days of stargazing\, stillness and slow luxury await at one of the island’s most breathtaking natural settings. Perched above the tranquil bay of Cala San Miguel in Ibiza’s wild and wonderful north\, this adults-only retreat is the perfect spot to catch both the solar eclipse and the peak of the Perseid meteor shower\, making the sky above as spectacular as the setting below. \nCala San Miguel Ibiza Resort (part of the Curio Collection by Hilton) provides one of the most beautiful backdrops for yoga\, meditation and a program designed to reconnect mind\, body and the cosmos. Places are limited\, so if the idea of lying on a sun-warmed terrace watching shooting stars arc over the Mediterranean sounds like your kind of magic\, now is very much the time to book your place before it’s gone. 
URL:https://white-ibiza.com/ibiza-calendar/cosmos-week-at-cala-san-miguel-ibiza-resort/2027-08-09/
LOCATION:Illes Balears
CATEGORIES:Wellness,Culture
ATTACH;FMTTYPE=image/jpeg:https://white-ibiza.com/wp-content/uploads/2026/04/white-ibiza-calendar-cala-san-miguel-ibiza-resort-cosmos-week-2026.jpeg
END:VEVENT
END:VCALENDAR