BEGIN:VCALENDAR
VERSION:2.0
PRODID:-//WHITE IBIZA - ECPv6.6.0.2//NONSGML v1.0//EN
CALSCALE:GREGORIAN
METHOD:PUBLISH
X-ORIGINAL-URL:https://white-ibiza.com
X-WR-CALDESC:Events for WHITE IBIZA
REFRESH-INTERVAL;VALUE=DURATION:PT1H
X-Robots-Tag:noindex
X-PUBLISHED-TTL:PT1H
BEGIN:VTIMEZONE
TZID:Europe/Madrid
BEGIN:DAYLIGHT
TZOFFSETFROM:+0100
TZOFFSETTO:+0200
TZNAME:CEST
DTSTART:20270328T010000
END:DAYLIGHT
BEGIN:STANDARD
TZOFFSETFROM:+0200
TZOFFSETTO:+0100
TZNAME:CET
DTSTART:20271031T010000
END:STANDARD
END:VTIMEZONE
BEGIN:VEVENT
DTSTART;VALUE=DATE:20270808
DTEND;VALUE=DATE:20270810
DTSTAMP:20260423T121912
CREATED:20260423T095633Z
LAST-MODIFIED:20260423T095633Z
UID:10031994-1817708400-1817794799@white-ibiza.com
SUMMARY:COSMOS WEEK at Cala San Miguel Ibiza Resort
DESCRIPTION:COSMOS WEEK at Cala San Miguel Ibiza Resort lifts off on Monday August 10\, 2026\, and runs until Friday August 14 where five days of stargazing\, stillness and slow luxury await at one of the island’s most breathtaking natural settings. Perched above the tranquil bay of Cala San Miguel in Ibiza’s wild and wonderful north\, this adults-only retreat is the perfect spot to catch both the solar eclipse and the peak of the Perseid meteor shower\, making the sky above as spectacular as the setting below. \nCala San Miguel Ibiza Resort (part of the Curio Collection by Hilton) provides one of the most beautiful backdrops for yoga\, meditation and a program designed to reconnect mind\, body and the cosmos. Places are limited\, so if the idea of lying on a sun-warmed terrace watching shooting stars arc over the Mediterranean sounds like your kind of magic\, now is very much the time to book your place before it’s gone. 
URL:https://white-ibiza.com/ibiza-calendar/cosmos-week-at-cala-san-miguel-ibiza-resort/2027-08-08/
CATEGORIES:Wellness,Culture
ATTACH;FMTTYPE=image/jpeg:https://white-ibiza.com/wp-content/uploads/2026/04/white-ibiza-calendar-cala-san-miguel-ibiza-resort-cosmos-week-2026.jpeg
END:VEVENT
BEGIN:VEVENT
DTSTART;TZID=Europe/Madrid:20270808T163000
DTEND;TZID=Europe/Madrid:20270808T210000
DTSTAMP:20260423T121912
CREATED:20260423T095943Z
LAST-MODIFIED:20260423T095943Z
UID:10032058-1817742600-1817758800@white-ibiza.com
SUMMARY:Fat Tony's Boat Brunch at Irish Beach
DESCRIPTION:Steady those sea legs and batten down the hatches as Fat Tony’s Boat Brunch sets sail from San Antonio on selected Sundays throughout high summer. Kicking off two hours before departure at Irish Beach\, just a three-minute stroll from the harbour\, guests gather for an exclusive pre-party with special guest DJs\, dancers\, sunshine and of course\, the chance to meet Fat Tony himself.\nUpgrade to the Boat Brunch Ticket and you’ll also be treated to a spread of Spanish fare and unlimited prosecco at Irish Beach. Going back to the original Ibiza party vibes of the 90s\, get ready for three hours of house\, disco and feel-good Ibiza energy on the open seas. Capacity is strictly limited on each vessel\, so early booking is strongly recommended. 
URL:https://white-ibiza.com/ibiza-calendar/fat-tonys-boat-brunch-at-irish-beach/2027-08-08/
CATEGORIES:Nightlife
ATTACH;FMTTYPE=image/jpeg:https://white-ibiza.com/wp-content/uploads/2026/04/white-ibiza-calendar-fat-tonys-boat-brunch-2026.jpeg
END:VEVENT
END:VCALENDAR