BEGIN:VCALENDAR
VERSION:2.0
PRODID:-//WHITE IBIZA - ECPv6.6.0.2//NONSGML v1.0//EN
CALSCALE:GREGORIAN
METHOD:PUBLISH
X-ORIGINAL-URL:https://white-ibiza.com
X-WR-CALDESC:Events for WHITE IBIZA
REFRESH-INTERVAL;VALUE=DURATION:PT1H
X-Robots-Tag:noindex
X-PUBLISHED-TTL:PT1H
BEGIN:VTIMEZONE
TZID:Europe/Madrid
BEGIN:DAYLIGHT
TZOFFSETFROM:+0100
TZOFFSETTO:+0200
TZNAME:CEST
DTSTART:20260329T010000
END:DAYLIGHT
BEGIN:STANDARD
TZOFFSETFROM:+0200
TZOFFSETTO:+0100
TZNAME:CET
DTSTART:20261025T010000
END:STANDARD
END:VTIMEZONE
BEGIN:VEVENT
DTSTART;TZID=Europe/Madrid:20260708T080000
DTEND;TZID=Europe/Madrid:20260708T200000
DTSTAMP:20260426T023142
CREATED:20260319T144915Z
LAST-MODIFIED:20260320T091522Z
UID:10031071-1783497600-1783540800@white-ibiza.com
SUMMARY:Afterglow Happy Hour in Jara at The Standard\, Ibiza
DESCRIPTION:As the glorious island sunshine melts into the horizon\, Jara – the stylish ground floor restaurant and bar at The Standard\, Ibiza in Ibiza town – sets the tone for the night ahead with Afterglow Happy Hour\, running every evening from 6pm to 8pm\, all year round. Whether it’s an after work catch-up\, a post-shopping wind-down or a cosy spring warm-up\, this buzzing island hotspot invites you to sip two-for-one cocktails as the evening unfolds.  \nWith its über-cool ambience\, Jara is the place to see and be seen\, offering a seamless transition from the glow of golden hour to Ibiza’s vibrant nightlife. Settle into a plush seat or perch at the bar with the locals\, raise a glass and let the afterglow linger a little longer\, because every great night starts with that perfect first sip… or two!    
URL:https://white-ibiza.com/ibiza-calendar/afterglow-happy-hour-in-jara-at-the-standard-ibiza/2026-07-08/
LOCATION:The Standard\, Ibiza\, Carrer de Bartomeu Vicent Ramon\, Eivissa\, Islas Baleares\, 07800\, Spain
CATEGORIES:Nightlife
ATTACH;FMTTYPE=image/jpeg:https://white-ibiza.com/wp-content/uploads/2025/07/white-ibiza-calendar-happy-hour-jara-the-standard-ibiza-2025.jpeg
GEO:38.909914;1.4340569
X-APPLE-STRUCTURED-LOCATION;VALUE=URI;X-ADDRESS=The Standard Ibiza Carrer de Bartomeu Vicent Ramon Eivissa Islas Baleares 07800 Spain;X-APPLE-RADIUS=500;X-TITLE=Carrer de Bartomeu Vicent Ramon:geo:1.4340569,38.909914
END:VEVENT
BEGIN:VEVENT
DTSTART;TZID=Europe/Madrid:20260708T170000
DTEND;TZID=Europe/Madrid:20260708T230000
DTSTAMP:20260426T023143
CREATED:20260122T140300Z
LAST-MODIFIED:20260122T140300Z
UID:10030449-1783530000-1783551600@white-ibiza.com
SUMMARY:Tomorrowland presents Dimitri Vegas & Like Mike at Ushuaïa Ibiza
DESCRIPTION:Tomorrowland\, Dimitri Vegas & Like Mike have clicked their ruby slippers and uttered: “There’s no place like home” as they take over the island’s best-loved pool party and venue extraordinaire\, Ushuaïa Ibiza\, every Wednesday this season\, with a full immersion into Planaxis. Dive into a magical oceanic landscape inspired by The Story of Planaxis – the underwater universe that defined a landmark era for clubbing titan Tomorrowland.  Tomorrowland presents Dimitri Vegas & Like Mike at Ushuaïa Ibiza is a masterclass in production that takes you shimmying and splashing into an aquatic\, electronic realm by the famous open-air stage and pool in true festival style. Line–ups are still to be released but expect a world–class international roster of some of dance music’s best movers\, shakers and high–octane all–rounders. Watch this space for more details.  \n 
URL:https://white-ibiza.com/ibiza-calendar/tomorrowland-presents-dimitri-vegas-like-mike-at-ushuaia-ibiza-3/2026-07-08/
LOCATION:Ushuaïa Ibiza\, Carretera de Platja d'en Bossa\, Playa d'en Bossa\, Islas Baleares\, 07817\, Spain
CATEGORIES:Clubs
ATTACH;FMTTYPE=image/jpeg:https://white-ibiza.com/wp-content/uploads/2026/01/white-ibiza-club-calendar-tomorrowland-presents-dimitri-vegas-like-mike-ushuaia-ibiza-2026-05.jpeg
GEO:38.8853955;1.4048106
X-APPLE-STRUCTURED-LOCATION;VALUE=URI;X-ADDRESS=Ushuaïa Ibiza Carretera de Platja d'en Bossa Playa d'en Bossa Islas Baleares 07817 Spain;X-APPLE-RADIUS=500;X-TITLE=Carretera de Platja d'en Bossa:geo:1.4048106,38.8853955
END:VEVENT
BEGIN:VEVENT
DTSTART;TZID=Europe/Madrid:20260708T233000
DTEND;TZID=Europe/Madrid:20260709T060000
DTSTAMP:20260426T023143
CREATED:20260410T155221Z
LAST-MODIFIED:20260410T155222Z
UID:10031497-1783553400-1783576800@white-ibiza.com
SUMMARY:Paradise by Jamie Jones at [UNVRS]
DESCRIPTION:Jamie Jones has firmly stamped his identity on Wednesday nights at island clubbing colossus [UNVRS] and in 2026\, he invites clubbers aboard his futuristic arc: Starship Eden. This conscious cosmic garden promises to carry clubbers on a journey through the ether into a space where alien vegetation flourishes\, crystal vines hum and bioluminescent particles drift like sentient constellations while the house music vibes flow through it all.   \nParadise by Jamie Jones at [UNVRS] is one of the San Rafael hyperclub’s standout residencies\, with cutting-edge celestial production\, a world-class sound system and a sprinkle of the Paradise magic that propelled the Hot Creations founder to superstardom. The line-ups for Wednesday July 08\, 2026 sees Jamie Jones B2B with Marco Carola\, Nic Fanciulli\, Luuk Van DIJK and Olive F in the Main Room\, Italobros\, Calvin Clarke B2B Mason Maynard\, Easttown and Danny Gomez in Wild Comet and surprise guests in The Bunker. Book tickets and VIP tables to board the Starship Eden at the link below before they book out.  \n 
URL:https://white-ibiza.com/ibiza-calendar/paradise-by-jamie-jones-at-unvrs-6/
LOCATION:[UNVRS]\, San Rafael\, Islas Baleares\, 07816\, Spain
CATEGORIES:Clubs
ATTACH;FMTTYPE=image/jpeg:https://white-ibiza.com/wp-content/uploads/2026/04/white-ibiza-club-calendar-jamie-jones-paradise-unvrs-2026-06.jpeg
GEO:38.9621464;1.3986539
END:VEVENT
END:VCALENDAR