BEGIN:VCALENDAR
VERSION:2.0
PRODID:-//WHITE IBIZA - ECPv6.6.0.2//NONSGML v1.0//EN
CALSCALE:GREGORIAN
METHOD:PUBLISH
X-ORIGINAL-URL:https://white-ibiza.com
X-WR-CALDESC:Events for WHITE IBIZA
REFRESH-INTERVAL;VALUE=DURATION:PT1H
X-Robots-Tag:noindex
X-PUBLISHED-TTL:PT1H
BEGIN:VTIMEZONE
TZID:Europe/Madrid
BEGIN:DAYLIGHT
TZOFFSETFROM:+0100
TZOFFSETTO:+0200
TZNAME:CEST
DTSTART:20260329T010000
END:DAYLIGHT
BEGIN:STANDARD
TZOFFSETFROM:+0200
TZOFFSETTO:+0100
TZNAME:CET
DTSTART:20261025T010000
END:STANDARD
END:VTIMEZONE
BEGIN:VEVENT
DTSTART;TZID=Europe/Madrid:20260625T100000
DTEND;TZID=Europe/Madrid:20260628T210000
DTSTAMP:20260426T040054
CREATED:20251104T124943Z
LAST-MODIFIED:20251104T124943Z
UID:10027089-1782381600-1782680400@white-ibiza.com
SUMMARY:Can Art Ibiza
DESCRIPTION:The Balearic art world’s brightest weekend returns to the island in 2026 as CAN Art Ibiza once again transforms the island into a multi-disciplinary gallery of ideas\, colour and conversation. From June 25 to 28\, 2026\, the international fair gathers leading galleries\, collectors and artists from Ibiza and around the world under one creative banner to celebrate contemporary art through the unique lens of Ibiza’s free-spirited culture.  \nExpect installations\, exhibitions and performances that spill beyond the fairgrounds\, with satellite shows and pop-up events across the island. CAN ART Ibiza is where the island’s creative pulse beats strongest\, connecting global visionaries with the magic of the Mediterranean as the summer season is just getting started. 
URL:https://white-ibiza.com/ibiza-calendar/can-art-ibiza/
LOCATION:Recinto Ferial de Ibiza y Formentera\, Carretera d'Eivissa a Sant Antoni\, Ibiza\, Islas Baleares\, 07820\, Spain
CATEGORIES:Culture
ATTACH;FMTTYPE=image/jpeg:https://white-ibiza.com/wp-content/uploads/2024/11/white-ibiza-calendar-can-art-fair-2025.jpeg
GEO:38.9742441;1.3375798
X-APPLE-STRUCTURED-LOCATION;VALUE=URI;X-ADDRESS=Recinto Ferial de Ibiza y Formentera Carretera d'Eivissa a Sant Antoni Ibiza Islas Baleares 07820 Spain;X-APPLE-RADIUS=500;X-TITLE=Carretera d'Eivissa a Sant Antoni:geo:1.3375798,38.9742441
END:VEVENT
BEGIN:VEVENT
DTSTART;TZID=Europe/Madrid:20260627T080000
DTEND;TZID=Europe/Madrid:20260627T200000
DTSTAMP:20260426T040054
CREATED:20260319T144915Z
LAST-MODIFIED:20260320T091522Z
UID:10031060-1782547200-1782590400@white-ibiza.com
SUMMARY:Afterglow Happy Hour in Jara at The Standard\, Ibiza
DESCRIPTION:As the glorious island sunshine melts into the horizon\, Jara – the stylish ground floor restaurant and bar at The Standard\, Ibiza in Ibiza town – sets the tone for the night ahead with Afterglow Happy Hour\, running every evening from 6pm to 8pm\, all year round. Whether it’s an after work catch-up\, a post-shopping wind-down or a cosy spring warm-up\, this buzzing island hotspot invites you to sip two-for-one cocktails as the evening unfolds.  \nWith its über-cool ambience\, Jara is the place to see and be seen\, offering a seamless transition from the glow of golden hour to Ibiza’s vibrant nightlife. Settle into a plush seat or perch at the bar with the locals\, raise a glass and let the afterglow linger a little longer\, because every great night starts with that perfect first sip… or two!    
URL:https://white-ibiza.com/ibiza-calendar/afterglow-happy-hour-in-jara-at-the-standard-ibiza/2026-06-27/
LOCATION:The Standard\, Ibiza\, Carrer de Bartomeu Vicent Ramon\, Eivissa\, Islas Baleares\, 07800\, Spain
CATEGORIES:Nightlife
ATTACH;FMTTYPE=image/jpeg:https://white-ibiza.com/wp-content/uploads/2025/07/white-ibiza-calendar-happy-hour-jara-the-standard-ibiza-2025.jpeg
GEO:38.909914;1.4340569
X-APPLE-STRUCTURED-LOCATION;VALUE=URI;X-ADDRESS=The Standard Ibiza Carrer de Bartomeu Vicent Ramon Eivissa Islas Baleares 07800 Spain;X-APPLE-RADIUS=500;X-TITLE=Carrer de Bartomeu Vicent Ramon:geo:1.4340569,38.909914
END:VEVENT
BEGIN:VEVENT
DTSTART;TZID=Europe/Madrid:20260627T090000
DTEND;TZID=Europe/Madrid:20260627T100000
DTSTAMP:20260426T040054
CREATED:20260423T095039Z
LAST-MODIFIED:20260423T095039Z
UID:10031593-1782550800-1782554400@white-ibiza.com
SUMMARY:Yoga Sessions at La Torre Ibiza
DESCRIPTION:Stretch your way into the weekend at one of Ibiza’s most soul-soothing settings\, as the sandy rocks below La Torre Ibiza become an alfresco yoga studio every weekend through the summer. The glorious views alone are enough to calm your mind and open your heart. Saturdays start bright and early at 9am\, while Sundays begin gently at 9.30am.   \nSet above the sea in Cap Negret\, this peaceful spot feels miles away from the buzz of San Antonio\, with just the sounds of nature\, the scent of salt on the breeze and a little flow to set your day right. Arrive early so you have plenty of time to settle on the mat before class starts\, then stay for breakfast at La Torre Ibiza\, soak up the morning light and savour the start of the day\, Ibiza style.
URL:https://white-ibiza.com/ibiza-calendar/yoga-sessions-at-la-torre-ibiza-2/2026-06-27/
LOCATION:La Torre Ibiza\, Carretera Cap Negret\, Sant Antoni de Portmany\, Islas Baleares\, 07820\, Spain
CATEGORIES:Wellness
ATTACH;FMTTYPE=image/jpeg:https://white-ibiza.com/wp-content/uploads/2025/07/white-ibiza-calendar-la-torre-ibiza-yoga-2025-01.jpeg
GEO:38.9981354;1.2855332
X-APPLE-STRUCTURED-LOCATION;VALUE=URI;X-ADDRESS=La Torre Ibiza Carretera Cap Negret Sant Antoni de Portmany Islas Baleares 07820 Spain;X-APPLE-RADIUS=500;X-TITLE=Carretera Cap Negret:geo:1.2855332,38.9981354
END:VEVENT
BEGIN:VEVENT
DTSTART;TZID=Europe/Madrid:20260627T180000
DTEND;TZID=Europe/Madrid:20260628T040000
DTSTAMP:20260426T040054
CREATED:20260423T142733Z
LAST-MODIFIED:20260423T142733Z
UID:10032074-1782583200-1782619200@white-ibiza.com
SUMMARY:Crême de Crême at Playa Soleil Ibiza
DESCRIPTION:Saturday nights get a glow-up at Playa Soleil Ibiza this summer\, as Crême de Crême takes over the preimium après-dark slot with its much-loved series of stylish soirées. Part club night\, part curated experience\, it’s a heady blend of music\, art and fine food\, in true Ibiza-style.  \nLose yourself in the glow of candlelight among cutting-edge sounds and culinary surprises\, where the lines blur imperceptibly between delicious dinners and late night dancing. From the first sip to final track and all the signature Crême de Crême foamy flair in-between\, every Saturday night is full of flavour\, flair and just the right touch of Playa d’en Bossa mischief.
URL:https://white-ibiza.com/ibiza-calendar/creme-de-creme-at-playa-soleil-ibiza-5/2026-06-27/
LOCATION:Playa d’en Bossa\, Platja d'en Bossa\, San Jorge de ses Salines\, Islas Baleares\, 07800\, Spain
CATEGORIES:Clubs,Nightlife
ATTACH;FMTTYPE=image/jpeg:https://white-ibiza.com/wp-content/uploads/2025/07/white-ibiza-club-calendar-playa-soleil-creme-de-creme-2025-07.jpeg
GEO:38.8840273;1.4059791
X-APPLE-STRUCTURED-LOCATION;VALUE=URI;X-ADDRESS=Playa d’en Bossa Platja d'en Bossa San Jorge de ses Salines Islas Baleares 07800 Spain;X-APPLE-RADIUS=500;X-TITLE=Platja d'en Bossa:geo:1.4059791,38.8840273
END:VEVENT
BEGIN:VEVENT
DTSTART;TZID=Europe/Madrid:20260627T210000
DTEND;TZID=Europe/Madrid:20260628T040000
DTSTAMP:20260426T040054
CREATED:20260409T130247Z
LAST-MODIFIED:20260409T130247Z
UID:10031427-1782594000-1782619200@white-ibiza.com
SUMMARY:Pikes House Party at Pikes Ibiza
DESCRIPTION:As the saying goes\, there’s no party like a Pikes House Party\, and the island’s most beloved boutique hotel and party hotspot\, Pikes Ibiza\, is back with its frolic-filled flagship event every Saturday night throughout the summer. Imagine the best house party you ever went to\, throw in some shiny disco balls\, a whole lot of skipping the light fandango and a little dash of the unexpected and you’re only halfway there. \nPikes House Party famously begins around the Club Tropicana pool\, with some laid-back beats and ferociously strong cocktails. Over on The Sunset Terrace\, The Pikes House Band strut their stuff\, performing a mix of house classics and original jams over dinner. As the evening spills out into the hotel’s social buzzing heart\, Plaza Mayor\, toes start tapping and it’s time to hang on tight as you feel the inevitable pull of Freddies drawing you into its web of disco ditties and late-night jollies. \nThese riotous parties are not for the faint-hearted – bring your stamina and an open mind and you may just find yourself singing along with the Crazy Piano Man or hypothetically splashing around in the legendary Bathtub Club. Register for the free guestlist\, book a table in The Pikes Restaurant\, or opt for Night Slices in the Garden Bar to ensure entry at the link below.
URL:https://white-ibiza.com/ibiza-calendar/pikes-house-party-at-pikes-ibiza-2/2026-06-27/
LOCATION:Pikes Ibiza\, Camí de Sa Vorera\, Sant Antoni de Portmany\, Is\, 07820\, Spain
CATEGORIES:Culture,Nightlife
ATTACH;FMTTYPE=image/jpeg:https://white-ibiza.com/wp-content/uploads/2026/04/white-ibiza-club-calendar-pikes-house-party-freddies-pikes-ibiza-2026.jpeg
GEO:38.986598;1.3254823
X-APPLE-STRUCTURED-LOCATION;VALUE=URI;X-ADDRESS=Pikes Ibiza Camí de Sa Vorera Sant Antoni de Portmany Is 07820 Spain;X-APPLE-RADIUS=500;X-TITLE=Camí de Sa Vorera:geo:1.3254823,38.986598
END:VEVENT
BEGIN:VEVENT
DTSTART;TZID=Europe/Madrid:20260627T220000
DTEND;TZID=Europe/Madrid:20260628T060000
DTSTAMP:20260426T040054
CREATED:20260115T132256Z
LAST-MODIFIED:20260115T132256Z
UID:10030005-1782597600-1782626400@white-ibiza.com
SUMMARY:elrow Ibiza at [UNVRS]
DESCRIPTION:After a phenomenal debut year\, elrow Ibiza takes over [UNVRS] every Saturday night throughout the 2026 summer season\, bringing immersive inflatable insanity to the San Rafael hyperclub. The Barcelona-based collective invites you to dive headfirst into a new psychedelic adventure\, dubbed The WORTEX\, where minds will certainly be lost\, and new friends undoubtedly found. Cast reality aside and warp speed ahead into a parallel world where technicoloured chaos is the only rule. \nThe WOW Factory that is elrow Ibiza presents six eclectic worlds that include Neo Kaos Garden\, Delusionville 2.0\, Nowmads: New World and Hallucinarium. With the party centring on the spectacle of kinetic visuals\, sculptural works\, and live performances\, Saturday nights at [UNVRS] feel like a full-scale arthouse movie\, soundtracked by the whirlwind thump of house and techno. Enter the kaleidoscopic wormhole into a [UNVRS] of electronic shape throwing\, one that promises one of the must visit events of the season that boldly goes where no one has gone before.  \nLine-ups for elrow Ibiza at [UNVRS] in 2026 will be announced soon. Watch this space for news\, or get ahead and pre-book early bird tickets and VIP tables at the link below.
URL:https://white-ibiza.com/ibiza-calendar/elrow-ibiza-at-unvrs-6/2026-06-27/
LOCATION:[UNVRS]\, San Rafael\, Islas Baleares\, 07816\, Spain
CATEGORIES:Clubs
ATTACH;FMTTYPE=image/jpeg:https://white-ibiza.com/wp-content/uploads/2026/01/white-ibiza-club-calendar-elrow-ibiza-unvrs-2026-03.jpeg
GEO:38.9621464;1.3986539
END:VEVENT
BEGIN:VEVENT
DTSTART;TZID=Europe/Madrid:20260627T233000
DTEND;TZID=Europe/Madrid:20260628T060000
DTSTAMP:20260426T040054
CREATED:20260115T144322Z
LAST-MODIFIED:20260115T144322Z
UID:10030026-1782603000-1782626400@white-ibiza.com
SUMMARY:Claptone The Masquerade at Chinois Ibiza
DESCRIPTION:Masked musical maestro\, Claptone takes up residence in the Marina’s favourite clubbing hangout\, Chinois Ibiza\, with The Masquerade taking place every Saturday night throughout the summer. In Ibiza\, where basically every day is the weekend\, weekends sometimes lose their sparkle\, but what better way to buff up the shine than with dance music’s golden–faced DJ in one of the island’s sleekest venues?  For his (or her?) Chinois Ibiza second season\, expect extended house sets\, unlimited dancefloor glamour\, immersive production and unexpected guests in one of the island’s most intimate venues. It’s all about the music\, the mystery and of course\, the mask! Line-ups for Claptone The Masquerade at Chinois Ibiza are yet to be released\, but early bird tickets and VIP tables can already be snapped up at the link below.
URL:https://white-ibiza.com/ibiza-calendar/claptone-the-masquerade-at-chinois-ibiza-7/2026-06-27/
LOCATION:Club Chinois\, Passeig Joan Carles I\, Eivissa\, Islas Baleares\, 07800\, Spain
CATEGORIES:Clubs
ATTACH;FMTTYPE=image/jpeg:https://white-ibiza.com/wp-content/uploads/2026/01/white-ibiza-club-calendar-claptone-chinois-ibiza-2026-01.jpeg
GEO:38.9166558;1.4418039
X-APPLE-STRUCTURED-LOCATION;VALUE=URI;X-ADDRESS=Club Chinois Passeig Joan Carles I Eivissa Islas Baleares 07800 Spain;X-APPLE-RADIUS=500;X-TITLE=Passeig Joan Carles I:geo:1.4418039,38.9166558
END:VEVENT
END:VCALENDAR