BEGIN:VCALENDAR
VERSION:2.0
PRODID:-//WHITE IBIZA - ECPv6.6.0.2//NONSGML v1.0//EN
CALSCALE:GREGORIAN
METHOD:PUBLISH
X-WR-CALNAME:WHITE IBIZA
X-ORIGINAL-URL:https://white-ibiza.com
X-WR-CALDESC:Events for WHITE IBIZA
REFRESH-INTERVAL;VALUE=DURATION:PT1H
X-Robots-Tag:noindex
X-PUBLISHED-TTL:PT1H
BEGIN:VTIMEZONE
TZID:Europe/Madrid
BEGIN:DAYLIGHT
TZOFFSETFROM:+0100
TZOFFSETTO:+0200
TZNAME:CEST
DTSTART:20260329T010000
END:DAYLIGHT
BEGIN:STANDARD
TZOFFSETFROM:+0200
TZOFFSETTO:+0100
TZNAME:CET
DTSTART:20261025T010000
END:STANDARD
END:VTIMEZONE
BEGIN:VEVENT
DTSTART;TZID=Europe/Madrid:20260517T080000
DTEND;TZID=Europe/Madrid:20260517T200000
DTSTAMP:20260425T190033
CREATED:20260319T144915Z
LAST-MODIFIED:20260320T091522Z
UID:10031019-1779004800-1779048000@white-ibiza.com
SUMMARY:Afterglow Happy Hour in Jara at The Standard\, Ibiza
DESCRIPTION:As the glorious island sunshine melts into the horizon\, Jara – the stylish ground floor restaurant and bar at The Standard\, Ibiza in Ibiza town – sets the tone for the night ahead with Afterglow Happy Hour\, running every evening from 6pm to 8pm\, all year round. Whether it’s an after work catch-up\, a post-shopping wind-down or a cosy spring warm-up\, this buzzing island hotspot invites you to sip two-for-one cocktails as the evening unfolds.  \nWith its über-cool ambience\, Jara is the place to see and be seen\, offering a seamless transition from the glow of golden hour to Ibiza’s vibrant nightlife. Settle into a plush seat or perch at the bar with the locals\, raise a glass and let the afterglow linger a little longer\, because every great night starts with that perfect first sip… or two!    
URL:https://white-ibiza.com/ibiza-calendar/afterglow-happy-hour-in-jara-at-the-standard-ibiza/2026-05-17/
LOCATION:The Standard\, Ibiza\, Carrer de Bartomeu Vicent Ramon\, Eivissa\, Islas Baleares\, 07800\, Spain
CATEGORIES:Nightlife
ATTACH;FMTTYPE=image/jpeg:https://white-ibiza.com/wp-content/uploads/2025/07/white-ibiza-calendar-happy-hour-jara-the-standard-ibiza-2025.jpeg
GEO:38.909914;1.4340569
X-APPLE-STRUCTURED-LOCATION;VALUE=URI;X-ADDRESS=The Standard Ibiza Carrer de Bartomeu Vicent Ramon Eivissa Islas Baleares 07800 Spain;X-APPLE-RADIUS=500;X-TITLE=Carrer de Bartomeu Vicent Ramon:geo:1.4340569,38.909914
END:VEVENT
BEGIN:VEVENT
DTSTART;TZID=Europe/Madrid:20260517T090000
DTEND;TZID=Europe/Madrid:20260517T100000
DTSTAMP:20260425T190033
CREATED:20260423T095039Z
LAST-MODIFIED:20260423T095039Z
UID:10031582-1779008400-1779012000@white-ibiza.com
SUMMARY:Yoga Sessions at La Torre Ibiza
DESCRIPTION:Stretch your way into the weekend at one of Ibiza’s most soul-soothing settings\, as the sandy rocks below La Torre Ibiza become an alfresco yoga studio every weekend through the summer. The glorious views alone are enough to calm your mind and open your heart. Saturdays start bright and early at 9am\, while Sundays begin gently at 9.30am.   \nSet above the sea in Cap Negret\, this peaceful spot feels miles away from the buzz of San Antonio\, with just the sounds of nature\, the scent of salt on the breeze and a little flow to set your day right. Arrive early so you have plenty of time to settle on the mat before class starts\, then stay for breakfast at La Torre Ibiza\, soak up the morning light and savour the start of the day\, Ibiza style.
URL:https://white-ibiza.com/ibiza-calendar/yoga-sessions-at-la-torre-ibiza-2/2026-05-17/
LOCATION:La Torre Ibiza\, Carretera Cap Negret\, Sant Antoni de Portmany\, Islas Baleares\, 07820\, Spain
CATEGORIES:Wellness
ATTACH;FMTTYPE=image/jpeg:https://white-ibiza.com/wp-content/uploads/2025/07/white-ibiza-calendar-la-torre-ibiza-yoga-2025-01.jpeg
GEO:38.9981354;1.2855332
X-APPLE-STRUCTURED-LOCATION;VALUE=URI;X-ADDRESS=La Torre Ibiza Carretera Cap Negret Sant Antoni de Portmany Islas Baleares 07820 Spain;X-APPLE-RADIUS=500;X-TITLE=Carretera Cap Negret:geo:1.2855332,38.9981354
END:VEVENT
BEGIN:VEVENT
DTSTART;TZID=Europe/Madrid:20260517T100000
DTEND;TZID=Europe/Madrid:20260517T150000
DTSTAMP:20260425T190033
CREATED:20260112T084617Z
LAST-MODIFIED:20260112T084641Z
UID:10029489-1779012000-1779030000@white-ibiza.com
SUMMARY:Sunday Artisan Market in San Juan
DESCRIPTION:Every Sunday\, the sleepy village square of San Juan comes to life as the famous Artisan Market takes over the streets\, lanes and corners from 10am until 3pm\, drawing locals\, island families and curious visitors up into the north of the island. Stalls feature handmade crafts\, natural products\, jewellery\, crystals\, vintage pieces\, hand-stitched fashion\, homemade treats and kitchen-table creations from a community of artisans who have been holding court on Sundays in San Juan for years. \nThe atmosphere is bohemian\, musical and wonderfully laid-back as live musicians set up in the main village square\, friends linger over coffees\, kids weave between stalls and the whole village feels like one big family get-together\, all year round.
URL:https://white-ibiza.com/ibiza-calendar/sunday-artisan-market-in-san-juan-3/2026-05-17/
LOCATION:San Juan\, Sant Joan de Labritja\, Islas Baleares\, 07810\, Spain
CATEGORIES:Culture
ATTACH;FMTTYPE=image/jpeg:https://white-ibiza.com/wp-content/uploads/2025/12/white-ibiza-calendar-san-juan-market-2025.jpeg
GEO:39.0717396;1.5111806
END:VEVENT
BEGIN:VEVENT
DTSTART;TZID=Europe/Madrid:20260517T130000
DTEND;TZID=Europe/Madrid:20260518T040000
DTSTAMP:20260425T190033
CREATED:20260409T132355Z
LAST-MODIFIED:20260423T191718Z
UID:10031453-1779022800-1779076800@white-ibiza.com
SUMMARY:Sundays at Pikes at Pikes Ibiza
DESCRIPTION:Sundays at Pikes are an island institution\, where last night’s excesses are soothed by a dip\, a drink and a few Balearic bangers by the pool while the next day’s hangovers are only just getting started. \nWhether you’re fuelling up for the night ahead or soaking up the sins of the night before\, there’s no better remedy than the famous Pikes Sunday Roast prepared by in-house culinary maestro Tim Payne and his team of merry chefs at The Pikes Restaurant. Expect plates piled high with crispy roasties\, Yorkshire puds\, creamy cauliflower cheese and lots of gravy-drenched goodness. Throw in a cheeky espresso martini\, a little Plaza Mayor shimmy and suddenly you’re in Freddies until 4am\, dancing to the sounds of the world’s best DJs like Monday isn’t a thing. \nFrom roast to rave\, this is the kind of Sunday service you’ll want to go to again and again. Tables and guestlist at Pikes Ibiza get snapped up fast\, so be sure to book early.
URL:https://white-ibiza.com/ibiza-calendar/sundays-at-pikes-at-pikes-ibiza/2026-05-17/
LOCATION:Pikes Ibiza\, Camí de Sa Vorera\, Sant Antoni de Portmany\, Is\, 07820\, Spain
CATEGORIES:Foodies,Nightlife
ATTACH;FMTTYPE=image/jpeg:https://white-ibiza.com/wp-content/uploads/2026/04/white-ibiza-calendar-sundays-at-pikes-ibiza-2026.jpeg
GEO:38.986598;1.3254823
X-APPLE-STRUCTURED-LOCATION;VALUE=URI;X-ADDRESS=Pikes Ibiza Camí de Sa Vorera Sant Antoni de Portmany Is 07820 Spain;X-APPLE-RADIUS=500;X-TITLE=Camí de Sa Vorera:geo:1.3254823,38.986598
END:VEVENT
END:VCALENDAR