BEGIN:VCALENDAR
VERSION:2.0
PRODID:-//WHITE IBIZA - ECPv6.6.0.2//NONSGML v1.0//EN
CALSCALE:GREGORIAN
METHOD:PUBLISH
X-WR-CALNAME:WHITE IBIZA
X-ORIGINAL-URL:https://white-ibiza.com
X-WR-CALDESC:Events for WHITE IBIZA
REFRESH-INTERVAL;VALUE=DURATION:PT1H
X-Robots-Tag:noindex
X-PUBLISHED-TTL:PT1H
BEGIN:VTIMEZONE
TZID:Europe/Madrid
BEGIN:DAYLIGHT
TZOFFSETFROM:+0100
TZOFFSETTO:+0200
TZNAME:CEST
DTSTART:20260329T010000
END:DAYLIGHT
BEGIN:STANDARD
TZOFFSETFROM:+0200
TZOFFSETTO:+0100
TZNAME:CET
DTSTART:20261025T010000
END:STANDARD
END:VTIMEZONE
BEGIN:VEVENT
DTSTART;TZID=Europe/Madrid:20260512T080000
DTEND;TZID=Europe/Madrid:20260512T200000
DTSTAMP:20260425T202638
CREATED:20260319T144915Z
LAST-MODIFIED:20260320T091522Z
UID:10031014-1778572800-1778616000@white-ibiza.com
SUMMARY:Afterglow Happy Hour in Jara at The Standard\, Ibiza
DESCRIPTION:As the glorious island sunshine melts into the horizon\, Jara – the stylish ground floor restaurant and bar at The Standard\, Ibiza in Ibiza town – sets the tone for the night ahead with Afterglow Happy Hour\, running every evening from 6pm to 8pm\, all year round. Whether it’s an after work catch-up\, a post-shopping wind-down or a cosy spring warm-up\, this buzzing island hotspot invites you to sip two-for-one cocktails as the evening unfolds.  \nWith its über-cool ambience\, Jara is the place to see and be seen\, offering a seamless transition from the glow of golden hour to Ibiza’s vibrant nightlife. Settle into a plush seat or perch at the bar with the locals\, raise a glass and let the afterglow linger a little longer\, because every great night starts with that perfect first sip… or two!    
URL:https://white-ibiza.com/ibiza-calendar/afterglow-happy-hour-in-jara-at-the-standard-ibiza/2026-05-12/
LOCATION:The Standard\, Ibiza\, Carrer de Bartomeu Vicent Ramon\, Eivissa\, Islas Baleares\, 07800\, Spain
CATEGORIES:Nightlife
ATTACH;FMTTYPE=image/jpeg:https://white-ibiza.com/wp-content/uploads/2025/07/white-ibiza-calendar-happy-hour-jara-the-standard-ibiza-2025.jpeg
GEO:38.909914;1.4340569
X-APPLE-STRUCTURED-LOCATION;VALUE=URI;X-ADDRESS=The Standard Ibiza Carrer de Bartomeu Vicent Ramon Eivissa Islas Baleares 07800 Spain;X-APPLE-RADIUS=500;X-TITLE=Carrer de Bartomeu Vicent Ramon:geo:1.4340569,38.909914
END:VEVENT
BEGIN:VEVENT
DTSTART;TZID=Europe/Madrid:20260512T090000
DTEND;TZID=Europe/Madrid:20260512T180000
DTSTAMP:20260425T202638
CREATED:20260326T160316Z
LAST-MODIFIED:20260326T160413Z
UID:10031292-1778576400-1778608800@white-ibiza.com
SUMMARY:Terres Margantes | Una Altra Arcàdia Exhibition at Estudio Laterna
DESCRIPTION:The creative talents of Enric Majoral and Jordi Sarrà come vividly to life this spring via Terres Margantes | Una Altra Arcàdia at Estudio Laterna – an exhibition that offers two artistic views on the earthy terrain of Formentera from quite differing disciplines.  Majoral\, the jeweller and sculptor extraordinaire\, brings his nature–inspired bronze sculptures to the Santa Gertrudis artist’s haven\, where they can be seen alongside the captivating photographs of Sarrà\, whose lens records an alternate way to enjoy each piece. The Terres Margantes | Una Altra Arcàdia exhibition at Estudio Laterna is showing every weekday until Wednesday May 27\, 2026\, and drop-ins are always welcome.
URL:https://white-ibiza.com/ibiza-calendar/terres-margantes-una-altra-arcadia-exhibition-at-estudio-laterna/2026-05-12/
LOCATION:Estudio Laterna\, Carrer Vénda de Parada\, Santa Gertrudis de Fruitera\, Islas Baleares\, 07814\, Spain
CATEGORIES:Culture
ATTACH;FMTTYPE=image/jpeg:https://white-ibiza.com/wp-content/uploads/2026/03/white-ibiza-calendar-estudio-laterna-2026.jpeg
GEO:38.9988683;1.4283884
X-APPLE-STRUCTURED-LOCATION;VALUE=URI;X-ADDRESS=Estudio Laterna Carrer Vénda de Parada Santa Gertrudis de Fruitera Islas Baleares 07814 Spain;X-APPLE-RADIUS=500;X-TITLE=Carrer Vénda de Parada:geo:1.4283884,38.9988683
END:VEVENT
BEGIN:VEVENT
DTSTART;TZID=Europe/Madrid:20260512T110000
DTEND;TZID=Europe/Madrid:20260512T200000
DTSTAMP:20260425T202638
CREATED:20260416T145950Z
LAST-MODIFIED:20260416T174940Z
UID:10031560-1778583600-1778616000@white-ibiza.com
SUMMARY:Under the Surface Exhibition by Ned Irving at Olas Gallery
DESCRIPTION:A lifelong fascination with water and its ever-shifting reflections was the starting point for Under the Surface – the new exhibition by Ned Irving at Olas Gallery this spring. Born in Ibiza\, Irving takes viewers deep into a watery world where light bounces and colours refract\, creating a kaleidoscopic exploration of what often escapes ordinary perception. \nThrough a series of stunning photographs\, dive into a liminal space that hovers between reality and abstraction in the petite beachside gallery in Santa Eulalia with the exhibition running daily (excluding Sundays and Mondays) between 11am and 2pm\, then again from 5pm until 8pm until Tuesday May 21\, 2026. Olas Gallery was founded by photographer Sofia Gomez Fonzo and is the perfect spot to take in the work of some of the island’s best artists\, photographers and creatives while discovering the artistic spirit of Ibiza. Use the link below to find out more. 
URL:https://white-ibiza.com/ibiza-calendar/under-the-surface-exhibition-by-ned-irving-at-olas-gallery/2026-05-12/
LOCATION:Olas Gallery\, Calle Juan Tur Tur\, Santa Eulalia del Río\, Islas Baleares\, 07840\, Spain
CATEGORIES:Culture
ATTACH;FMTTYPE=image/png:https://white-ibiza.com/wp-content/uploads/2026/04/white-ibiza-calendar-olas-gallery-under-the-surface-exhibition-2026.png
GEO:38.9819402;1.5324936
X-APPLE-STRUCTURED-LOCATION;VALUE=URI;X-ADDRESS=Olas Gallery Calle Juan Tur Tur Santa Eulalia del Río Islas Baleares 07840 Spain;X-APPLE-RADIUS=500;X-TITLE=Calle Juan Tur Tur:geo:1.5324936,38.9819402
END:VEVENT
BEGIN:VEVENT
DTSTART;TZID=Europe/Madrid:20260512T180000
DTEND;TZID=Europe/Madrid:20260512T235900
DTSTAMP:20260425T202638
CREATED:20260423T091939Z
LAST-MODIFIED:20260423T091939Z
UID:10031569-1778608800-1778630340@white-ibiza.com
SUMMARY: Party with the Chefs at OKU Ibiza
DESCRIPTION:An immersive night of live cooking and bold flavours – where the afters are more than just a little sweet – lands at OKU Ibiza on Tuesday May 12\, 2026. Party with the Chefs is a chance to dive into global flavours as acclaimed guest chefs from all over the world will be stepping out of their kitchens and into the spotlight to create delectable plates from live cooking stations dotted around the shady terrace and dining room of the stunning Cala Gracío resort. \nThe roll call of star chefs includes Soenil Bahadoer (Restaurant Gem and Masterchef NL judge)\, Sydney Schutte (Restaurant Spectrum)\, Adam Handling (Frog)\, Walt Sidoravicius (Omakase by Walt)\, Dennis Huwae (Restaurant Daalder)\, Bas Brouns (Ron Gastrobar)\, Andres Fernandez (Six Senses Ibiza) and Alberto Pacheco (Es Fumeral). Dessert comes in the form of a very special post-feast party where the atmosphere switches gear to full fiesta mode. Tickets for Party with the Chefs at OKU Ibiza are priced at 250€ per person and include one plate from each of the culinary star guests plus drinks and access to the after party and can be booked using the link below.\n    
URL:https://white-ibiza.com/ibiza-calendar/party-with-the-chefs-at-oku-ibiza-2/
LOCATION:OKU Ibiza\, Camí des Portitxol\, Sant Antoni de Portmany\, Islas Baleares\, 07820\, Spain
CATEGORIES:Foodies
ATTACH;FMTTYPE=image/jpeg:https://white-ibiza.com/wp-content/uploads/2026/04/white-ibiza-calendar-party-with-the-chefs-oku-ibiza-2026.jpeg
GEO:38.9908126;1.2941145
X-APPLE-STRUCTURED-LOCATION;VALUE=URI;X-ADDRESS=OKU Ibiza Camí des Portitxol Sant Antoni de Portmany Islas Baleares 07820 Spain;X-APPLE-RADIUS=500;X-TITLE=Camí des Portitxol:geo:1.2941145,38.9908126
END:VEVENT
END:VCALENDAR