BEGIN:VCALENDAR
VERSION:2.0
PRODID:-//WHITE IBIZA - ECPv6.6.0.2//NONSGML v1.0//EN
CALSCALE:GREGORIAN
METHOD:PUBLISH
X-WR-CALNAME:WHITE IBIZA
X-ORIGINAL-URL:https://white-ibiza.com
X-WR-CALDESC:Events for WHITE IBIZA
REFRESH-INTERVAL;VALUE=DURATION:PT1H
X-Robots-Tag:noindex
X-PUBLISHED-TTL:PT1H
BEGIN:VTIMEZONE
TZID:Europe/Madrid
BEGIN:DAYLIGHT
TZOFFSETFROM:+0100
TZOFFSETTO:+0200
TZNAME:CEST
DTSTART:20260329T010000
END:DAYLIGHT
BEGIN:STANDARD
TZOFFSETFROM:+0200
TZOFFSETTO:+0100
TZNAME:CET
DTSTART:20261025T010000
END:STANDARD
END:VTIMEZONE
BEGIN:VEVENT
DTSTART;TZID=Europe/Madrid:20260426T080000
DTEND;TZID=Europe/Madrid:20260426T200000
DTSTAMP:20260426T020332
CREATED:20260319T144915Z
LAST-MODIFIED:20260320T091522Z
UID:10030998-1777190400-1777233600@white-ibiza.com
SUMMARY:Afterglow Happy Hour in Jara at The Standard\, Ibiza
DESCRIPTION:As the glorious island sunshine melts into the horizon\, Jara – the stylish ground floor restaurant and bar at The Standard\, Ibiza in Ibiza town – sets the tone for the night ahead with Afterglow Happy Hour\, running every evening from 6pm to 8pm\, all year round. Whether it’s an after work catch-up\, a post-shopping wind-down or a cosy spring warm-up\, this buzzing island hotspot invites you to sip two-for-one cocktails as the evening unfolds.  \nWith its über-cool ambience\, Jara is the place to see and be seen\, offering a seamless transition from the glow of golden hour to Ibiza’s vibrant nightlife. Settle into a plush seat or perch at the bar with the locals\, raise a glass and let the afterglow linger a little longer\, because every great night starts with that perfect first sip… or two!    
URL:https://white-ibiza.com/ibiza-calendar/afterglow-happy-hour-in-jara-at-the-standard-ibiza/2026-04-26/
LOCATION:The Standard\, Ibiza\, Carrer de Bartomeu Vicent Ramon\, Eivissa\, Islas Baleares\, 07800\, Spain
CATEGORIES:Nightlife
ATTACH;FMTTYPE=image/jpeg:https://white-ibiza.com/wp-content/uploads/2025/07/white-ibiza-calendar-happy-hour-jara-the-standard-ibiza-2025.jpeg
GEO:38.909914;1.4340569
X-APPLE-STRUCTURED-LOCATION;VALUE=URI;X-ADDRESS=The Standard Ibiza Carrer de Bartomeu Vicent Ramon Eivissa Islas Baleares 07800 Spain;X-APPLE-RADIUS=500;X-TITLE=Carrer de Bartomeu Vicent Ramon:geo:1.4340569,38.909914
END:VEVENT
BEGIN:VEVENT
DTSTART;TZID=Europe/Madrid:20260426T090000
DTEND;TZID=Europe/Madrid:20260426T100000
DTSTAMP:20260426T020332
CREATED:20260423T095039Z
LAST-MODIFIED:20260423T095039Z
UID:10031576-1777194000-1777197600@white-ibiza.com
SUMMARY:Yoga Sessions at La Torre Ibiza
DESCRIPTION:Stretch your way into the weekend at one of Ibiza’s most soul-soothing settings\, as the sandy rocks below La Torre Ibiza become an alfresco yoga studio every weekend through the summer. The glorious views alone are enough to calm your mind and open your heart. Saturdays start bright and early at 9am\, while Sundays begin gently at 9.30am.   \nSet above the sea in Cap Negret\, this peaceful spot feels miles away from the buzz of San Antonio\, with just the sounds of nature\, the scent of salt on the breeze and a little flow to set your day right. Arrive early so you have plenty of time to settle on the mat before class starts\, then stay for breakfast at La Torre Ibiza\, soak up the morning light and savour the start of the day\, Ibiza style.
URL:https://white-ibiza.com/ibiza-calendar/yoga-sessions-at-la-torre-ibiza-2/2026-04-26/
LOCATION:La Torre Ibiza\, Carretera Cap Negret\, Sant Antoni de Portmany\, Islas Baleares\, 07820\, Spain
CATEGORIES:Wellness
ATTACH;FMTTYPE=image/jpeg:https://white-ibiza.com/wp-content/uploads/2025/07/white-ibiza-calendar-la-torre-ibiza-yoga-2025-01.jpeg
GEO:38.9981354;1.2855332
X-APPLE-STRUCTURED-LOCATION;VALUE=URI;X-ADDRESS=La Torre Ibiza Carretera Cap Negret Sant Antoni de Portmany Islas Baleares 07820 Spain;X-APPLE-RADIUS=500;X-TITLE=Carretera Cap Negret:geo:1.2855332,38.9981354
END:VEVENT
BEGIN:VEVENT
DTSTART;TZID=Europe/Madrid:20260426T100000
DTEND;TZID=Europe/Madrid:20260426T150000
DTSTAMP:20260426T020332
CREATED:20260112T084617Z
LAST-MODIFIED:20260112T084641Z
UID:10029486-1777197600-1777215600@white-ibiza.com
SUMMARY:Sunday Artisan Market in San Juan
DESCRIPTION:Every Sunday\, the sleepy village square of San Juan comes to life as the famous Artisan Market takes over the streets\, lanes and corners from 10am until 3pm\, drawing locals\, island families and curious visitors up into the north of the island. Stalls feature handmade crafts\, natural products\, jewellery\, crystals\, vintage pieces\, hand-stitched fashion\, homemade treats and kitchen-table creations from a community of artisans who have been holding court on Sundays in San Juan for years. \nThe atmosphere is bohemian\, musical and wonderfully laid-back as live musicians set up in the main village square\, friends linger over coffees\, kids weave between stalls and the whole village feels like one big family get-together\, all year round.
URL:https://white-ibiza.com/ibiza-calendar/sunday-artisan-market-in-san-juan-3/2026-04-26/
LOCATION:San Juan\, Sant Joan de Labritja\, Islas Baleares\, 07810\, Spain
CATEGORIES:Culture
ATTACH;FMTTYPE=image/jpeg:https://white-ibiza.com/wp-content/uploads/2025/12/white-ibiza-calendar-san-juan-market-2025.jpeg
GEO:39.0717396;1.5111806
END:VEVENT
BEGIN:VEVENT
DTSTART;TZID=Europe/Madrid:20260426T100000
DTEND;TZID=Europe/Madrid:20260426T170000
DTSTAMP:20260426T020332
CREATED:20260219T145845Z
LAST-MODIFIED:20260219T145845Z
UID:10030701-1777197600-1777222800@white-ibiza.com
SUMMARY:Hippy Market at Las Dalias
DESCRIPTION:Every Saturday and Sunday\, the famous Las Dalias Hippy Market in the heart of San Carlos comes alive with colourful characters\, live entertainment and the excitement of retail therapy. Locals\, tourists and Ibiza lovers gather to browse\, indulge\, sip and savour their way through one of the island’s most iconic market experiences. Artisan stalls\, tarot cards\, vintage treasures\, live tunes and cold drinks are all served with that signature Las Dalias soul.  \nTake a lazy Saturday saunter between 10am and 5pm or an easy Sunday stroll from the slightly later time of 11am. The Hippy Market at Las Dalias is always a glowing celebration of creativity and community – not to mention the perfect way to blow away a weekend hangover while perusing the stalls filled with treasures and trinkets.
URL:https://white-ibiza.com/ibiza-calendar/hippy-market-at-las-dalias/2026-04-26/
LOCATION:Las Dalias Hippy Market\, San Carlos\, Islas Baleares\, 07850\, Spain
CATEGORIES:Culture
ATTACH;FMTTYPE=image/jpeg:https://white-ibiza.com/wp-content/uploads/2024/11/white-ibiza-calendar-las-dalias-hippy-market-2024.jpeg
GEO:39.0330945;1.5649456
END:VEVENT
BEGIN:VEVENT
DTSTART;TZID=Europe/Madrid:20260426T130000
DTEND;TZID=Europe/Madrid:20260426T180000
DTSTAMP:20260426T020332
CREATED:20260112T084313Z
LAST-MODIFIED:20260112T084313Z
UID:10029471-1777208400-1777226400@white-ibiza.com
SUMMARY:Little Náutic at El Náutico Ibiza
DESCRIPTION:Proving that Ibiza weekend lunches can be as fun and entertaining for kids as they are for adults is El Náutico Ibiza\, the stylish restaurant headed up by chef Pau Barba in the harbour of Ibiza town. Every Saturday and Sunday\, local childcare specialists\, Holikids\, plot up in the interior dining space where they expertly supervise and lead the Little Náutic program from 1pm until 6pm\, offering fun and creative activities for little folk while grown-ups wine and dine on the alfresco terrace. \nWith its stunning vistas across the water to Dalt Vila\, and a gentle soundtrack of yacht sails clinking and waves lapping beside the dock\, El Náutico Ibiza makes an impressive year-round destination for meeting friends or family. Delicious local fish\, typical Spanish rice dishes\, tapas and much more can be shared and savoured as you while away the weekend hours\, safe in the knowledge that the little ones are happily crafting\, colouring and playing in the kids’ club until it’s time to head home. Just don’t be surprised if they want to stay longer!
URL:https://white-ibiza.com/ibiza-calendar/little-nautic-at-el-nautico-ibiza-2/2026-04-26/
LOCATION:El Náutico Ibiza\, Avinguda de Santa Eulària des Riu\, Eivissa\, Islas Baleares\, 07800\, Spain
CATEGORIES:Kids
ATTACH;FMTTYPE=image/jpeg:https://white-ibiza.com/wp-content/uploads/2024/11/white-ibiza-calendar-el-nautico-ibiza-2024-little-nautico-by-holikids.jpeg
GEO:38.9139964;1.4351802
X-APPLE-STRUCTURED-LOCATION;VALUE=URI;X-ADDRESS=El Náutico Ibiza Avinguda de Santa Eulària des Riu Eivissa Islas Baleares 07800 Spain;X-APPLE-RADIUS=500;X-TITLE=Avinguda de Santa Eulària des Riu:geo:1.4351802,38.9139964
END:VEVENT
BEGIN:VEVENT
DTSTART;TZID=Europe/Madrid:20260426T130000
DTEND;TZID=Europe/Madrid:20260427T040000
DTSTAMP:20260426T020332
CREATED:20260409T132355Z
LAST-MODIFIED:20260423T191718Z
UID:10031450-1777208400-1777262400@white-ibiza.com
SUMMARY:Sundays at Pikes at Pikes Ibiza
DESCRIPTION:Sundays at Pikes are an island institution\, where last night’s excesses are soothed by a dip\, a drink and a few Balearic bangers by the pool while the next day’s hangovers are only just getting started. \nWhether you’re fuelling up for the night ahead or soaking up the sins of the night before\, there’s no better remedy than the famous Pikes Sunday Roast prepared by in-house culinary maestro Tim Payne and his team of merry chefs at The Pikes Restaurant. Expect plates piled high with crispy roasties\, Yorkshire puds\, creamy cauliflower cheese and lots of gravy-drenched goodness. Throw in a cheeky espresso martini\, a little Plaza Mayor shimmy and suddenly you’re in Freddies until 4am\, dancing to the sounds of the world’s best DJs like Monday isn’t a thing. \nFrom roast to rave\, this is the kind of Sunday service you’ll want to go to again and again. Tables and guestlist at Pikes Ibiza get snapped up fast\, so be sure to book early.
URL:https://white-ibiza.com/ibiza-calendar/sundays-at-pikes-at-pikes-ibiza/2026-04-26/
LOCATION:Pikes Ibiza\, Camí de Sa Vorera\, Sant Antoni de Portmany\, Is\, 07820\, Spain
CATEGORIES:Foodies,Nightlife
ATTACH;FMTTYPE=image/jpeg:https://white-ibiza.com/wp-content/uploads/2026/04/white-ibiza-calendar-sundays-at-pikes-ibiza-2026.jpeg
GEO:38.986598;1.3254823
X-APPLE-STRUCTURED-LOCATION;VALUE=URI;X-ADDRESS=Pikes Ibiza Camí de Sa Vorera Sant Antoni de Portmany Is 07820 Spain;X-APPLE-RADIUS=500;X-TITLE=Camí de Sa Vorera:geo:1.3254823,38.986598
END:VEVENT
BEGIN:VEVENT
DTSTART;TZID=Europe/Madrid:20260426T130000
DTEND;TZID=Europe/Madrid:20260427T230000
DTSTAMP:20260426T020332
CREATED:20260423T151630Z
LAST-MODIFIED:20260424T081411Z
UID:10032101-1777208400-1777330800@white-ibiza.com
SUMMARY:Opening Party at Ushuaïa Ibiza
DESCRIPTION:There’s usually no prize for coming second but this being Ibiza\, the number two position is a highly coveted place to be\, and the Opening Party at Ushuaïa Ibiza on Sunday April 26\, 2026\, promises to fill the silver spot in its usual lavish style. Slotting in nicely in-between the Hï Ibiza 2026 Opening Party the night before\, and the start of its big brother [UNVRS]’s sophomore season later that evening\, the pool party trailblazer promises lashings of festival vibes and a plethora of word-class production inspired by its ‘Where Music Meets Magic’ concept.  \nThe second instalment of The Night League trilogy of openings is set to take poolside sessions to a whole new level\, with its glam daytime crowd\, open-air stage and hands-in-the-air energy. Just remember\, it’s a marathon\, not a sprint but with heavy hitters Francis Mercier\, HUGEL\, Kaz James\, MËSTIZA\, Moblack and PAUZA behind the decks\, it could be easy to get swept up in the atmosphere at the ‘world’s most influential open-air club’. 
URL:https://white-ibiza.com/ibiza-calendar/opening-party-at-ushuaia-ibiza/
LOCATION:Ushuaïa Ibiza\, Carretera de Platja d'en Bossa\, Playa d'en Bossa\, Islas Baleares\, 07817\, Spain
CATEGORIES:Clubs
ATTACH;FMTTYPE=image/jpeg:https://white-ibiza.com/wp-content/uploads/2026/01/white-ibiza-club-calendar-tomorrowland-presents-dimitri-vegas-like-mike-ushuaia-ibiza-2026-03.jpeg
GEO:38.8853955;1.4048106
X-APPLE-STRUCTURED-LOCATION;VALUE=URI;X-ADDRESS=Ushuaïa Ibiza Carretera de Platja d'en Bossa Playa d'en Bossa Islas Baleares 07817 Spain;X-APPLE-RADIUS=500;X-TITLE=Carretera de Platja d'en Bossa:geo:1.4048106,38.8853955
END:VEVENT
BEGIN:VEVENT
DTSTART;TZID=Europe/Madrid:20260426T140000
DTEND;TZID=Europe/Madrid:20260426T210000
DTSTAMP:20260426T020332
CREATED:20260423T152042Z
LAST-MODIFIED:20260423T152042Z
UID:10032102-1777212000-1777237200@white-ibiza.com
SUMMARY:Pool Club Grand Opening at Ibiza Rocks
DESCRIPTION:Ibiza Rocks kicks off the 2026 season in style with the Grand Opening of its revamped Pool Club on Sunday April 26\, 2026\, from the gloriously sun-drenched hour of 2pm until the sun sets at 9pm. The iconic San Antonio venue promises big day energy\, sunshine vibes and the tunes you actually want to hear – no pretentious deep cuts or relentless tech\, just pure feel-good Ibiza beats.  \nThe Pool Club has been redesigned to be the antidote to the eye-watering prices of superclubs and whether you’re kicking off your season or simply fancy an afternoon of poolside partying without the attitude\, this is your spot. The line-up features Chris Watson\, Ellie Sax\, Patrick Nazemi and DJ Policy\, alongside the Ibiza Rocks resident DJs – a carefully curated mix of selectors who know exactly how to soundtrack a Sunday session from the golden hour afternoon through to sunset.  
URL:https://white-ibiza.com/ibiza-calendar/pool-club-grand-opening-at-ibiza-rocks/
LOCATION:Ibiza Rocks Hotel\, Carrer de Cervantes\, Sant Antoni de Portmany\, Islas Baleares\, 07820\, Spain
CATEGORIES:Clubs
ATTACH;FMTTYPE=image/jpeg:https://white-ibiza.com/wp-content/uploads/2026/04/white-ibiza-club-calendar-pool-party-ibiza-rocks-2026.jpeg
GEO:38.983253;1.299657
X-APPLE-STRUCTURED-LOCATION;VALUE=URI;X-ADDRESS=Ibiza Rocks Hotel Carrer de Cervantes Sant Antoni de Portmany Islas Baleares 07820 Spain;X-APPLE-RADIUS=500;X-TITLE=Carrer de Cervantes:geo:1.299657,38.983253
END:VEVENT
BEGIN:VEVENT
DTSTART;TZID=Europe/Madrid:20260426T170000
DTEND;TZID=Europe/Madrid:20260426T230000
DTSTAMP:20260426T020332
CREATED:20260423T152310Z
LAST-MODIFIED:20260423T154103Z
UID:10032103-1777222800-1777244400@white-ibiza.com
SUMMARY:Grand Opening Weekend Part 3 with Marco Carola at Destino FIVE Ibiza
DESCRIPTION:On Sunday April 26\, 2026\, the Pacha brand’s Grand Opening Weekend torch moves from the famous finca to its sister venue’s open-air dancefloor\, where techno titan Marco Carola commands part three of the four-part opening weekend extravaganza at Destino FIVE Ibiza from 5pm until late. It’s a sunset session\, Ibiza style – think six hours of world-class tech-house and driving techno beneath the Balearic sky complete with breathtaking views across to Dalt Vila.  \nCarola brings his signature blend of hypnotic grooves and precision mixing to Destino FIVE Ibiza‘s stunning setting\, where the hazy horizon meets state-of-the-art sound and the energy is pure opening weekend euphoria. Joining him is the meteoric Mau P\, whose tech-house bangers have been dominating festival stages globally\, alongside the powerhouse Mason Collective\, the UK crew who’ve become synonymous with high-octane\, no-nonsense techno energy. Whether you can make it to all four nights is a test of endurance\, but Marco Carola under open skies is reason enough to rally through the third instalment and take a breath of fresh Mediterranean air while you’re at it! 
URL:https://white-ibiza.com/ibiza-calendar/grand-opening-weekend-part-3-with-marco-carola-at-destino-five-ibiza/
LOCATION:Destino Five Ibiza\, Cap Martinet\, Islas Baleares\, 07819\, Spain
CATEGORIES:Clubs
ATTACH;FMTTYPE=image/jpeg:https://white-ibiza.com/wp-content/uploads/2026/04/white-ibiza-club-calendar-destino-five-ibiza-website-photo-2026.jpeg
GEO:38.9187734;1.460273
END:VEVENT
BEGIN:VEVENT
DTSTART;TZID=Europe/Madrid:20260426T190000
DTEND;TZID=Europe/Madrid:20260426T235900
DTSTAMP:20260426T020332
CREATED:20260416T151504Z
LAST-MODIFIED:20260423T143332Z
UID:10031544-1777230000-1777247940@white-ibiza.com
SUMMARY:Cuyo Opening at Hyde & Mondrian Ibiza
DESCRIPTION:Cuyo Ibiza reopens its doors on Sunday April 26\, 2026\, bringing its deliciously bold take on Mexican cuisine back to Cala Llonga. Set between stylish hotels\, Hyde Ibiza and Mondrian Ibiza\, the stylish restaurant is all about endless sea views and a lively atmosphere made for long dinners that roll imperceptibly late into the night.   \nPerfect for some post-beach fare or pre-sunset feasting\, the menu at Cuyo Ibiza is designed with sharing in mind. In keeping with the Latino theme\, diners can choose from an extensive tequila and mezcal selection\, along with an expertly crafted cocktail list that includes a three different margarita options. As dusk settles over the bay of Cala Llonga\, the terrace fills with a mix of hotel guests and in-the-know foodies\, and the beachside air comes to life with the gentle clink of glasses and the chatter of satisfied diners.
URL:https://white-ibiza.com/ibiza-calendar/cuyo-opening-at-hyde-mondrian-ibiza/
LOCATION:Cuyo Ibiza\, Carrer de sa Talaia\, Cala Llonga\, Balearic Islands\, 07849\, Spain
CATEGORIES:Foodies
ATTACH;FMTTYPE=image/jpeg:https://white-ibiza.com/wp-content/uploads/2024/07/white-ibiza-restaurants-cuyo-ibiza-2025-01.jpeg
GEO:38.9544963;1.5198869
X-APPLE-STRUCTURED-LOCATION;VALUE=URI;X-ADDRESS=Cuyo Ibiza Carrer de sa Talaia Cala Llonga Balearic Islands 07849 Spain;X-APPLE-RADIUS=500;X-TITLE=Carrer de sa Talaia:geo:1.5198869,38.9544963
END:VEVENT
BEGIN:VEVENT
DTSTART;TZID=Europe/Madrid:20260426T230000
DTEND;TZID=Europe/Madrid:20260427T060000
DTSTAMP:20260426T020332
CREATED:20260408T110258Z
LAST-MODIFIED:20260408T110258Z
UID:10031349-1777244400-1777269600@white-ibiza.com
SUMMARY:Opening Party at [UNVRS]
DESCRIPTION:The Night League’s opening party crescendo finally hits at the island’s one and only hyperclub\, [UNVRS]\, on Sunday April 26\, 2026. The third instalment in the mega brand’s dance music triathlon sees dedicated rave devotees rejoice as the clubbing giant powers up for what is bound to be one of the must-do events of the season – and yes\, it’s only the first weekend!  \nThe weekend’s shenanigans start in Playa d’en Bossa\, first at Hï Ibiza on the Saturday followed by the grand opening of its sister club Ushuaïa Ibiza the next day\, before all roads leave to San Rafael for the last lap. Now in its second year\, [UNVRS] combines clubbing heritage\, Brutalist architecture and immersive production to create a space that has reshaped Ibiza nightlife since the day it first threw open its doors. Behind the decks at the 2026 [UNVRS] Opening Party are Black Coffee\, CamelPhat\, Carl Cox\, Deer Jade\, Miss Monique and Paco Osuna – the second season’s opening is guaranteed to be a roadblock\, so be sure to book tickets and VIP tables before they sell out.
URL:https://white-ibiza.com/ibiza-calendar/opening-party-at-unvrs/
LOCATION:[UNVRS]\, San Rafael\, Islas Baleares\, 07816\, Spain
CATEGORIES:Clubs
ATTACH;FMTTYPE=image/jpeg:https://white-ibiza.com/wp-content/uploads/2026/04/white-ibiza-club-calendar-unvrs-opening-party-2026.jpeg
GEO:38.9621464;1.3986539
END:VEVENT
BEGIN:VEVENT
DTSTART;TZID=Europe/Madrid:20260426T230000
DTEND;TZID=Europe/Madrid:20260427T060000
DTSTAMP:20260426T020332
CREATED:20260423T153859Z
LAST-MODIFIED:20260423T153859Z
UID:10032104-1777244400-1777269600@white-ibiza.com
SUMMARY:La Troya at Chinois Ibiza
DESCRIPTION:La Troya\, the legendary bastion of Ibiza’s flamboyant spirit and inclusive party culture\, returns for a high-octane special at Chinois Ibiza during the International Music Summit weekend on Sunday April 26\, 2026. This is a tantalising one-off preview before the full residency kicks off on May 25\, 2026\, bringing all the energy\, colour and unapologetic celebration that has made the event an unmissable fixture on the island’s LGBTIQ+ party calendar.  \nLeading the charge is La Troya stalwart DJ Oscar Colorado\, who bridges the gap between classic grooves and modern tech-house\, alongside the versatile Rampini and Salva Martin\, who’ll also be spinning back-to-back with Cristian Battaglia. Joining the crew is Ginevra Ramos\, the Milanese-born talent who recently dominated headlines with her high-voltage single Energy. Expect serious house music credentials\, inclusive vibes\, OTT performances and that signature La Troya energy where everyone is welcome and the dancefloor is the only thing that matters. Vamos Troyanos!
URL:https://white-ibiza.com/ibiza-calendar/la-troya-at-chinois-ibiza/
LOCATION:Club Chinois\, Passeig Joan Carles I\, Eivissa\, Islas Baleares\, 07800\, Spain
CATEGORIES:Clubs
ATTACH;FMTTYPE=image/jpeg:https://white-ibiza.com/wp-content/uploads/2026/04/white-ibiza-club-calendar-la-troya-chinois-ibiza-2026.jpeg
GEO:38.9166558;1.4418039
X-APPLE-STRUCTURED-LOCATION;VALUE=URI;X-ADDRESS=Club Chinois Passeig Joan Carles I Eivissa Islas Baleares 07800 Spain;X-APPLE-RADIUS=500;X-TITLE=Passeig Joan Carles I:geo:1.4418039,38.9166558
END:VEVENT
BEGIN:VEVENT
DTSTART;TZID=Europe/Madrid:20260426T230000
DTEND;TZID=Europe/Madrid:20260427T060000
DTSTAMP:20260426T020332
CREATED:20260423T154345Z
LAST-MODIFIED:20260423T175209Z
UID:10032105-1777244400-1777269600@white-ibiza.com
SUMMARY:Grand Opening Weekend Part 4 with ANOTR at Pacha Ibiza
DESCRIPTION:ANOTR lands at Pacha Ibiza on Sunday April 26\, 2026\, to close out the cherry–fest that is the Pacha Ibiza’s opening weekend in style. The Dutch minimal duo will be bringing their unique sound and energy to the fourth chapter of the official opening weekend – call it the closing party of the Pacha brand openings\, if you will!  Despite its recent modernisation\, there are still plenty of secrets to be discovered in the hidden corridors\, alfresco terraces and of course\, on the dancefloor at one of the island’s most renowned spaces\, where almost 50 years of hedonistic parties are ingrained into the finca walls. Tickets and VIP tables are still available for the Grand Opening Weekend Part 4 with ANOTR at Pacha Ibiza\, although as the party pace picks up over the course of the week\, they’re not expected to last long.  
URL:https://white-ibiza.com/ibiza-calendar/grand-opening-weekend-part-4-with-anotr-at-pacha-ibiza/
LOCATION:Pacha Ibiza\, Avinguda 8 d'Agost\, Eivissa\, Islas Baleares\, 07800\, Spain
CATEGORIES:Clubs
ATTACH;FMTTYPE=image/jpeg:https://white-ibiza.com/wp-content/uploads/2025/04/white-ibiza-club-calendar-anotr-pacha-ibiza-2025-1.jpeg
GEO:38.9177309;1.4446226
X-APPLE-STRUCTURED-LOCATION;VALUE=URI;X-ADDRESS=Pacha Ibiza Avinguda 8 d'Agost Eivissa Islas Baleares 07800 Spain;X-APPLE-RADIUS=500;X-TITLE=Avinguda 8 d'Agost:geo:1.4446226,38.9177309
END:VEVENT
END:VCALENDAR