BEGIN:VCALENDAR
VERSION:2.0
PRODID:-//WHITE IBIZA - ECPv6.6.0.2//NONSGML v1.0//EN
CALSCALE:GREGORIAN
METHOD:PUBLISH
X-WR-CALNAME:WHITE IBIZA
X-ORIGINAL-URL:https://white-ibiza.com
X-WR-CALDESC:Events for WHITE IBIZA
REFRESH-INTERVAL;VALUE=DURATION:PT1H
X-Robots-Tag:noindex
X-PUBLISHED-TTL:PT1H
BEGIN:VTIMEZONE
TZID:Europe/Madrid
BEGIN:DAYLIGHT
TZOFFSETFROM:+0100
TZOFFSETTO:+0200
TZNAME:CEST
DTSTART:20260329T010000
END:DAYLIGHT
BEGIN:STANDARD
TZOFFSETFROM:+0200
TZOFFSETTO:+0100
TZNAME:CET
DTSTART:20261025T010000
END:STANDARD
END:VTIMEZONE
BEGIN:VEVENT
DTSTART;TZID=Europe/Madrid:20260425T080000
DTEND;TZID=Europe/Madrid:20260425T200000
DTSTAMP:20260425T135237
CREATED:20260319T144915Z
LAST-MODIFIED:20260320T091522Z
UID:10030997-1777104000-1777147200@white-ibiza.com
SUMMARY:Afterglow Happy Hour in Jara at The Standard\, Ibiza
DESCRIPTION:As the glorious island sunshine melts into the horizon\, Jara – the stylish ground floor restaurant and bar at The Standard\, Ibiza in Ibiza town – sets the tone for the night ahead with Afterglow Happy Hour\, running every evening from 6pm to 8pm\, all year round. Whether it’s an after work catch-up\, a post-shopping wind-down or a cosy spring warm-up\, this buzzing island hotspot invites you to sip two-for-one cocktails as the evening unfolds.  \nWith its über-cool ambience\, Jara is the place to see and be seen\, offering a seamless transition from the glow of golden hour to Ibiza’s vibrant nightlife. Settle into a plush seat or perch at the bar with the locals\, raise a glass and let the afterglow linger a little longer\, because every great night starts with that perfect first sip… or two!    
URL:https://white-ibiza.com/ibiza-calendar/afterglow-happy-hour-in-jara-at-the-standard-ibiza/2026-04-25/
LOCATION:The Standard\, Ibiza\, Carrer de Bartomeu Vicent Ramon\, Eivissa\, Islas Baleares\, 07800\, Spain
CATEGORIES:Nightlife
ATTACH;FMTTYPE=image/jpeg:https://white-ibiza.com/wp-content/uploads/2025/07/white-ibiza-calendar-happy-hour-jara-the-standard-ibiza-2025.jpeg
GEO:38.909914;1.4340569
X-APPLE-STRUCTURED-LOCATION;VALUE=URI;X-ADDRESS=The Standard Ibiza Carrer de Bartomeu Vicent Ramon Eivissa Islas Baleares 07800 Spain;X-APPLE-RADIUS=500;X-TITLE=Carrer de Bartomeu Vicent Ramon:geo:1.4340569,38.909914
END:VEVENT
BEGIN:VEVENT
DTSTART;TZID=Europe/Madrid:20260425T090000
DTEND;TZID=Europe/Madrid:20260425T100000
DTSTAMP:20260425T135237
CREATED:20260423T095039Z
LAST-MODIFIED:20260423T095039Z
UID:10031575-1777107600-1777111200@white-ibiza.com
SUMMARY:Yoga Sessions at La Torre Ibiza
DESCRIPTION:Stretch your way into the weekend at one of Ibiza’s most soul-soothing settings\, as the sandy rocks below La Torre Ibiza become an alfresco yoga studio every weekend through the summer. The glorious views alone are enough to calm your mind and open your heart. Saturdays start bright and early at 9am\, while Sundays begin gently at 9.30am.   \nSet above the sea in Cap Negret\, this peaceful spot feels miles away from the buzz of San Antonio\, with just the sounds of nature\, the scent of salt on the breeze and a little flow to set your day right. Arrive early so you have plenty of time to settle on the mat before class starts\, then stay for breakfast at La Torre Ibiza\, soak up the morning light and savour the start of the day\, Ibiza style.
URL:https://white-ibiza.com/ibiza-calendar/yoga-sessions-at-la-torre-ibiza-2/2026-04-25/
LOCATION:La Torre Ibiza\, Carretera Cap Negret\, Sant Antoni de Portmany\, Islas Baleares\, 07820\, Spain
CATEGORIES:Wellness
ATTACH;FMTTYPE=image/jpeg:https://white-ibiza.com/wp-content/uploads/2025/07/white-ibiza-calendar-la-torre-ibiza-yoga-2025-01.jpeg
GEO:38.9981354;1.2855332
X-APPLE-STRUCTURED-LOCATION;VALUE=URI;X-ADDRESS=La Torre Ibiza Carretera Cap Negret Sant Antoni de Portmany Islas Baleares 07820 Spain;X-APPLE-RADIUS=500;X-TITLE=Carretera Cap Negret:geo:1.2855332,38.9981354
END:VEVENT
BEGIN:VEVENT
DTSTART;TZID=Europe/Madrid:20260425T100000
DTEND;TZID=Europe/Madrid:20260425T170000
DTSTAMP:20260425T135237
CREATED:20260219T145845Z
LAST-MODIFIED:20260219T145845Z
UID:10030700-1777111200-1777136400@white-ibiza.com
SUMMARY:Hippy Market at Las Dalias
DESCRIPTION:Every Saturday and Sunday\, the famous Las Dalias Hippy Market in the heart of San Carlos comes alive with colourful characters\, live entertainment and the excitement of retail therapy. Locals\, tourists and Ibiza lovers gather to browse\, indulge\, sip and savour their way through one of the island’s most iconic market experiences. Artisan stalls\, tarot cards\, vintage treasures\, live tunes and cold drinks are all served with that signature Las Dalias soul.  \nTake a lazy Saturday saunter between 10am and 5pm or an easy Sunday stroll from the slightly later time of 11am. The Hippy Market at Las Dalias is always a glowing celebration of creativity and community – not to mention the perfect way to blow away a weekend hangover while perusing the stalls filled with treasures and trinkets.
URL:https://white-ibiza.com/ibiza-calendar/hippy-market-at-las-dalias/2026-04-25/
LOCATION:Las Dalias Hippy Market\, San Carlos\, Islas Baleares\, 07850\, Spain
CATEGORIES:Culture
ATTACH;FMTTYPE=image/jpeg:https://white-ibiza.com/wp-content/uploads/2024/11/white-ibiza-calendar-las-dalias-hippy-market-2024.jpeg
GEO:39.0330945;1.5649456
END:VEVENT
BEGIN:VEVENT
DTSTART;TZID=Europe/Madrid:20260425T110000
DTEND;TZID=Europe/Madrid:20260425T200000
DTSTAMP:20260425T135237
CREATED:20260416T145950Z
LAST-MODIFIED:20260416T174940Z
UID:10031549-1777114800-1777147200@white-ibiza.com
SUMMARY:Under the Surface Exhibition by Ned Irving at Olas Gallery
DESCRIPTION:A lifelong fascination with water and its ever-shifting reflections was the starting point for Under the Surface – the new exhibition by Ned Irving at Olas Gallery this spring. Born in Ibiza\, Irving takes viewers deep into a watery world where light bounces and colours refract\, creating a kaleidoscopic exploration of what often escapes ordinary perception. \nThrough a series of stunning photographs\, dive into a liminal space that hovers between reality and abstraction in the petite beachside gallery in Santa Eulalia with the exhibition running daily (excluding Sundays and Mondays) between 11am and 2pm\, then again from 5pm until 8pm until Tuesday May 21\, 2026. Olas Gallery was founded by photographer Sofia Gomez Fonzo and is the perfect spot to take in the work of some of the island’s best artists\, photographers and creatives while discovering the artistic spirit of Ibiza. Use the link below to find out more. 
URL:https://white-ibiza.com/ibiza-calendar/under-the-surface-exhibition-by-ned-irving-at-olas-gallery/2026-04-25/
LOCATION:Olas Gallery\, Calle Juan Tur Tur\, Santa Eulalia del Río\, Islas Baleares\, 07840\, Spain
CATEGORIES:Culture
ATTACH;FMTTYPE=image/png:https://white-ibiza.com/wp-content/uploads/2026/04/white-ibiza-calendar-olas-gallery-under-the-surface-exhibition-2026.png
GEO:38.9819402;1.5324936
X-APPLE-STRUCTURED-LOCATION;VALUE=URI;X-ADDRESS=Olas Gallery Calle Juan Tur Tur Santa Eulalia del Río Islas Baleares 07840 Spain;X-APPLE-RADIUS=500;X-TITLE=Calle Juan Tur Tur:geo:1.5324936,38.9819402
END:VEVENT
BEGIN:VEVENT
DTSTART;TZID=Europe/Madrid:20260425T130000
DTEND;TZID=Europe/Madrid:20260425T180000
DTSTAMP:20260425T135237
CREATED:20260112T084313Z
LAST-MODIFIED:20260112T084313Z
UID:10029470-1777122000-1777140000@white-ibiza.com
SUMMARY:Little Náutic at El Náutico Ibiza
DESCRIPTION:Proving that Ibiza weekend lunches can be as fun and entertaining for kids as they are for adults is El Náutico Ibiza\, the stylish restaurant headed up by chef Pau Barba in the harbour of Ibiza town. Every Saturday and Sunday\, local childcare specialists\, Holikids\, plot up in the interior dining space where they expertly supervise and lead the Little Náutic program from 1pm until 6pm\, offering fun and creative activities for little folk while grown-ups wine and dine on the alfresco terrace. \nWith its stunning vistas across the water to Dalt Vila\, and a gentle soundtrack of yacht sails clinking and waves lapping beside the dock\, El Náutico Ibiza makes an impressive year-round destination for meeting friends or family. Delicious local fish\, typical Spanish rice dishes\, tapas and much more can be shared and savoured as you while away the weekend hours\, safe in the knowledge that the little ones are happily crafting\, colouring and playing in the kids’ club until it’s time to head home. Just don’t be surprised if they want to stay longer!
URL:https://white-ibiza.com/ibiza-calendar/little-nautic-at-el-nautico-ibiza-2/2026-04-25/
LOCATION:El Náutico Ibiza\, Avinguda de Santa Eulària des Riu\, Eivissa\, Islas Baleares\, 07800\, Spain
CATEGORIES:Kids
ATTACH;FMTTYPE=image/jpeg:https://white-ibiza.com/wp-content/uploads/2024/11/white-ibiza-calendar-el-nautico-ibiza-2024-little-nautico-by-holikids.jpeg
GEO:38.9139964;1.4351802
X-APPLE-STRUCTURED-LOCATION;VALUE=URI;X-ADDRESS=El Náutico Ibiza Avinguda de Santa Eulària des Riu Eivissa Islas Baleares 07800 Spain;X-APPLE-RADIUS=500;X-TITLE=Avinguda de Santa Eulària des Riu:geo:1.4351802,38.9139964
END:VEVENT
BEGIN:VEVENT
DTSTART;TZID=Europe/Madrid:20260425T133000
DTEND;TZID=Europe/Madrid:20260425T153000
DTSTAMP:20260425T135237
CREATED:20260312T144059Z
LAST-MODIFIED:20260312T144059Z
UID:10030938-1777123800-1777131000@white-ibiza.com
SUMMARY:Calçots & Grill at Es Cucons
DESCRIPTION:Nestled into the green hills of Santa Inés and surrounded by pine-clad Ibiza countryside lies a finca turned restaurant with a farm-to-table ethos that honours the island’s rich culinary bounty. Booking a table for the seasonal Calçots & Grill event at Es Cucons Ibiza is the perfect way to spend a Saturday or Sunday with family and friends while tucking into the smoky\, sticky delight that is a calçotada. \nIs it a tiny spring onion or a baby leek? While the answer is uncertain\, the only thing to be sure of is that when they are cooked over an open fire and served with homemade romesco sauce\, they are deliciously addictive and a perennial island favourite. Paired with a bottle of red\, a smattering of winter sunshine and views that are seemingly never-ending\, the weekly Calçots & Grill at Es Cucons Ibiza signals the start of springtime and a not-too-distant summer. 
URL:https://white-ibiza.com/ibiza-calendar/calcots-grill-at-es-cucons/2026-04-25/
LOCATION:Es Cucons\, Sant Antoni de Portmany\, Islas Baleares\, 07828\, Spain
CATEGORIES:Foodies
ATTACH;FMTTYPE=image/jpeg:https://white-ibiza.com/wp-content/uploads/2025/09/white-ibiza-restaurants-es-cucons-restaurant-2025-08.jpeg
GEO:39.0400876;1.3299587
END:VEVENT
BEGIN:VEVENT
DTSTART;TZID=Europe/Madrid:20260425T140000
DTEND;TZID=Europe/Madrid:20260426T010000
DTSTAMP:20260425T135237
CREATED:20260423T092855Z
LAST-MODIFIED:20260423T143209Z
UID:10031570-1777125600-1777165200@white-ibiza.com
SUMMARY:Sun & Moon Season Opening at Mondrian Ibiza
DESCRIPTION:Sun & Moonthrows open its doors on Sunday April 25\, 2026\, for more laidback seaside vibes and tasty Mediterranean inspired snacks. Set in the heart of the luxurious Mondrian Ibiza resort complex\, it is the perfect après-beach spot where sundowners can be sipped as the salty breeze flicks through your hair and plates of tasty croquetas and jamón Iberico are shared as night slowly falls.  \nLate lunches and relaxed dinners all come with a free side of the breathtaking views that the sandy shores of Cala Llonga provide\, best complemented by the drinks list that is as deliciously decadent as it is diverse. The Sun & Moon Opening perfectly encapsulates sunny summer afternoons and balmy gourmet evenings where the living is most definitely easy. 
URL:https://white-ibiza.com/ibiza-calendar/sun-moon-season-opening-at-mondrian-ibiza/
LOCATION:Sun & Moon\, Carrer de sa Talaia\, Cala Llonga\, Balearic Islands\, 07849\, Spain
CATEGORIES:Foodies
ATTACH;FMTTYPE=image/jpeg:https://white-ibiza.com/wp-content/uploads/2024/07/white-ibiza-restaurants-casual-dining-sun-and-moon-2025-06.jpeg
GEO:38.9544963;1.5198869
X-APPLE-STRUCTURED-LOCATION;VALUE=URI;X-ADDRESS=Sun & Moon Carrer de sa Talaia Cala Llonga Balearic Islands 07849 Spain;X-APPLE-RADIUS=500;X-TITLE=Carrer de sa Talaia:geo:1.5198869,38.9544963
END:VEVENT
BEGIN:VEVENT
DTSTART;TZID=Europe/Madrid:20260425T160000
DTEND;TZID=Europe/Madrid:20260425T230000
DTSTAMP:20260425T135237
CREATED:20260423T145041Z
LAST-MODIFIED:20260423T145041Z
UID:10032099-1777132800-1777158000@white-ibiza.com
SUMMARY:Max Dean Presents NEXUP at 528 Ibiza
DESCRIPTION:Max Dean Presents NEXUP at 528 Ibiza over the much-anticipated IMS weekend\, taking to the open-air stage in the Benimussa hills on Saturday April 25\, 2026. The NEXUP label head honcho brings his blend of cutting-edge underground house music and the next generation of club artists to the island’s favourite new venue\, along with plenty of serious tunes and garden gyrating from clubbers from across the globe.  \nIt seems the cat’s out of the bag now\, when it comes to Ibiza’s (formerly) best-kept clubbing secret. 528 Ibiza has taken open-air partying to a level all of its own\, where you can dance under inky Ibiza skies\, surrounded by pine trees and a healthy dose of fresh air\, where the energy is pure white isle daytime clubbing at its best. The line-up features Max Dean B2B Luke Dean B2B Joss Dean (that’s a lot of Deans!) alongside Tommy Phillips\, Summer Ghemati and Ellis Garner – tickets get booked fast for Ibiza’s opening weekend so grab yours now before they go!  
URL:https://white-ibiza.com/ibiza-calendar/max-dean-presents-nexup-at-528-ibiza/
LOCATION:528 Ibiza\, Carrer del Romaní\, Sant Antoni de Portmany\, Islas Baleares\, 07820\, Spain
CATEGORIES:Clubs
ATTACH;FMTTYPE=image/jpeg:https://white-ibiza.com/wp-content/uploads/2026/04/white-ibiza-club-calendar-max-dean-nexup-528-ibiza-2026.jpeg
GEO:38.9698155;1.3337083
X-APPLE-STRUCTURED-LOCATION;VALUE=URI;X-ADDRESS=528 Ibiza Carrer del Romaní Sant Antoni de Portmany Islas Baleares 07820 Spain;X-APPLE-RADIUS=500;X-TITLE=Carrer del Romaní:geo:1.3337083,38.9698155
END:VEVENT
BEGIN:VEVENT
DTSTART;TZID=Europe/Madrid:20260425T190000
DTEND;TZID=Europe/Madrid:20260425T230000
DTSTAMP:20260425T135237
CREATED:20260305T161709Z
LAST-MODIFIED:20260305T161709Z
UID:10030904-1777143600-1777158000@white-ibiza.com
SUMMARY:Imprevisto Pop-Up at Montesol Experimental 
DESCRIPTION:While Ibiza’s much-loved pizzeria Imprevisto has permanently closed its doors\, the talented team of chefs behind the concept returns to the heart of Ibiza town for a series of pizza nights like no other at Montesol Experimental.  Known for its carefully crafted dough\, ingenious toppings and cult following\, the talented team of pizzeros from Imprevisto bring the same flavour-first approach that made the pizzeria a firm favourite with locals to the ground-floor café at Montesol Experimental every Friday and Saturday evening.  \nSet inside the historic Café Montesol\, the pop-up serves artisanal pizzas every Friday and Saturday evening. Arrive early\, bring friends and settle in for a relaxed\, no-frills slice of island nostalgia\, where lip-smacking pizza and good company take centre stage.  
URL:https://white-ibiza.com/ibiza-calendar/imprevisto-pop-up-at-montesol-experimental/2026-04-25/
LOCATION:Montesol Experimental\, Passeig de Vara de Rey\, Eivissa\, Islas Baleares\, 07800\, Spain
CATEGORIES:Foodies
ATTACH;FMTTYPE=image/jpeg:https://white-ibiza.com/wp-content/uploads/2025/12/white-ibiza-calendar-cafe-montesol-imprevisto-pop-up-2025.jpeg
GEO:38.9099697;1.4346268
X-APPLE-STRUCTURED-LOCATION;VALUE=URI;X-ADDRESS=Montesol Experimental Passeig de Vara de Rey Eivissa Islas Baleares 07800 Spain;X-APPLE-RADIUS=500;X-TITLE=Passeig de Vara de Rey:geo:1.4346268,38.9099697
END:VEVENT
BEGIN:VEVENT
DTSTART;TZID=Europe/Madrid:20260425T190000
DTEND;TZID=Europe/Madrid:20260425T235900
DTSTAMP:20260425T135237
CREATED:20260402T133714Z
LAST-MODIFIED:20260423T143314Z
UID:10031324-1777143600-1777161540@white-ibiza.com
SUMMARY:2026 Season Opening at Niko Fresco
DESCRIPTION:Head to the east coast on Saturday April 25\, 2026 and take a cheeky diversion between the vibrant Hyde Ibiza and Mondrian Ibiza hotels and you will stumble across the season opening of Japanese fine dining restaurant Niko Fresco\, where the vibes are slick and the food is utterly divine.   The 2026 Season Opening at Niko Fresco sees the welcome return of sushi and sashimi platters\, quirky cocktails and locally sourced ingredients to the golden shores of Cala Llonga. For the impossibly indecisive\, try the Omakase Concept where the expert team of chefs slice and dice a set tasting menu of sushi and robata based on their pick of that day’s freshest produce. Book a table today and welcome the spring Japanese style.
URL:https://white-ibiza.com/ibiza-calendar/2026-season-opening-at-niko-fresco/
LOCATION:Hyde Ibiza\, Cala Llonga\, Islas Baleares\, 07849\, Spain
CATEGORIES:Foodies
ATTACH;FMTTYPE=image/jpeg:https://white-ibiza.com/wp-content/uploads/2024/07/white-ibiza-fine-dining-niko-ibiza-2025-11.jpg
GEO:38.9557105;1.514811
END:VEVENT
BEGIN:VEVENT
DTSTART;TZID=Europe/Madrid:20260425T190000
DTEND;TZID=Europe/Madrid:20260426T010000
DTSTAMP:20260425T135237
CREATED:20260416T143838Z
LAST-MODIFIED:20260423T143257Z
UID:10031534-1777143600-1777165200@white-ibiza.com
SUMMARY:2026 Reopening at Finca La Plaza
DESCRIPTION:On Saturday April 25\, 2026\, the secret garden at Finca la Plaza reopens for languid evenings spent dining beneath the stars just a few steps from the pretty village square of San Gertrudis. The Mediterranean menu\, designed by executive chef Sergio Cardeñosa\, takes the slow way round\, where classic recipes are reimagined\, cooked\, smoked or fermented for maximum flavour.  Set within a leafy oasis in a centuries–old finca\, live music floats through the air courtesy of Querencía\, mingling in the air with the flavours of the smoky grill and the aromatic delights from the citrus trees overhead. Authenticity reigns supreme at Finca La Plaza\, where taking a seat on the terrace feels like stepping back in time\, evoking the feeling of old-school Ibiza\, where taking it easy is an art form in itself. 
URL:https://white-ibiza.com/ibiza-calendar/2026-reopening-at-finca-la-plaza/
LOCATION:Finca La Plaza\, Santa Gertrudis de Fruitera\, Islas Baleares\, 07814\, Spain
CATEGORIES:Foodies
ATTACH;FMTTYPE=image/jpeg:https://white-ibiza.com/wp-content/uploads/2025/07/white-ibiza-restaurants-fine-dining-finca-la-plaza-2025-10.jpeg
GEO:38.9986978;1.4283253
END:VEVENT
BEGIN:VEVENT
DTSTART;TZID=Europe/Madrid:20260425T200000
DTEND;TZID=Europe/Madrid:20260426T010000
DTSTAMP:20260425T135237
CREATED:20260416T143354Z
LAST-MODIFIED:20260416T143354Z
UID:10031533-1777147200-1777165200@white-ibiza.com
SUMMARY: Vélour by Mario Figueroa Goes Rodeo at The Standard\, Ibiza
DESCRIPTION:VÉLOUR by Mario Figueroa brings the spirit of the modern cowboy to Jara at The Standard\, Ibiza on Saturday April 25\, 2026\, with a glossy mix of yee-haw fashion\, dining and late-night glam. The evening starts with a stylish dinner from 8pm\, sound-tracked by Ms Mtnez B2B Huvinbeat\, with a live performance from Bruno Fonte as well as a very special guest. This western-themed edition is all about the rodeo vibes plus there’s the chance to win gifts\, including a prize for the coolest table.   \nOnce dinner winds down\, the party naturally flows downstairs into the depths of The Green Room\, where the beats and fun continue unabated\, hidden in plain sight in the heart of Ibiza town. Grab your Stetson and don those knee-high cowboy boots you’ve been itching to wear\, saddle up and ride’em cowboy as the perfect spring night in Ibiza unfolds.  
URL:https://white-ibiza.com/ibiza-calendar/velour-by-mario-figueroa-goes-rodeo-at-the-standard-ibiza/
LOCATION:The Standard\, Ibiza\, Carrer de Bartomeu Vicent Ramon\, Eivissa\, Islas Baleares\, 07800\, Spain
CATEGORIES:Nightlife
ATTACH;FMTTYPE=image/jpeg:https://white-ibiza.com/wp-content/uploads/2025/11/white-ibiza-calendar-jara-the-standard-ibiza-after-service-2025.jpeg
GEO:38.909914;1.4340569
X-APPLE-STRUCTURED-LOCATION;VALUE=URI;X-ADDRESS=The Standard Ibiza Carrer de Bartomeu Vicent Ramon Eivissa Islas Baleares 07800 Spain;X-APPLE-RADIUS=500;X-TITLE=Carrer de Bartomeu Vicent Ramon:geo:1.4340569,38.909914
END:VEVENT
BEGIN:VEVENT
DTSTART;TZID=Europe/Madrid:20260425T210000
DTEND;TZID=Europe/Madrid:20260426T040000
DTSTAMP:20260425T135237
CREATED:20260409T130247Z
LAST-MODIFIED:20260409T130247Z
UID:10031418-1777150800-1777176000@white-ibiza.com
SUMMARY:Pikes House Party at Pikes Ibiza
DESCRIPTION:As the saying goes\, there’s no party like a Pikes House Party\, and the island’s most beloved boutique hotel and party hotspot\, Pikes Ibiza\, is back with its frolic-filled flagship event every Saturday night throughout the summer. Imagine the best house party you ever went to\, throw in some shiny disco balls\, a whole lot of skipping the light fandango and a little dash of the unexpected and you’re only halfway there. \nPikes House Party famously begins around the Club Tropicana pool\, with some laid-back beats and ferociously strong cocktails. Over on The Sunset Terrace\, The Pikes House Band strut their stuff\, performing a mix of house classics and original jams over dinner. As the evening spills out into the hotel’s social buzzing heart\, Plaza Mayor\, toes start tapping and it’s time to hang on tight as you feel the inevitable pull of Freddies drawing you into its web of disco ditties and late-night jollies. \nThese riotous parties are not for the faint-hearted – bring your stamina and an open mind and you may just find yourself singing along with the Crazy Piano Man or hypothetically splashing around in the legendary Bathtub Club. Register for the free guestlist\, book a table in The Pikes Restaurant\, or opt for Night Slices in the Garden Bar to ensure entry at the link below.
URL:https://white-ibiza.com/ibiza-calendar/pikes-house-party-at-pikes-ibiza-2/2026-04-25/
LOCATION:Pikes Ibiza\, Camí de Sa Vorera\, Sant Antoni de Portmany\, Is\, 07820\, Spain
CATEGORIES:Culture,Nightlife
ATTACH;FMTTYPE=image/jpeg:https://white-ibiza.com/wp-content/uploads/2026/04/white-ibiza-club-calendar-pikes-house-party-freddies-pikes-ibiza-2026.jpeg
GEO:38.986598;1.3254823
X-APPLE-STRUCTURED-LOCATION;VALUE=URI;X-ADDRESS=Pikes Ibiza Camí de Sa Vorera Sant Antoni de Portmany Is 07820 Spain;X-APPLE-RADIUS=500;X-TITLE=Camí de Sa Vorera:geo:1.3254823,38.986598
END:VEVENT
BEGIN:VEVENT
DTSTART;TZID=Europe/Madrid:20260425T230000
DTEND;TZID=Europe/Madrid:20260425T230000
DTSTAMP:20260425T135237
CREATED:20260122T143607Z
LAST-MODIFIED:20260423T123750Z
UID:10030531-1777158000-1777158000@white-ibiza.com
SUMMARY:2026 Opening Weekend Part 2 with Solomun & BLOND:ISH at Pacha Ibiza
DESCRIPTION:On Saturday April 25\, 2026\, the 2026 Pacha Ibiza Opening Weekend baton is passed from Marco Carola to Croatian titan Solomun\, for part two of the iconic club’s opening weekend. Expect a packed dancefloor as the Diynamic Music head honcho and Pacha Ibiza stalwart spins his web of deep melodic house and techno alongside Pacha regulars BLOND:ISH and Angel Linde.   \nAs the island wakes from its winter slumber\, these parties are the perfect chance for islanders to reconnect once again after their winter travels or hibernation. Whether you make it to both nights is a question of stamina\, but a whole weekend of Pacha Ibiza-filled fun is the best excuse for trying. 
URL:https://white-ibiza.com/ibiza-calendar/2026-opening-weekend-part-2-with-solomun-blondish-at-pacha-ibiza/
LOCATION:Pacha Ibiza\, Avinguda 8 d'Agost\, Eivissa\, Islas Baleares\, 07800\, Spain
CATEGORIES:Clubs
ATTACH;FMTTYPE=image/jpeg:https://white-ibiza.com/wp-content/uploads/2025/04/white-ibiza-club-calendar-solomun-plus-one-pacha-ibiza-2025-05.jpeg
GEO:38.9177309;1.4446226
X-APPLE-STRUCTURED-LOCATION;VALUE=URI;X-ADDRESS=Pacha Ibiza Avinguda 8 d'Agost Eivissa Islas Baleares 07800 Spain;X-APPLE-RADIUS=500;X-TITLE=Avinguda 8 d'Agost:geo:1.4446226,38.9177309
END:VEVENT
BEGIN:VEVENT
DTSTART;TZID=Europe/Madrid:20260425T233000
DTEND;TZID=Europe/Madrid:20260426T060000
DTSTAMP:20260425T135237
CREATED:20260423T150204Z
LAST-MODIFIED:20260423T150204Z
UID:10032100-1777159800-1777183200@white-ibiza.com
SUMMARY:Opening Party 2026 at Hï Ibiza
DESCRIPTION:The only thing better than an opening party is three in a row\, and The Night League certainly doesn’t disappoint with its trio of island showstoppers at Hï Ibiza\, Ushuaïa Ibiza and [UNVRS] in 2026. First out of the clubbing stable is a dance music extravaganza at multi award-winning venue\, Hï Ibiza\, on Saturday April 25\, 2026\, with all the action kicking off from 11.30pm in Playa d’en Bossa. \nThis undisputed clubbing institution will be the first of the group to throw open its doors for the musical marathon and sound the starting pistol. Whether you’re cavorting in the Main Room\, getting your groove on in the Club Room or shaking a tail feather in Wild Corner\, this legendary club – voted The World’s No.1 Club for four consecutive years – really is the one of the Hï-lights of the season. The line-up features Dan Shake\, Delilah\, DJ Gigola\, East End Dubs\, Ewan McVicar\, Indira Paganotto\, Joseph Capriati\, Melon Bomb\, Natalia Roth\, OMRI.\, Patrick Mason\, Rossi.\, Skepta\, The Martinez Brothers and VTSS\, and the club is now on its 15th (yes\, seriously!) ticket release\, with sunrise tickets also now available. If previous years are any indication of what to expect this party will sell out before the day so grab your tickets or VIP tables now before they are gone!
URL:https://white-ibiza.com/ibiza-calendar/opening-party-2026-at-hi-ibiza/
LOCATION:Hï Ibiza\, Platja d'en Bossa\, San Jorge de ses Salines\, Islas Baleares\, 07800\, Spain
CATEGORIES:Clubs
ATTACH;FMTTYPE=image/jpeg:https://white-ibiza.com/wp-content/uploads/2025/01/white-ibiza-calendar-hi-ibiza-2025-02.jpeg
GEO:38.8840273;1.4059791
X-APPLE-STRUCTURED-LOCATION;VALUE=URI;X-ADDRESS=Hï Ibiza Platja d'en Bossa San Jorge de ses Salines Islas Baleares 07800 Spain;X-APPLE-RADIUS=500;X-TITLE=Platja d'en Bossa:geo:1.4059791,38.8840273
END:VEVENT
END:VCALENDAR