BEGIN:VCALENDAR
VERSION:2.0
PRODID:-//WHITE IBIZA - ECPv6.6.0.2//NONSGML v1.0//EN
CALSCALE:GREGORIAN
METHOD:PUBLISH
X-WR-CALNAME:WHITE IBIZA
X-ORIGINAL-URL:https://white-ibiza.com
X-WR-CALDESC:Events for WHITE IBIZA
REFRESH-INTERVAL;VALUE=DURATION:PT1H
X-Robots-Tag:noindex
X-PUBLISHED-TTL:PT1H
BEGIN:VTIMEZONE
TZID:Europe/Madrid
BEGIN:DAYLIGHT
TZOFFSETFROM:+0100
TZOFFSETTO:+0200
TZNAME:CEST
DTSTART:20260329T010000
END:DAYLIGHT
BEGIN:STANDARD
TZOFFSETFROM:+0200
TZOFFSETTO:+0100
TZNAME:CET
DTSTART:20261025T010000
END:STANDARD
END:VTIMEZONE
BEGIN:VEVENT
DTSTART;TZID=Europe/Madrid:20260423T080000
DTEND;TZID=Europe/Madrid:20260423T200000
DTSTAMP:20260423T120826
CREATED:20260319T144915Z
LAST-MODIFIED:20260320T091522Z
UID:10030995-1776931200-1776974400@white-ibiza.com
SUMMARY:Afterglow Happy Hour in Jara at The Standard\, Ibiza
DESCRIPTION:As the glorious island sunshine melts into the horizon\, Jara – the stylish ground floor restaurant and bar at The Standard\, Ibiza in Ibiza town – sets the tone for the night ahead with Afterglow Happy Hour\, running every evening from 6pm to 8pm\, all year round. Whether it’s an after work catch-up\, a post-shopping wind-down or a cosy spring warm-up\, this buzzing island hotspot invites you to sip two-for-one cocktails as the evening unfolds.  \nWith its über-cool ambience\, Jara is the place to see and be seen\, offering a seamless transition from the glow of golden hour to Ibiza’s vibrant nightlife. Settle into a plush seat or perch at the bar with the locals\, raise a glass and let the afterglow linger a little longer\, because every great night starts with that perfect first sip… or two!    
URL:https://white-ibiza.com/ibiza-calendar/afterglow-happy-hour-in-jara-at-the-standard-ibiza/2026-04-23/
LOCATION:The Standard\, Ibiza\, Carrer de Bartomeu Vicent Ramon\, Eivissa\, Islas Baleares\, 07800\, Spain
CATEGORIES:Nightlife
ATTACH;FMTTYPE=image/jpeg:https://white-ibiza.com/wp-content/uploads/2025/07/white-ibiza-calendar-happy-hour-jara-the-standard-ibiza-2025.jpeg
GEO:38.909914;1.4340569
X-APPLE-STRUCTURED-LOCATION;VALUE=URI;X-ADDRESS=The Standard Ibiza Carrer de Bartomeu Vicent Ramon Eivissa Islas Baleares 07800 Spain;X-APPLE-RADIUS=500;X-TITLE=Carrer de Bartomeu Vicent Ramon:geo:1.4340569,38.909914
END:VEVENT
BEGIN:VEVENT
DTSTART;TZID=Europe/Madrid:20260423T090000
DTEND;TZID=Europe/Madrid:20260423T180000
DTSTAMP:20260423T120826
CREATED:20260326T160316Z
LAST-MODIFIED:20260326T160413Z
UID:10031279-1776934800-1776967200@white-ibiza.com
SUMMARY:Terres Margantes | Una Altra Arcàdia Exhibition at Estudio Laterna
DESCRIPTION:The creative talents of Enric Majoral and Jordi Sarrà come vividly to life this spring via Terres Margantes | Una Altra Arcàdia at Estudio Laterna – an exhibition that offers two artistic views on the earthy terrain of Formentera from quite differing disciplines.  Majoral\, the jeweller and sculptor extraordinaire\, brings his nature–inspired bronze sculptures to the Santa Gertrudis artist’s haven\, where they can be seen alongside the captivating photographs of Sarrà\, whose lens records an alternate way to enjoy each piece. The Terres Margantes | Una Altra Arcàdia exhibition at Estudio Laterna is showing every weekday until Wednesday May 27\, 2026\, and drop-ins are always welcome.
URL:https://white-ibiza.com/ibiza-calendar/terres-margantes-una-altra-arcadia-exhibition-at-estudio-laterna/2026-04-23/
LOCATION:Estudio Laterna\, Carrer Vénda de Parada\, Santa Gertrudis de Fruitera\, Islas Baleares\, 07814\, Spain
CATEGORIES:Culture
ATTACH;FMTTYPE=image/jpeg:https://white-ibiza.com/wp-content/uploads/2026/03/white-ibiza-calendar-estudio-laterna-2026.jpeg
GEO:38.9988683;1.4283884
X-APPLE-STRUCTURED-LOCATION;VALUE=URI;X-ADDRESS=Estudio Laterna Carrer Vénda de Parada Santa Gertrudis de Fruitera Islas Baleares 07814 Spain;X-APPLE-RADIUS=500;X-TITLE=Carrer Vénda de Parada:geo:1.4283884,38.9988683
END:VEVENT
BEGIN:VEVENT
DTSTART;TZID=Europe/Madrid:20260423T110000
DTEND;TZID=Europe/Madrid:20260423T200000
DTSTAMP:20260423T120826
CREATED:20260416T145950Z
LAST-MODIFIED:20260416T174940Z
UID:10031547-1776942000-1776974400@white-ibiza.com
SUMMARY:Under the Surface Exhibition by Ned Irving at Olas Gallery
DESCRIPTION:A lifelong fascination with water and its ever-shifting reflections was the starting point for Under the Surface – the new exhibition by Ned Irving at Olas Gallery this spring. Born in Ibiza\, Irving takes viewers deep into a watery world where light bounces and colours refract\, creating a kaleidoscopic exploration of what often escapes ordinary perception. \nThrough a series of stunning photographs\, dive into a liminal space that hovers between reality and abstraction in the petite beachside gallery in Santa Eulalia with the exhibition running daily (excluding Sundays and Mondays) between 11am and 2pm\, then again from 5pm until 8pm until Tuesday May 21\, 2026. Olas Gallery was founded by photographer Sofia Gomez Fonzo and is the perfect spot to take in the work of some of the island’s best artists\, photographers and creatives while discovering the artistic spirit of Ibiza. Use the link below to find out more. 
URL:https://white-ibiza.com/ibiza-calendar/under-the-surface-exhibition-by-ned-irving-at-olas-gallery/2026-04-23/
LOCATION:Olas Gallery\, Calle Juan Tur Tur\, Santa Eulalia del Río\, Islas Baleares\, 07840\, Spain
CATEGORIES:Culture
ATTACH;FMTTYPE=image/png:https://white-ibiza.com/wp-content/uploads/2026/04/white-ibiza-calendar-olas-gallery-under-the-surface-exhibition-2026.png
GEO:38.9819402;1.5324936
X-APPLE-STRUCTURED-LOCATION;VALUE=URI;X-ADDRESS=Olas Gallery Calle Juan Tur Tur Santa Eulalia del Río Islas Baleares 07840 Spain;X-APPLE-RADIUS=500;X-TITLE=Calle Juan Tur Tur:geo:1.5324936,38.9819402
END:VEVENT
BEGIN:VEVENT
DTSTART;TZID=Europe/Madrid:20260423T120000
DTEND;TZID=Europe/Madrid:20260423T230000
DTSTAMP:20260423T120826
CREATED:20260319T151423Z
LAST-MODIFIED:20260416T175058Z
UID:10031251-1776945600-1776985200@white-ibiza.com
SUMMARY:Season Opening at Pomelo Playa
DESCRIPTION:With the crisp scent of spring on the Ibiza breeze\, gorgeous beach restaurant Pomelo Playa throws open its doors once again on Monday April 23\, 2026\, all set for another season of Mediterranean dining and laid-back Balearic beats. Whether you take a table on the breezy terrace or spend the day soaking up the sunshine from a sunbed\, this peachy retro dining hub is as stylish as it is welcoming.  Located on the sandy curve of Cala Gració\, Pomelo Playa delivers vintage beachside vibes in spades\, alongside a menu filled with delicious sharing plates\, fresh salads and a cocktail list that includes all the classics\, plus Ibiza-inspired\, signature pick-me-ups. Book your table\, pack your beach bag and sit back in happy reverie as another Ibiza summer is just around the corner! 
URL:https://white-ibiza.com/ibiza-calendar/season-opening-at-pomelo-playa/
LOCATION:Pomelo Playa\, Carretera de Cala Gració\, Sant Antoni de Portmany\, Illes Balears\, 07820\, Spain
CATEGORIES:Foodies
ATTACH;FMTTYPE=image/jpeg:https://white-ibiza.com/wp-content/uploads/2025/10/white-ibiza-beach-restaurants-pomelo-playa-2025-01.jpeg
GEO:38.9872116;1.295849
X-APPLE-STRUCTURED-LOCATION;VALUE=URI;X-ADDRESS=Pomelo Playa Carretera de Cala Gració Sant Antoni de Portmany Illes Balears 07820 Spain;X-APPLE-RADIUS=500;X-TITLE=Carretera de Cala Gració:geo:1.295849,38.9872116
END:VEVENT
BEGIN:VEVENT
DTSTART;TZID=Europe/Madrid:20260423T120000
DTEND;TZID=Europe/Madrid:20260423T235900
DTSTAMP:20260423T120826
CREATED:20260409T124316Z
LAST-MODIFIED:20260416T175109Z
UID:10031406-1776945600-1776988740@white-ibiza.com
SUMMARY:Season Opening at Casa Maca
DESCRIPTION:As the summer season inches closer and closer\, stunning boutique hotel and restaurant Casa Maca – run by the experts at Grupo Mambo – gets set to welcome visitors from across the globe\, with the official opening taking place on Thursday April 23\, 2026. With its spectacular views of the historic Dalt Vila skyline\, authentically laid-back Ibiza ambience and farm-to-table philosophy\, it’s little wonder the alfresco eatery has gained legend status over the years.  \nLunch time is all about the à la carte menu that fuses international flavours with local organic ingredients\, while evenings centre around the smoky flavours of the grill\, the clink of craft cocktails and a soundtrack of DJs and live music that all play second fiddle to the unparalleled views that unfold as the sun sets and the stars start to twinkle above. The Season Opening at Casa Macais the perfect way to take a breath before the whirlwind of the summer season takes hold – gather your friends and make a reservation to guarantee you don’t miss out.
URL:https://white-ibiza.com/ibiza-calendar/season-opening-at-casa-maca-2/
LOCATION:Casa Maca\, Eivissa\, Islas Baleares\, 07800\, Spain
CATEGORIES:Foodies
ATTACH;FMTTYPE=image/jpeg:https://white-ibiza.com/wp-content/uploads/2025/04/white-ibiza-calendar-casa-maca-2025.jpeg
GEO:39.0200099;1.4821482
END:VEVENT
BEGIN:VEVENT
DTSTART;TZID=Europe/Madrid:20260423T130000
DTEND;TZID=Europe/Madrid:20260423T170000
DTSTAMP:20260423T120827
CREATED:20260112T085527Z
LAST-MODIFIED:20260112T085527Z
UID:10029652-1776949200-1776963600@white-ibiza.com
SUMMARY:Menú del Día at La Torre Ibiza
DESCRIPTION:La Torre Ibiza serves a delicious\, winter-warming weekday Menú del Día that pairs simple Mediterranean cooking with some of the most glorious views on the San Antonio coastline. Pull up a chair and settle in for some feasting – choose between options like corn soup with tortilla chips\, feta and pico de gallo; or beef empanadillas finished with chimichurri aioli to start.  \nMain courses include tempura hake with roasted aubergine and Thai curry sauce; or a sweet potato parmentier topped with pork rib and chestnuts\, while dessert is a chunky slice of baked cheesecake with homemade fig jam. Priced at just 25€ per person and the menu changes weekly\, so there’s no better excuse to enjoy a sunset in one of the islands most iconic locations before the summer season arrives.
URL:https://white-ibiza.com/ibiza-calendar/menu-del-dia-at-la-torre-ibiza-3/2026-04-23/
LOCATION:La Torre Ibiza\, Carretera Cap Negret\, Sant Antoni de Portmany\, Islas Baleares\, 07820\, Spain
CATEGORIES:Foodies
ATTACH;FMTTYPE=image/jpeg:https://white-ibiza.com/wp-content/uploads/2025/11/white-ibizacalendar-la-torre-ibiza-2025.jpeg
GEO:38.9981354;1.2855332
X-APPLE-STRUCTURED-LOCATION;VALUE=URI;X-ADDRESS=La Torre Ibiza Carretera Cap Negret Sant Antoni de Portmany Islas Baleares 07820 Spain;X-APPLE-RADIUS=500;X-TITLE=Carretera Cap Negret:geo:1.2855332,38.9981354
END:VEVENT
BEGIN:VEVENT
DTSTART;TZID=Europe/Madrid:20260423T130000
DTEND;TZID=Europe/Madrid:20260423T180000
DTSTAMP:20260423T120827
CREATED:20260112T164220Z
LAST-MODIFIED:20260115T101148Z
UID:10029851-1776949200-1776967200@white-ibiza.com
SUMMARY:Menú del Día at REMO Ibiza
DESCRIPTION:From Monday to Friday throughout the winter season\, REMO Ibiza serves up a special winter menú del día in the heart of the cosy and leafy Marina Village complex. The ever-changing dishes reflect the restaurant’s easygoing approach to lunch – one that is guaranteed to warm the coldest of wintery tummies.   \nStarters include classic options such as Spain’s salad of choice\, ensaladilla rusa\, homey chicken soup or huevos rotos\, followed by mains like spicy tacos REMO-style\, tasty chicken milanesa or a steaming bowl of spaghetti with prawns\, and the feast finishes with the kitchen’s dessert of the day. The full menu is priced at 18€ for three courses and is available to eat in or to takeaway for Ibiza residents on-the-go this winter.
URL:https://white-ibiza.com/ibiza-calendar/menu-del-dia-at-remo-ibiza/2026-04-23/
LOCATION:Remo Ibiza\, Passeig Joan Carles I\, Eivissa\, Illes Balears\, 07800\, Spain
CATEGORIES:Foodies
ATTACH;FMTTYPE=image/jpeg:https://white-ibiza.com/wp-content/uploads/2026/01/white-ibiza-calendar-remo-ibiza-2026.jpeg
GEO:38.9161789;1.4438158
X-APPLE-STRUCTURED-LOCATION;VALUE=URI;X-ADDRESS=Remo Ibiza Passeig Joan Carles I Eivissa Illes Balears 07800 Spain;X-APPLE-RADIUS=500;X-TITLE=Passeig Joan Carles I:geo:1.4438158,38.9161789
END:VEVENT
BEGIN:VEVENT
DTSTART;TZID=Europe/Madrid:20260423T200000
DTEND;TZID=Europe/Madrid:20260424T010000
DTSTAMP:20260423T120827
CREATED:20260402T134838Z
LAST-MODIFIED:20260409T092250Z
UID:10031372-1776974400-1776992400@white-ibiza.com
SUMMARY:Sazón Grooves at Chidas Bar and Cantina
DESCRIPTION:If music is the food of love\, then Sazón Grooves at Chidas Bar and Cantina is most definitely living proof of the theory. With some spicy beats and even spicier plates\, this night of Afro\, tropical\, disco\, Latin\, jazz\, soul and reggae will have you shimmying your hips and tapping your toes as you sip a margarita (or two) and munch your way through a tasty taco (or three) in the heart of Ibiza town.  \nChidas head honchos\, Andreas Tsanos and Salvatore D’amico\, and their trusty team will be hustling up the culinary delights as Enrigue Malanga and friends provide the soundtrack for a night of good vibes and quite possibly some bad decisions (which\, let’s face it\, are always the best in the end!). Book your table now\, arrive hungry\, stay late and let the music do the rest. 
URL:https://white-ibiza.com/ibiza-calendar/sazon-grooves-at-chidas-bar-and-cantina/2026-04-23/
LOCATION:Chidas Bar and Cantina\, Plaça Pintor Vicent Calbet\, Eivissa\, Islas Baleares\, 07800\, Spain
CATEGORIES:Foodies,Nightlife
ATTACH;FMTTYPE=image/jpeg:https://white-ibiza.com/wp-content/uploads/2025/12/white-ibiza-calendar-chidas-bar-and-cantina-nye-2026.jpeg
GEO:38.9098782;1.4290812
X-APPLE-STRUCTURED-LOCATION;VALUE=URI;X-ADDRESS=Chidas Bar and Cantina Plaça Pintor Vicent Calbet Eivissa Islas Baleares 07800 Spain;X-APPLE-RADIUS=500;X-TITLE=Plaça Pintor Vicent Calbet:geo:1.4290812,38.9098782
END:VEVENT
BEGIN:VEVENT
DTSTART;TZID=Europe/Madrid:20260423T220000
DTEND;TZID=Europe/Madrid:20260423T235900
DTSTAMP:20260423T120827
CREATED:20260409T125019Z
LAST-MODIFIED:20260409T125019Z
UID:10031408-1776981600-1776988740@white-ibiza.com
SUMMARY:Changes Launch Party at The Standard\, Ibiza
DESCRIPTION:Midweek in Ibiza town gets a fresh injection of musical energy juice when Lex Wolf launches his new label\, CHANGES\, with a one-night takeover at The Standard\, Ibiza on Thursday April 23\, 2026. Bringing together music\, people and an anything-could-happen spring verve\, this pre-weekender has all the right ingredients for a night of cool sounds and an even cooler crowd.  \nUnfolding across two spaces\, the night begins in Jara from 8pm\, with DJ sets from Lex Wolf and Mandoiu\, before the action shifts downstairs to The Green Room from 10pm\, where internationally renowned artist Ali Love steps up for an exclusive live performance\, followed by more deck action from Lex Wolf and Mandoiu. Book your table for dinner or drinks to make a night of it or drop-in late for a dance and and to celebrate the launch of this exciting new label.
URL:https://white-ibiza.com/ibiza-calendar/changes-launch-party-at-the-standard-ibiza/
LOCATION:The Standard\, Ibiza\, Carrer de Bartomeu Vicent Ramon\, Eivissa\, Islas Baleares\, 07800\, Spain
CATEGORIES:Nightlife
ATTACH;FMTTYPE=image/jpeg:https://white-ibiza.com/wp-content/uploads/2025/11/white-ibiza-calendar-jara-the-standard-ibiza-after-service-2025.jpeg
GEO:38.909914;1.4340569
X-APPLE-STRUCTURED-LOCATION;VALUE=URI;X-ADDRESS=The Standard Ibiza Carrer de Bartomeu Vicent Ramon Eivissa Islas Baleares 07800 Spain;X-APPLE-RADIUS=500;X-TITLE=Carrer de Bartomeu Vicent Ramon:geo:1.4340569,38.909914
END:VEVENT
END:VCALENDAR