BEGIN:VCALENDAR
VERSION:2.0
PRODID:-//WHITE IBIZA - ECPv6.6.0.2//NONSGML v1.0//EN
CALSCALE:GREGORIAN
METHOD:PUBLISH
X-WR-CALNAME:WHITE IBIZA
X-ORIGINAL-URL:https://white-ibiza.com
X-WR-CALDESC:Events for WHITE IBIZA
REFRESH-INTERVAL;VALUE=DURATION:PT1H
X-Robots-Tag:noindex
X-PUBLISHED-TTL:PT1H
BEGIN:VTIMEZONE
TZID:Europe/Madrid
BEGIN:DAYLIGHT
TZOFFSETFROM:+0100
TZOFFSETTO:+0200
TZNAME:CEST
DTSTART:20260329T010000
END:DAYLIGHT
BEGIN:STANDARD
TZOFFSETFROM:+0200
TZOFFSETTO:+0100
TZNAME:CET
DTSTART:20261025T010000
END:STANDARD
END:VTIMEZONE
BEGIN:VEVENT
DTSTART;TZID=Europe/Madrid:20260422T080000
DTEND;TZID=Europe/Madrid:20260422T200000
DTSTAMP:20260422T014010
CREATED:20260319T144915Z
LAST-MODIFIED:20260320T091522Z
UID:10030994-1776844800-1776888000@white-ibiza.com
SUMMARY:Afterglow Happy Hour in Jara at The Standard\, Ibiza
DESCRIPTION:As the glorious island sunshine melts into the horizon\, Jara – the stylish ground floor restaurant and bar at The Standard\, Ibiza in Ibiza town – sets the tone for the night ahead with Afterglow Happy Hour\, running every evening from 6pm to 8pm\, all year round. Whether it’s an after work catch-up\, a post-shopping wind-down or a cosy spring warm-up\, this buzzing island hotspot invites you to sip two-for-one cocktails as the evening unfolds.  \nWith its über-cool ambience\, Jara is the place to see and be seen\, offering a seamless transition from the glow of golden hour to Ibiza’s vibrant nightlife. Settle into a plush seat or perch at the bar with the locals\, raise a glass and let the afterglow linger a little longer\, because every great night starts with that perfect first sip… or two!    
URL:https://white-ibiza.com/ibiza-calendar/afterglow-happy-hour-in-jara-at-the-standard-ibiza/2026-04-22/
LOCATION:The Standard\, Ibiza\, Carrer de Bartomeu Vicent Ramon\, Eivissa\, Islas Baleares\, 07800\, Spain
CATEGORIES:Nightlife
ATTACH;FMTTYPE=image/jpeg:https://white-ibiza.com/wp-content/uploads/2025/07/white-ibiza-calendar-happy-hour-jara-the-standard-ibiza-2025.jpeg
GEO:38.909914;1.4340569
X-APPLE-STRUCTURED-LOCATION;VALUE=URI;X-ADDRESS=The Standard Ibiza Carrer de Bartomeu Vicent Ramon Eivissa Islas Baleares 07800 Spain;X-APPLE-RADIUS=500;X-TITLE=Carrer de Bartomeu Vicent Ramon:geo:1.4340569,38.909914
END:VEVENT
BEGIN:VEVENT
DTSTART;TZID=Europe/Madrid:20260422T090000
DTEND;TZID=Europe/Madrid:20260422T180000
DTSTAMP:20260422T014010
CREATED:20260326T160316Z
LAST-MODIFIED:20260326T160413Z
UID:10031278-1776848400-1776880800@white-ibiza.com
SUMMARY:Terres Margantes | Una Altra Arcàdia Exhibition at Estudio Laterna
DESCRIPTION:The creative talents of Enric Majoral and Jordi Sarrà come vividly to life this spring via Terres Margantes | Una Altra Arcàdia at Estudio Laterna – an exhibition that offers two artistic views on the earthy terrain of Formentera from quite differing disciplines.  Majoral\, the jeweller and sculptor extraordinaire\, brings his nature–inspired bronze sculptures to the Santa Gertrudis artist’s haven\, where they can be seen alongside the captivating photographs of Sarrà\, whose lens records an alternate way to enjoy each piece. The Terres Margantes | Una Altra Arcàdia exhibition at Estudio Laterna is showing every weekday until Wednesday May 27\, 2026\, and drop-ins are always welcome.
URL:https://white-ibiza.com/ibiza-calendar/terres-margantes-una-altra-arcadia-exhibition-at-estudio-laterna/2026-04-22/
LOCATION:Estudio Laterna\, Carrer Vénda de Parada\, Santa Gertrudis de Fruitera\, Islas Baleares\, 07814\, Spain
CATEGORIES:Culture
ATTACH;FMTTYPE=image/jpeg:https://white-ibiza.com/wp-content/uploads/2026/03/white-ibiza-calendar-estudio-laterna-2026.jpeg
GEO:38.9988683;1.4283884
X-APPLE-STRUCTURED-LOCATION;VALUE=URI;X-ADDRESS=Estudio Laterna Carrer Vénda de Parada Santa Gertrudis de Fruitera Islas Baleares 07814 Spain;X-APPLE-RADIUS=500;X-TITLE=Carrer Vénda de Parada:geo:1.4283884,38.9988683
END:VEVENT
BEGIN:VEVENT
DTSTART;TZID=Europe/Madrid:20260422T110000
DTEND;TZID=Europe/Madrid:20260422T190000
DTSTAMP:20260422T014010
CREATED:20260416T150257Z
LAST-MODIFIED:20260416T175004Z
UID:10031540-1776855600-1776884400@white-ibiza.com
SUMMARY:Summer Opening at Sonrojo Ibiza
DESCRIPTION:One of the many glorious things about Ibiza summers is the reopening of the many chiringuitos dotted across the island’s beaches and Tuesday April 22\, 2026 sees the welcome return of Cala Llonga eatery\, Sonrojo Ibiza. Situated between luxury resorts Hyde Ibiza and Mondrian Ibiza\, on the golden shores just a few steps from the sand\, it offers a new take on some very classic Mediterranean dishes.  From trays of tasty tapas to plates piled high with steaming rice dishes\, Sonrojo Ibiza is all about a magical balance of great views\, friendly service and delicious food. Once the business of feasting is done\, sit back and relax as the sun begins to set on another day in culinary Shangri-la.  Book your table for the opening of Sonrojo Ibiza using the link below. \n 
URL:https://white-ibiza.com/ibiza-calendar/summer-opening-at-sonrojo-ibiza/
LOCATION:Sonrojo\, Cala Llonga\, Ibiza\, 07849\, Spain
CATEGORIES:Foodies
ATTACH;FMTTYPE=image/jpeg:https://white-ibiza.com/wp-content/uploads/2025/06/white-ibiza-beach-restaurant-sonrojo-2025-14.jpeg
GEO:38.9557105;1.514811
END:VEVENT
BEGIN:VEVENT
DTSTART;TZID=Europe/Madrid:20260422T110000
DTEND;TZID=Europe/Madrid:20260422T200000
DTSTAMP:20260422T014010
CREATED:20260416T145950Z
LAST-MODIFIED:20260416T174940Z
UID:10031546-1776855600-1776888000@white-ibiza.com
SUMMARY:Under the Surface Exhibition by Ned Irving at Olas Gallery
DESCRIPTION:A lifelong fascination with water and its ever-shifting reflections was the starting point for Under the Surface – the new exhibition by Ned Irving at Olas Gallery this spring. Born in Ibiza\, Irving takes viewers deep into a watery world where light bounces and colours refract\, creating a kaleidoscopic exploration of what often escapes ordinary perception. \nThrough a series of stunning photographs\, dive into a liminal space that hovers between reality and abstraction in the petite beachside gallery in Santa Eulalia with the exhibition running daily (excluding Sundays and Mondays) between 11am and 2pm\, then again from 5pm until 8pm until Tuesday May 21\, 2026. Olas Gallery was founded by photographer Sofia Gomez Fonzo and is the perfect spot to take in the work of some of the island’s best artists\, photographers and creatives while discovering the artistic spirit of Ibiza. Use the link below to find out more. 
URL:https://white-ibiza.com/ibiza-calendar/under-the-surface-exhibition-by-ned-irving-at-olas-gallery/2026-04-22/
LOCATION:Olas Gallery\, Calle Juan Tur Tur\, Santa Eulalia del Río\, Islas Baleares\, 07840\, Spain
CATEGORIES:Culture
ATTACH;FMTTYPE=image/png:https://white-ibiza.com/wp-content/uploads/2026/04/white-ibiza-calendar-olas-gallery-under-the-surface-exhibition-2026.png
GEO:38.9819402;1.5324936
X-APPLE-STRUCTURED-LOCATION;VALUE=URI;X-ADDRESS=Olas Gallery Calle Juan Tur Tur Santa Eulalia del Río Islas Baleares 07840 Spain;X-APPLE-RADIUS=500;X-TITLE=Calle Juan Tur Tur:geo:1.5324936,38.9819402
END:VEVENT
BEGIN:VEVENT
DTSTART;TZID=Europe/Madrid:20260422T130000
DTEND;TZID=Europe/Madrid:20260422T170000
DTSTAMP:20260422T014010
CREATED:20260112T085527Z
LAST-MODIFIED:20260112T085527Z
UID:10029651-1776862800-1776877200@white-ibiza.com
SUMMARY:Menú del Día at La Torre Ibiza
DESCRIPTION:La Torre Ibiza serves a delicious\, winter-warming weekday Menú del Día that pairs simple Mediterranean cooking with some of the most glorious views on the San Antonio coastline. Pull up a chair and settle in for some feasting – choose between options like corn soup with tortilla chips\, feta and pico de gallo; or beef empanadillas finished with chimichurri aioli to start.  \nMain courses include tempura hake with roasted aubergine and Thai curry sauce; or a sweet potato parmentier topped with pork rib and chestnuts\, while dessert is a chunky slice of baked cheesecake with homemade fig jam. Priced at just 25€ per person and the menu changes weekly\, so there’s no better excuse to enjoy a sunset in one of the islands most iconic locations before the summer season arrives.
URL:https://white-ibiza.com/ibiza-calendar/menu-del-dia-at-la-torre-ibiza-3/2026-04-22/
LOCATION:La Torre Ibiza\, Carretera Cap Negret\, Sant Antoni de Portmany\, Islas Baleares\, 07820\, Spain
CATEGORIES:Foodies
ATTACH;FMTTYPE=image/jpeg:https://white-ibiza.com/wp-content/uploads/2025/11/white-ibizacalendar-la-torre-ibiza-2025.jpeg
GEO:38.9981354;1.2855332
X-APPLE-STRUCTURED-LOCATION;VALUE=URI;X-ADDRESS=La Torre Ibiza Carretera Cap Negret Sant Antoni de Portmany Islas Baleares 07820 Spain;X-APPLE-RADIUS=500;X-TITLE=Carretera Cap Negret:geo:1.2855332,38.9981354
END:VEVENT
BEGIN:VEVENT
DTSTART;TZID=Europe/Madrid:20260422T130000
DTEND;TZID=Europe/Madrid:20260422T180000
DTSTAMP:20260422T014010
CREATED:20260112T164220Z
LAST-MODIFIED:20260115T101148Z
UID:10029850-1776862800-1776880800@white-ibiza.com
SUMMARY:Menú del Día at REMO Ibiza
DESCRIPTION:From Monday to Friday throughout the winter season\, REMO Ibiza serves up a special winter menú del día in the heart of the cosy and leafy Marina Village complex. The ever-changing dishes reflect the restaurant’s easygoing approach to lunch – one that is guaranteed to warm the coldest of wintery tummies.   \nStarters include classic options such as Spain’s salad of choice\, ensaladilla rusa\, homey chicken soup or huevos rotos\, followed by mains like spicy tacos REMO-style\, tasty chicken milanesa or a steaming bowl of spaghetti with prawns\, and the feast finishes with the kitchen’s dessert of the day. The full menu is priced at 18€ for three courses and is available to eat in or to takeaway for Ibiza residents on-the-go this winter.
URL:https://white-ibiza.com/ibiza-calendar/menu-del-dia-at-remo-ibiza/2026-04-22/
LOCATION:Remo Ibiza\, Passeig Joan Carles I\, Eivissa\, Illes Balears\, 07800\, Spain
CATEGORIES:Foodies
ATTACH;FMTTYPE=image/jpeg:https://white-ibiza.com/wp-content/uploads/2026/01/white-ibiza-calendar-remo-ibiza-2026.jpeg
GEO:38.9161789;1.4438158
X-APPLE-STRUCTURED-LOCATION;VALUE=URI;X-ADDRESS=Remo Ibiza Passeig Joan Carles I Eivissa Illes Balears 07800 Spain;X-APPLE-RADIUS=500;X-TITLE=Passeig Joan Carles I:geo:1.4438158,38.9161789
END:VEVENT
BEGIN:VEVENT
DTSTART;TZID=Europe/Madrid:20260422T190000
DTEND;TZID=Europe/Madrid:20260423T010000
DTSTAMP:20260422T014010
CREATED:20260402T131926Z
LAST-MODIFIED:20260402T181351Z
UID:10031313-1776884400-1776906000@white-ibiza.com
SUMMARY:Miso Hungry at Bambuddha
DESCRIPTION:One of the island’s longest-running dining destinations\, Bambuddha is a must-visit for holidaymakers and residents alike. As the season warms up\, the beloved fine dining restaurant hosts its popular midweek ritual\, Miso Hungry\, every Wednesday night from 7pm throughout April and May – a legendary all-you-can-eat feast\, delivered directly to your table for 48€ per person and 20€ for kids (up to 12 years of age).  \nTake a seat in the iconic temple and tuck into plate after plate of Bambuddha’s signature MediterrAsian cuisine\, from bao and dim sum to sticky ribs and sushi. It’s an experience that walks the line between sacred and sinful\, as you dine at tables flickering with candlelight\, surrounded by watchful Buddhas and attentive staff (who won’t ever judge you for ordering extras!). Island residents also receive 15% discount at the bar and restaurant with proof of residency (T&Cs apply). 
URL:https://white-ibiza.com/ibiza-calendar/miso-hungry-at-bambuddha/2026-04-22/
LOCATION:Bambuddha\, Carrer de Sant Joan\, Santa Eulària des Riu\, Islas Baleares\, 07840\, Spain
CATEGORIES:Foodies
ATTACH;FMTTYPE=image/jpeg:https://white-ibiza.com/wp-content/uploads/2025/04/white-ibiza-calendar-bambuddha-01-2025.jpeg
GEO:38.9855051;1.5365228
X-APPLE-STRUCTURED-LOCATION;VALUE=URI;X-ADDRESS=Bambuddha Carrer de Sant Joan Santa Eulària des Riu Islas Baleares 07840 Spain;X-APPLE-RADIUS=500;X-TITLE=Carrer de Sant Joan:geo:1.5365228,38.9855051
END:VEVENT
BEGIN:VEVENT
DTSTART;TZID=Europe/Madrid:20260422T190000
DTEND;TZID=Europe/Madrid:20260423T010000
DTSTAMP:20260422T014010
CREATED:20260409T125341Z
LAST-MODIFIED:20260416T175028Z
UID:10031409-1776884400-1776906000@white-ibiza.com
SUMMARY:Gordon Ramsay Hell's Kitchen Ibiza Opening at The Unexpected Ibiza Hotel
DESCRIPTION:The road to hell is paved with good intentions and in the case of Gordon Ramsay Hell’s Kitchen Ibiza at The Unexpected Ibiza Hotel\, the opening night is also paved with some deliciously culinary ones. Don’t miss the first night of the season on Wednesday April 22\, 2026\, as the kitchen team serve up more fiery gastronomic delights spawned by the hit TV show Hell’s Kitchen overlooking the shores of Playa d’en Bossa. \nImmerse yourself in The Unexpected Ibiza Hotel’s theatrical interiors and Gordon Ramsay Hell’s Kitchen Ibiza’sshow-stopping menus\, with many of the dishes on offer inspired by the television series’ most iconic plates\, including the famous Ramsay Beef Wellington and decadent sticky toffee pudding. Tables for the exclusive opening night will sell fast\, so book yours now while you still can.
URL:https://white-ibiza.com/ibiza-calendar/gordon-ramsay-hells-kitchen-ibiza-opening-at-the-unexpected-ibiza-hotel/
LOCATION:The Unexpected Hotel Ibiza\, Carretera de Platja d'en Bossa\, Sant Jordi de ses Salines\, Islas Baleares\, 07817\, Spain
CATEGORIES:Foodies
ATTACH;FMTTYPE=image/jpeg:https://white-ibiza.com/wp-content/uploads/2025/07/white-ibiza-journal-gordon-ramsay-hells-kitchen-ibiza-2025-04.jpeg
GEO:38.8842206;1.4048488
X-APPLE-STRUCTURED-LOCATION;VALUE=URI;X-ADDRESS=The Unexpected Hotel Ibiza Carretera de Platja d'en Bossa Sant Jordi de ses Salines Islas Baleares 07817 Spain;X-APPLE-RADIUS=500;X-TITLE=Carretera de Platja d'en Bossa:geo:1.4048488,38.8842206
END:VEVENT
BEGIN:VEVENT
DTSTART;TZID=Europe/Madrid:20260422T190000
DTEND;TZID=Europe/Madrid:20260423T030000
DTSTAMP:20260422T014011
CREATED:20260312T143731Z
LAST-MODIFIED:20260319T175550Z
UID:10030925-1776884400-1776913200@white-ibiza.com
SUMMARY:Shibiza Nights at ROTO Ibiza
DESCRIPTION:As winter weather continues to blanket the island by night\, what better way to escape than a midweek night of dining and dancing harbourside at Shibiza Nights at ROTO Ibiza? Running every Wednesday until the end of April\, these cosy nights in Marina Botafoch are the perfect antidote to boring evenings in\, where the dining room becomes the dancefloor from midnight and diners can strut\, shake and shimmy to classic house beats well into the early hours of the morning.  With a revolving selection of live music and local DJs supplying the sounds\, and a Mediterranean menu that includes comfort food at its very best\, this chic venue – hovering over the water with the lights of Dalt Vila twinkling in the distance – is an out–of–season island haven with a very Balearic twist. Sign up to the guestlist for free entry before midnight for Shibiza Nights at ROTO Ibiza using the link below.
URL:https://white-ibiza.com/ibiza-calendar/shibiza-nights-at-roto-ibiza/2026-04-22/
LOCATION:ROTO Ibiza\, Eivissa\, Islas Baleares\, 07800\, Spain
CATEGORIES:Nightlife
ATTACH;FMTTYPE=image/jpeg:https://white-ibiza.com/wp-content/uploads/2025/10/white-ibiza-calendar-roto-ibiza-fuego-pasion-2025.jpeg
GEO:39.0200099;1.4821482
END:VEVENT
BEGIN:VEVENT
DTSTART;TZID=Europe/Madrid:20260422T200000
DTEND;TZID=Europe/Madrid:20260423T010000
DTSTAMP:20260422T014011
CREATED:20260112T081546Z
LAST-MODIFIED:20260115T100313Z
UID:10029888-1776888000-1776906000@white-ibiza.com
SUMMARY:Not Your Standard Bingo in Jara at The Standard\, Ibiza
DESCRIPTION:Eyes down and bottoms up\, Not Your Standard Bingo takes place at the über-fashionable Vara De Rey hotel\, The Standard\, Ibiza\, every Wednesday night this winter. The midweek favourite night features cheeky hosts José Boto and BLONDEWEARINGBLACK calling the numbers\, cocktails aplenty and prizes worth shouting about.\n\nThe premise is simple: the more you drink\, the more chances there are to win and month-in\, month-out\, the hotel’s in-house ground-floor restaurant\, Jara\, is fully booked on Bingo night – sometimes weeks in advance. Expect beats and banter as the resident DJ occasionally drops the odd clue and the frenzy for prizes reaches a fever pitch as the night goes on. With chances to win your entire bill paid for the night or a night of luxury accommodation in the hotel itself (among many other cool prizes)\, the odds are well worth playing.
URL:https://white-ibiza.com/ibiza-calendar/not-your-standard-bingo-in-jara-at-the-standard-ibiza-4/2026-04-22/
LOCATION:The Standard\, Ibiza\, Carrer de Bartomeu Vicent Ramon\, Eivissa\, Islas Baleares\, 07800\, Spain
CATEGORIES:Culture,Nightlife
ATTACH;FMTTYPE=image/jpeg:https://white-ibiza.com/wp-content/uploads/2024/08/white-ibiza-journal-hotels-the-standard-ibiza-holiday-season-2023-6.jpg
GEO:38.909914;1.4340569
X-APPLE-STRUCTURED-LOCATION;VALUE=URI;X-ADDRESS=The Standard Ibiza Carrer de Bartomeu Vicent Ramon Eivissa Islas Baleares 07800 Spain;X-APPLE-RADIUS=500;X-TITLE=Carrer de Bartomeu Vicent Ramon:geo:1.4340569,38.909914
END:VEVENT
BEGIN:VEVENT
DTSTART;TZID=Europe/Madrid:20260422T210000
DTEND;TZID=Europe/Madrid:20260423T033000
DTSTAMP:20260422T014011
CREATED:20260416T164848Z
LAST-MODIFIED:20260416T164848Z
UID:10031568-1776891600-1776915000@white-ibiza.com
SUMMARY:A New Era – The Opening Party at Paradise Lost
DESCRIPTION:Ushering in a whole new era of mischief\, madness and mayhem on Wednesday April 22\, 2026 are the notorious crew from Paradise Lost\, Ibiza’s most beloved drinking den of iniquity in the cobbled back streets of the old town. It all starts with a brand-new location\, but you won’t need Google Maps to find it – rather\, the bar has simply jumped ship (or bars\, as the case may be) and moved just two doors down. Instead of turning right at the very same Sa Penya staircase as its previous incarnation\, just stomp straight ahead and you’ll be welcomed at the top by Captain Jimmy\, Monsieur Martin\, BLONDEWEARINGBLACK and their merry cohort of rum-chugging port pirates. \nStep inside and you’ll feel right at home – it’s Paradise Lost as you know and love it\, in all its comfy\, cosy glory. The Chesterfields have taken up residence both upstairs and downstairs\, the resident tankards have been rehung with care\, Mr Yeah remains steadfastly behind the DJ booth – that’s when special guests Bekka Rawkins and Jeancedric aren’t spinning block-rocking beats at the Opening Party – and there are lots of shaded\, surreptitious corners to get lost and lucky! Most importantly of course\, there are cocktails galore\, expertly mixed\, sloshed\, shaken\, stirred\, blended and muddled by the island’s finest – all the better to banter with\, my dears. Mark the date in your diaries – you’re going to want to say you were part of the Paradise Lost new era from day one!
URL:https://white-ibiza.com/ibiza-calendar/a-new-era-the-opening-party-at-paradise-lost/
LOCATION:Paradise Lost\, Carrer del Passadís\, Eivissa\, Islas Baleares\, 07800\, Spain
CATEGORIES:Nightlife
ATTACH;FMTTYPE=image/jpeg:https://white-ibiza.com/wp-content/uploads/2026/04/white-ibiza-calendar-paradise-lost-2026.jpeg
GEO:38.9088959;1.4375767
X-APPLE-STRUCTURED-LOCATION;VALUE=URI;X-ADDRESS=Paradise Lost Carrer del Passadís Eivissa Islas Baleares 07800 Spain;X-APPLE-RADIUS=500;X-TITLE=Carrer del Passadís:geo:1.4375767,38.9088959
END:VEVENT
END:VCALENDAR