BEGIN:VCALENDAR
VERSION:2.0
PRODID:-//WHITE IBIZA - ECPv6.6.0.2//NONSGML v1.0//EN
CALSCALE:GREGORIAN
METHOD:PUBLISH
X-WR-CALNAME:WHITE IBIZA
X-ORIGINAL-URL:https://white-ibiza.com
X-WR-CALDESC:Events for WHITE IBIZA
REFRESH-INTERVAL;VALUE=DURATION:PT1H
X-Robots-Tag:noindex
X-PUBLISHED-TTL:PT1H
BEGIN:VTIMEZONE
TZID:Europe/Madrid
BEGIN:DAYLIGHT
TZOFFSETFROM:+0100
TZOFFSETTO:+0200
TZNAME:CEST
DTSTART:20260329T010000
END:DAYLIGHT
BEGIN:STANDARD
TZOFFSETFROM:+0200
TZOFFSETTO:+0100
TZNAME:CET
DTSTART:20261025T010000
END:STANDARD
END:VTIMEZONE
BEGIN:VEVENT
DTSTART;TZID=Europe/Madrid:20260421T080000
DTEND;TZID=Europe/Madrid:20260421T200000
DTSTAMP:20260421T015456
CREATED:20260319T144915Z
LAST-MODIFIED:20260320T091522Z
UID:10030993-1776758400-1776801600@white-ibiza.com
SUMMARY:Afterglow Happy Hour in Jara at The Standard\, Ibiza
DESCRIPTION:As the glorious island sunshine melts into the horizon\, Jara – the stylish ground floor restaurant and bar at The Standard\, Ibiza in Ibiza town – sets the tone for the night ahead with Afterglow Happy Hour\, running every evening from 6pm to 8pm\, all year round. Whether it’s an after work catch-up\, a post-shopping wind-down or a cosy spring warm-up\, this buzzing island hotspot invites you to sip two-for-one cocktails as the evening unfolds.  \nWith its über-cool ambience\, Jara is the place to see and be seen\, offering a seamless transition from the glow of golden hour to Ibiza’s vibrant nightlife. Settle into a plush seat or perch at the bar with the locals\, raise a glass and let the afterglow linger a little longer\, because every great night starts with that perfect first sip… or two!    
URL:https://white-ibiza.com/ibiza-calendar/afterglow-happy-hour-in-jara-at-the-standard-ibiza/2026-04-21/
LOCATION:The Standard\, Ibiza\, Carrer de Bartomeu Vicent Ramon\, Eivissa\, Islas Baleares\, 07800\, Spain
CATEGORIES:Nightlife
ATTACH;FMTTYPE=image/jpeg:https://white-ibiza.com/wp-content/uploads/2025/07/white-ibiza-calendar-happy-hour-jara-the-standard-ibiza-2025.jpeg
GEO:38.909914;1.4340569
X-APPLE-STRUCTURED-LOCATION;VALUE=URI;X-ADDRESS=The Standard Ibiza Carrer de Bartomeu Vicent Ramon Eivissa Islas Baleares 07800 Spain;X-APPLE-RADIUS=500;X-TITLE=Carrer de Bartomeu Vicent Ramon:geo:1.4340569,38.909914
END:VEVENT
BEGIN:VEVENT
DTSTART;TZID=Europe/Madrid:20260421T090000
DTEND;TZID=Europe/Madrid:20260421T180000
DTSTAMP:20260421T015456
CREATED:20260326T160316Z
LAST-MODIFIED:20260326T160413Z
UID:10031277-1776762000-1776794400@white-ibiza.com
SUMMARY:Terres Margantes | Una Altra Arcàdia Exhibition at Estudio Laterna
DESCRIPTION:The creative talents of Enric Majoral and Jordi Sarrà come vividly to life this spring via Terres Margantes | Una Altra Arcàdia at Estudio Laterna – an exhibition that offers two artistic views on the earthy terrain of Formentera from quite differing disciplines.  Majoral\, the jeweller and sculptor extraordinaire\, brings his nature–inspired bronze sculptures to the Santa Gertrudis artist’s haven\, where they can be seen alongside the captivating photographs of Sarrà\, whose lens records an alternate way to enjoy each piece. The Terres Margantes | Una Altra Arcàdia exhibition at Estudio Laterna is showing every weekday until Wednesday May 27\, 2026\, and drop-ins are always welcome.
URL:https://white-ibiza.com/ibiza-calendar/terres-margantes-una-altra-arcadia-exhibition-at-estudio-laterna/2026-04-21/
LOCATION:Estudio Laterna\, Carrer Vénda de Parada\, Santa Gertrudis de Fruitera\, Islas Baleares\, 07814\, Spain
CATEGORIES:Culture
ATTACH;FMTTYPE=image/jpeg:https://white-ibiza.com/wp-content/uploads/2026/03/white-ibiza-calendar-estudio-laterna-2026.jpeg
GEO:38.9988683;1.4283884
X-APPLE-STRUCTURED-LOCATION;VALUE=URI;X-ADDRESS=Estudio Laterna Carrer Vénda de Parada Santa Gertrudis de Fruitera Islas Baleares 07814 Spain;X-APPLE-RADIUS=500;X-TITLE=Carrer Vénda de Parada:geo:1.4283884,38.9988683
END:VEVENT
BEGIN:VEVENT
DTSTART;TZID=Europe/Madrid:20260421T110000
DTEND;TZID=Europe/Madrid:20260421T200000
DTSTAMP:20260421T015456
CREATED:20260416T145950Z
LAST-MODIFIED:20260416T174940Z
UID:10031539-1776769200-1776801600@white-ibiza.com
SUMMARY:Under the Surface Exhibition by Ned Irving at Olas Gallery
DESCRIPTION:A lifelong fascination with water and its ever-shifting reflections was the starting point for Under the Surface – the new exhibition by Ned Irving at Olas Gallery this spring. Born in Ibiza\, Irving takes viewers deep into a watery world where light bounces and colours refract\, creating a kaleidoscopic exploration of what often escapes ordinary perception. \nThrough a series of stunning photographs\, dive into a liminal space that hovers between reality and abstraction in the petite beachside gallery in Santa Eulalia with the exhibition running daily (excluding Sundays and Mondays) between 11am and 2pm\, then again from 5pm until 8pm until Tuesday May 21\, 2026. Olas Gallery was founded by photographer Sofia Gomez Fonzo and is the perfect spot to take in the work of some of the island’s best artists\, photographers and creatives while discovering the artistic spirit of Ibiza. Use the link below to find out more. 
URL:https://white-ibiza.com/ibiza-calendar/under-the-surface-exhibition-by-ned-irving-at-olas-gallery/2026-04-21/
LOCATION:Olas Gallery\, Calle Juan Tur Tur\, Santa Eulalia del Río\, Islas Baleares\, 07840\, Spain
CATEGORIES:Culture
ATTACH;FMTTYPE=image/png:https://white-ibiza.com/wp-content/uploads/2026/04/white-ibiza-calendar-olas-gallery-under-the-surface-exhibition-2026.png
GEO:38.9819402;1.5324936
X-APPLE-STRUCTURED-LOCATION;VALUE=URI;X-ADDRESS=Olas Gallery Calle Juan Tur Tur Santa Eulalia del Río Islas Baleares 07840 Spain;X-APPLE-RADIUS=500;X-TITLE=Calle Juan Tur Tur:geo:1.5324936,38.9819402
END:VEVENT
BEGIN:VEVENT
DTSTART;TZID=Europe/Madrid:20260421T130000
DTEND;TZID=Europe/Madrid:20260421T170000
DTSTAMP:20260421T015456
CREATED:20260112T085527Z
LAST-MODIFIED:20260112T085527Z
UID:10029650-1776776400-1776790800@white-ibiza.com
SUMMARY:Menú del Día at La Torre Ibiza
DESCRIPTION:La Torre Ibiza serves a delicious\, winter-warming weekday Menú del Día that pairs simple Mediterranean cooking with some of the most glorious views on the San Antonio coastline. Pull up a chair and settle in for some feasting – choose between options like corn soup with tortilla chips\, feta and pico de gallo; or beef empanadillas finished with chimichurri aioli to start.  \nMain courses include tempura hake with roasted aubergine and Thai curry sauce; or a sweet potato parmentier topped with pork rib and chestnuts\, while dessert is a chunky slice of baked cheesecake with homemade fig jam. Priced at just 25€ per person and the menu changes weekly\, so there’s no better excuse to enjoy a sunset in one of the islands most iconic locations before the summer season arrives.
URL:https://white-ibiza.com/ibiza-calendar/menu-del-dia-at-la-torre-ibiza-3/2026-04-21/
LOCATION:La Torre Ibiza\, Carretera Cap Negret\, Sant Antoni de Portmany\, Islas Baleares\, 07820\, Spain
CATEGORIES:Foodies
ATTACH;FMTTYPE=image/jpeg:https://white-ibiza.com/wp-content/uploads/2025/11/white-ibizacalendar-la-torre-ibiza-2025.jpeg
GEO:38.9981354;1.2855332
X-APPLE-STRUCTURED-LOCATION;VALUE=URI;X-ADDRESS=La Torre Ibiza Carretera Cap Negret Sant Antoni de Portmany Islas Baleares 07820 Spain;X-APPLE-RADIUS=500;X-TITLE=Carretera Cap Negret:geo:1.2855332,38.9981354
END:VEVENT
BEGIN:VEVENT
DTSTART;TZID=Europe/Madrid:20260421T130000
DTEND;TZID=Europe/Madrid:20260421T180000
DTSTAMP:20260421T015456
CREATED:20260112T164220Z
LAST-MODIFIED:20260115T101148Z
UID:10029849-1776776400-1776794400@white-ibiza.com
SUMMARY:Menú del Día at REMO Ibiza
DESCRIPTION:From Monday to Friday throughout the winter season\, REMO Ibiza serves up a special winter menú del día in the heart of the cosy and leafy Marina Village complex. The ever-changing dishes reflect the restaurant’s easygoing approach to lunch – one that is guaranteed to warm the coldest of wintery tummies.   \nStarters include classic options such as Spain’s salad of choice\, ensaladilla rusa\, homey chicken soup or huevos rotos\, followed by mains like spicy tacos REMO-style\, tasty chicken milanesa or a steaming bowl of spaghetti with prawns\, and the feast finishes with the kitchen’s dessert of the day. The full menu is priced at 18€ for three courses and is available to eat in or to takeaway for Ibiza residents on-the-go this winter.
URL:https://white-ibiza.com/ibiza-calendar/menu-del-dia-at-remo-ibiza/2026-04-21/
LOCATION:Remo Ibiza\, Passeig Joan Carles I\, Eivissa\, Illes Balears\, 07800\, Spain
CATEGORIES:Foodies
ATTACH;FMTTYPE=image/jpeg:https://white-ibiza.com/wp-content/uploads/2026/01/white-ibiza-calendar-remo-ibiza-2026.jpeg
GEO:38.9161789;1.4438158
X-APPLE-STRUCTURED-LOCATION;VALUE=URI;X-ADDRESS=Remo Ibiza Passeig Joan Carles I Eivissa Illes Balears 07800 Spain;X-APPLE-RADIUS=500;X-TITLE=Passeig Joan Carles I:geo:1.4438158,38.9161789
END:VEVENT
BEGIN:VEVENT
DTSTART;TZID=Europe/Madrid:20260421T170000
DTEND;TZID=Europe/Madrid:20260421T230000
DTSTAMP:20260421T015456
CREATED:20260416T144554Z
LAST-MODIFIED:20260416T144554Z
UID:10031536-1776790800-1776812400@white-ibiza.com
SUMMARY:Opener at theHUB.Ibiza
DESCRIPTION:The annual opening throwdown at theHUB.Ibiza is the office party to beat all office parties. Part social mixer and part post–winter reunion\, it’s a chance to catch up with old friends and colleagues as well as welcome a few island newbies to the scene.  With a line-up worthy of any of the main clubs\, the Opener at theHUB.Ibiza will be expertly soundtracked by Bushwaka\, Ceri\, Kellie Allen\, Mick Wilson\, Sasha and Tulshi. The season definitely starts here – meet your new BFFs by the photocopier for a quick cava and the water cooler for the latest gossip.
URL:https://white-ibiza.com/ibiza-calendar/opener-at-thehub-ibiza/
LOCATION:theHUB Ibiza\, Carrer del Pedrer\, Santa Eulària des Riu\, Islas Baleares\, 07814\, Spain
CATEGORIES:Culture,Nightlife
ATTACH;FMTTYPE=image/jpeg:https://white-ibiza.com/wp-content/uploads/2025/06/white-ibiza-calendar-the-hub-2025-01.jpeg
GEO:38.9591052;1.4453285
X-APPLE-STRUCTURED-LOCATION;VALUE=URI;X-ADDRESS=theHUB Ibiza Carrer del Pedrer Santa Eulària des Riu Islas Baleares 07814 Spain;X-APPLE-RADIUS=500;X-TITLE=Carrer del Pedrer:geo:1.4453285,38.9591052
END:VEVENT
END:VCALENDAR