BEGIN:VCALENDAR
VERSION:2.0
PRODID:-//WHITE IBIZA - ECPv6.6.0.2//NONSGML v1.0//EN
CALSCALE:GREGORIAN
METHOD:PUBLISH
X-WR-CALNAME:WHITE IBIZA
X-ORIGINAL-URL:https://white-ibiza.com
X-WR-CALDESC:Events for WHITE IBIZA
REFRESH-INTERVAL;VALUE=DURATION:PT1H
X-Robots-Tag:noindex
X-PUBLISHED-TTL:PT1H
BEGIN:VTIMEZONE
TZID:Europe/Madrid
BEGIN:DAYLIGHT
TZOFFSETFROM:+0100
TZOFFSETTO:+0200
TZNAME:CEST
DTSTART:20260329T010000
END:DAYLIGHT
BEGIN:STANDARD
TZOFFSETFROM:+0200
TZOFFSETTO:+0100
TZNAME:CET
DTSTART:20261025T010000
END:STANDARD
END:VTIMEZONE
BEGIN:VEVENT
DTSTART;TZID=Europe/Madrid:20260309T100000
DTEND;TZID=Europe/Madrid:20260309T180000
DTSTAMP:20260422T042043
CREATED:20260219T145109Z
LAST-MODIFIED:20260319T175308Z
UID:10030661-1773050400-1773079200@white-ibiza.com
SUMMARY:Beyond Form Exhibition at Estudio Laterna
DESCRIPTION:The beauty of the natural world comes vividly to life on Friday February 06\, 2026 at Santa Gertrudis artists’ haven Estudio Laterna with its Beyond Form Exhibition. Representing the work of three artists who’s evocative\, organic concepts explore transformation\, metamorphosis and continuity through drawing\, painting and botanical sculpture.  Maia Bunge’s delicate work unfolds poetically through ink\, watercolour and collage\, creating compositions that construct dreamlike landscapes where animal\, human and flora and fauna coexist as fragile living substances. Talented sculptor\, Daniel Salorio\, uses plant elements after their life cycle has ended to build graceful pieces of work that expose nature’s never ending magical language. Ceramicist Kaori Yabusaki transforms the simple material of white clay into renditions of the natural world that emerge through gesture and care. Each artistic practise converges as an artistic ecosystem where the rhythm of life germinates into something truly unique. 
URL:https://white-ibiza.com/ibiza-calendar/beyond-form-exhibition-at-estudio-laterna-2/2026-03-09/
LOCATION:Estudio Laterna\, Carrer Vénda de Parada\, Santa Gertrudis de Fruitera\, Islas Baleares\, 07814\, Spain
CATEGORIES:Culture
ATTACH;FMTTYPE=image/jpeg:https://white-ibiza.com/wp-content/uploads/2026/02/white-ibiza-calendar-estudio-laterna-beyond-form-2026-1.jpeg
GEO:38.9988683;1.4283884
X-APPLE-STRUCTURED-LOCATION;VALUE=URI;X-ADDRESS=Estudio Laterna Carrer Vénda de Parada Santa Gertrudis de Fruitera Islas Baleares 07814 Spain;X-APPLE-RADIUS=500;X-TITLE=Carrer Vénda de Parada:geo:1.4283884,38.9988683
END:VEVENT
BEGIN:VEVENT
DTSTART;TZID=Europe/Madrid:20260309T130000
DTEND;TZID=Europe/Madrid:20260309T170000
DTSTAMP:20260422T042043
CREATED:20260112T085527Z
LAST-MODIFIED:20260112T085527Z
UID:10029619-1773061200-1773075600@white-ibiza.com
SUMMARY:Menú del Día at La Torre Ibiza
DESCRIPTION:La Torre Ibiza serves a delicious\, winter-warming weekday Menú del Día that pairs simple Mediterranean cooking with some of the most glorious views on the San Antonio coastline. Pull up a chair and settle in for some feasting – choose between options like corn soup with tortilla chips\, feta and pico de gallo; or beef empanadillas finished with chimichurri aioli to start.  \nMain courses include tempura hake with roasted aubergine and Thai curry sauce; or a sweet potato parmentier topped with pork rib and chestnuts\, while dessert is a chunky slice of baked cheesecake with homemade fig jam. Priced at just 25€ per person and the menu changes weekly\, so there’s no better excuse to enjoy a sunset in one of the islands most iconic locations before the summer season arrives.
URL:https://white-ibiza.com/ibiza-calendar/menu-del-dia-at-la-torre-ibiza-3/2026-03-09/
LOCATION:La Torre Ibiza\, Carretera Cap Negret\, Sant Antoni de Portmany\, Islas Baleares\, 07820\, Spain
CATEGORIES:Foodies
ATTACH;FMTTYPE=image/jpeg:https://white-ibiza.com/wp-content/uploads/2025/11/white-ibizacalendar-la-torre-ibiza-2025.jpeg
GEO:38.9981354;1.2855332
X-APPLE-STRUCTURED-LOCATION;VALUE=URI;X-ADDRESS=La Torre Ibiza Carretera Cap Negret Sant Antoni de Portmany Islas Baleares 07820 Spain;X-APPLE-RADIUS=500;X-TITLE=Carretera Cap Negret:geo:1.2855332,38.9981354
END:VEVENT
BEGIN:VEVENT
DTSTART;TZID=Europe/Madrid:20260309T130000
DTEND;TZID=Europe/Madrid:20260309T180000
DTSTAMP:20260422T042043
CREATED:20260112T164220Z
LAST-MODIFIED:20260115T101148Z
UID:10029818-1773061200-1773079200@white-ibiza.com
SUMMARY:Menú del Día at REMO Ibiza
DESCRIPTION:From Monday to Friday throughout the winter season\, REMO Ibiza serves up a special winter menú del día in the heart of the cosy and leafy Marina Village complex. The ever-changing dishes reflect the restaurant’s easygoing approach to lunch – one that is guaranteed to warm the coldest of wintery tummies.   \nStarters include classic options such as Spain’s salad of choice\, ensaladilla rusa\, homey chicken soup or huevos rotos\, followed by mains like spicy tacos REMO-style\, tasty chicken milanesa or a steaming bowl of spaghetti with prawns\, and the feast finishes with the kitchen’s dessert of the day. The full menu is priced at 18€ for three courses and is available to eat in or to takeaway for Ibiza residents on-the-go this winter.
URL:https://white-ibiza.com/ibiza-calendar/menu-del-dia-at-remo-ibiza/2026-03-09/
LOCATION:Remo Ibiza\, Passeig Joan Carles I\, Eivissa\, Illes Balears\, 07800\, Spain
CATEGORIES:Foodies
ATTACH;FMTTYPE=image/jpeg:https://white-ibiza.com/wp-content/uploads/2026/01/white-ibiza-calendar-remo-ibiza-2026.jpeg
GEO:38.9161789;1.4438158
X-APPLE-STRUCTURED-LOCATION;VALUE=URI;X-ADDRESS=Remo Ibiza Passeig Joan Carles I Eivissa Illes Balears 07800 Spain;X-APPLE-RADIUS=500;X-TITLE=Passeig Joan Carles I:geo:1.4438158,38.9161789
END:VEVENT
BEGIN:VEVENT
DTSTART;TZID=Europe/Madrid:20260309T180000
DTEND;TZID=Europe/Madrid:20260309T230000
DTSTAMP:20260422T042043
CREATED:20260112T082854Z
LAST-MODIFIED:20260112T082854Z
UID:10029351-1773079200-1773097200@white-ibiza.com
SUMMARY:Mezcal Mondays at Casa Lhasa
DESCRIPTION:While it might not lead to the most productive week of your life\, there’s no better time of year than winter to try out Mezcal Mondays at Casa Lhasa. From 6pm on Monday afternoons\, the cosy San Lorenzo eatery offers two-for-one tacos and other delectable bites and snacks to enjoy alongside mezcal cocktails created by artisanal brand\, Ojo de Isla. \nMezcal maestro and founder of Ojo de Isla\, Galo Tonella powers the bespoke beverages on offer\, while DJ Camilo Miranda provides the laidback Latino tunes to accompany the evening. The Casa Lhasa team are\, as always\, the most welcoming of hosts and on a Monday evening in winter in Ibiza\, you won’t find anywhere else more welcoming or warming. Just remember the saying – if you kiss the mezcal\, drinking it in small sips\, it will kiss you back! If not… you might need to call in sick on Tuesday.
URL:https://white-ibiza.com/ibiza-calendar/mezcal-mondays-at-casa-lhasa-3/2026-03-09/
LOCATION:Casa Lhasa\, Carrer Sant Llorenç\, Sant Llorenç de Balàfia\, Islas Baleares\, 07812\, Spain
CATEGORIES:Foodies
ATTACH;FMTTYPE=image/jpeg:https://white-ibiza.com/wp-content/uploads/2024/11/white-ibiza-calendar-casa-lhasa-2024-01.jpeg
GEO:39.0312561;1.4766502
X-APPLE-STRUCTURED-LOCATION;VALUE=URI;X-ADDRESS=Casa Lhasa Carrer Sant Llorenç Sant Llorenç de Balàfia Islas Baleares 07812 Spain;X-APPLE-RADIUS=500;X-TITLE=Carrer Sant Llorenç:geo:1.4766502,39.0312561
END:VEVENT
BEGIN:VEVENT
DTSTART;TZID=Europe/Madrid:20260309T190000
DTEND;TZID=Europe/Madrid:20260310T010000
DTSTAMP:20260422T042043
CREATED:20260219T150916Z
LAST-MODIFIED:20260305T132755Z
UID:10030704-1773082800-1773104400@white-ibiza.com
SUMMARY:After Service: Industry Night at The Standard\, Ibiza
DESCRIPTION:Rumour has it that Mondays are just a little longer than other days of the week\, so the good folk at The Standard\, Ibiza have devised the perfect way to wrap up the first of the daily grinds when your day shift ends. After Service: Industry Night at The Standard\, Ibiza is a chance to catch up with fellow chefs\, bartenders\, DJs\, crews and creatives who want some post weekend fun and great music to start the new week in style.   Each edition features a special guest chef taking over the kitchen and a hand-picked selection of invited DJs hitting the decks\, while the bi-weekly event is presided over by host-with-the-most\, Eugene. Perhaps\, in Ibiza in winter (not unlike summer)\, Monday is the new Friday! Tables book fast for After Service: Industry Night at The Standard\, Ibiza so book yours now\, but walk-ins are also always welcome to mingle around the cosy bar area in Jara.
URL:https://white-ibiza.com/ibiza-calendar/after-service-industry-night-at-the-standard-ibiza/2026-03-09/
LOCATION:The Standard\, Ibiza\, Carrer de Bartomeu Vicent Ramon\, Eivissa\, Islas Baleares\, 07800\, Spain
CATEGORIES:Nightlife
ATTACH;FMTTYPE=image/jpeg:https://white-ibiza.com/wp-content/uploads/2026/02/white-ibiza-calendar-the-standard-ibiza-after-service-industry-night-2026.jpeg
GEO:38.909914;1.4340569
X-APPLE-STRUCTURED-LOCATION;VALUE=URI;X-ADDRESS=The Standard Ibiza Carrer de Bartomeu Vicent Ramon Eivissa Islas Baleares 07800 Spain;X-APPLE-RADIUS=500;X-TITLE=Carrer de Bartomeu Vicent Ramon:geo:1.4340569,38.909914
END:VEVENT
BEGIN:VEVENT
DTSTART;TZID=Europe/Madrid:20260309T200000
DTEND;TZID=Europe/Madrid:20260310T010000
DTSTAMP:20260422T042043
CREATED:20260305T162829Z
LAST-MODIFIED:20260305T162829Z
UID:10030918-1773086400-1773104400@white-ibiza.com
SUMMARY:Ibiza meets NYC with Soho House at Room Service Ibiza
DESCRIPTION:Ibiza town’s favourite cocktail lounge\, Room Service Ibiza\, is teaming up with island newcomers Soho Farmhouse on Monday March 09\, 2026\, for round two of a takeover that promises to be a fusion of both these über-cool island venues. Bringing a touch of countryside to the cobbled streets of Sa Penya\, this second tipple takeover by the Soho Farmhouse crew is definitely not one to miss.   \nServing up a cacophony of delicious cocktails\, with ingredients sourced from the gardens of the Santa Gertrudis offshoot of Soho House\, this is an evening that is worth making the trip for. These sublime sips make the perfect pairing for Room Service’s Mediterranean-inspired menus and its NYC-inspired interiors. Open to members and non-members of the House\, booking ahead is highly recommended. 
URL:https://white-ibiza.com/ibiza-calendar/ibiza-meets-nyc-with-soho-house-at-room-service-ibiza/
LOCATION:Room Service Ibiza\, Carrer del Passadís\, Eivissa\, Islas Baleares\, 07800\, Spain
CATEGORIES:Nightlife
ATTACH;FMTTYPE=image/png:https://white-ibiza.com/wp-content/uploads/2026/01/White-Ibiza-Calendar-Soho-Farmhouse-Takeover-at-Room-Service-Ibiza-1000-x-750-px.png
GEO:38.908781;1.4375758
X-APPLE-STRUCTURED-LOCATION;VALUE=URI;X-ADDRESS=Room Service Ibiza Carrer del Passadís Eivissa Islas Baleares 07800 Spain;X-APPLE-RADIUS=500;X-TITLE=Carrer del Passadís:geo:1.4375758,38.908781
END:VEVENT
END:VCALENDAR