BEGIN:VCALENDAR
VERSION:2.0
PRODID:-//WHITE IBIZA - ECPv6.6.0.2//NONSGML v1.0//EN
CALSCALE:GREGORIAN
METHOD:PUBLISH
X-WR-CALNAME:WHITE IBIZA
X-ORIGINAL-URL:https://white-ibiza.com
X-WR-CALDESC:Events for WHITE IBIZA
REFRESH-INTERVAL;VALUE=DURATION:PT1H
X-Robots-Tag:noindex
X-PUBLISHED-TTL:PT1H
BEGIN:VTIMEZONE
TZID:Europe/Madrid
BEGIN:DAYLIGHT
TZOFFSETFROM:+0100
TZOFFSETTO:+0200
TZNAME:CEST
DTSTART:20260329T010000
END:DAYLIGHT
BEGIN:STANDARD
TZOFFSETFROM:+0200
TZOFFSETTO:+0100
TZNAME:CET
DTSTART:20261025T010000
END:STANDARD
END:VTIMEZONE
BEGIN:VEVENT
DTSTART;TZID=Europe/Madrid:20260306T100000
DTEND;TZID=Europe/Madrid:20260306T180000
DTSTAMP:20260422T055519
CREATED:20260219T145109Z
LAST-MODIFIED:20260319T175308Z
UID:10030659-1772791200-1772820000@white-ibiza.com
SUMMARY:Beyond Form Exhibition at Estudio Laterna
DESCRIPTION:The beauty of the natural world comes vividly to life on Friday February 06\, 2026 at Santa Gertrudis artists’ haven Estudio Laterna with its Beyond Form Exhibition. Representing the work of three artists who’s evocative\, organic concepts explore transformation\, metamorphosis and continuity through drawing\, painting and botanical sculpture.  Maia Bunge’s delicate work unfolds poetically through ink\, watercolour and collage\, creating compositions that construct dreamlike landscapes where animal\, human and flora and fauna coexist as fragile living substances. Talented sculptor\, Daniel Salorio\, uses plant elements after their life cycle has ended to build graceful pieces of work that expose nature’s never ending magical language. Ceramicist Kaori Yabusaki transforms the simple material of white clay into renditions of the natural world that emerge through gesture and care. Each artistic practise converges as an artistic ecosystem where the rhythm of life germinates into something truly unique. 
URL:https://white-ibiza.com/ibiza-calendar/beyond-form-exhibition-at-estudio-laterna-2/2026-03-06/
LOCATION:Estudio Laterna\, Carrer Vénda de Parada\, Santa Gertrudis de Fruitera\, Islas Baleares\, 07814\, Spain
CATEGORIES:Culture
ATTACH;FMTTYPE=image/jpeg:https://white-ibiza.com/wp-content/uploads/2026/02/white-ibiza-calendar-estudio-laterna-beyond-form-2026-1.jpeg
GEO:38.9988683;1.4283884
X-APPLE-STRUCTURED-LOCATION;VALUE=URI;X-ADDRESS=Estudio Laterna Carrer Vénda de Parada Santa Gertrudis de Fruitera Islas Baleares 07814 Spain;X-APPLE-RADIUS=500;X-TITLE=Carrer Vénda de Parada:geo:1.4283884,38.9988683
END:VEVENT
BEGIN:VEVENT
DTSTART;TZID=Europe/Madrid:20260306T130000
DTEND;TZID=Europe/Madrid:20260306T170000
DTSTAMP:20260422T055519
CREATED:20260112T085527Z
LAST-MODIFIED:20260112T085527Z
UID:10029618-1772802000-1772816400@white-ibiza.com
SUMMARY:Menú del Día at La Torre Ibiza
DESCRIPTION:La Torre Ibiza serves a delicious\, winter-warming weekday Menú del Día that pairs simple Mediterranean cooking with some of the most glorious views on the San Antonio coastline. Pull up a chair and settle in for some feasting – choose between options like corn soup with tortilla chips\, feta and pico de gallo; or beef empanadillas finished with chimichurri aioli to start.  \nMain courses include tempura hake with roasted aubergine and Thai curry sauce; or a sweet potato parmentier topped with pork rib and chestnuts\, while dessert is a chunky slice of baked cheesecake with homemade fig jam. Priced at just 25€ per person and the menu changes weekly\, so there’s no better excuse to enjoy a sunset in one of the islands most iconic locations before the summer season arrives.
URL:https://white-ibiza.com/ibiza-calendar/menu-del-dia-at-la-torre-ibiza-3/2026-03-06/
LOCATION:La Torre Ibiza\, Carretera Cap Negret\, Sant Antoni de Portmany\, Islas Baleares\, 07820\, Spain
CATEGORIES:Foodies
ATTACH;FMTTYPE=image/jpeg:https://white-ibiza.com/wp-content/uploads/2025/11/white-ibizacalendar-la-torre-ibiza-2025.jpeg
GEO:38.9981354;1.2855332
X-APPLE-STRUCTURED-LOCATION;VALUE=URI;X-ADDRESS=La Torre Ibiza Carretera Cap Negret Sant Antoni de Portmany Islas Baleares 07820 Spain;X-APPLE-RADIUS=500;X-TITLE=Carretera Cap Negret:geo:1.2855332,38.9981354
END:VEVENT
BEGIN:VEVENT
DTSTART;TZID=Europe/Madrid:20260306T130000
DTEND;TZID=Europe/Madrid:20260306T180000
DTSTAMP:20260422T055519
CREATED:20260112T164220Z
LAST-MODIFIED:20260115T101148Z
UID:10029817-1772802000-1772820000@white-ibiza.com
SUMMARY:Menú del Día at REMO Ibiza
DESCRIPTION:From Monday to Friday throughout the winter season\, REMO Ibiza serves up a special winter menú del día in the heart of the cosy and leafy Marina Village complex. The ever-changing dishes reflect the restaurant’s easygoing approach to lunch – one that is guaranteed to warm the coldest of wintery tummies.   \nStarters include classic options such as Spain’s salad of choice\, ensaladilla rusa\, homey chicken soup or huevos rotos\, followed by mains like spicy tacos REMO-style\, tasty chicken milanesa or a steaming bowl of spaghetti with prawns\, and the feast finishes with the kitchen’s dessert of the day. The full menu is priced at 18€ for three courses and is available to eat in or to takeaway for Ibiza residents on-the-go this winter.
URL:https://white-ibiza.com/ibiza-calendar/menu-del-dia-at-remo-ibiza/2026-03-06/
LOCATION:Remo Ibiza\, Passeig Joan Carles I\, Eivissa\, Illes Balears\, 07800\, Spain
CATEGORIES:Foodies
ATTACH;FMTTYPE=image/jpeg:https://white-ibiza.com/wp-content/uploads/2026/01/white-ibiza-calendar-remo-ibiza-2026.jpeg
GEO:38.9161789;1.4438158
X-APPLE-STRUCTURED-LOCATION;VALUE=URI;X-ADDRESS=Remo Ibiza Passeig Joan Carles I Eivissa Illes Balears 07800 Spain;X-APPLE-RADIUS=500;X-TITLE=Passeig Joan Carles I:geo:1.4438158,38.9161789
END:VEVENT
BEGIN:VEVENT
DTSTART;TZID=Europe/Madrid:20260306T130000
DTEND;TZID=Europe/Madrid:20260306T230000
DTSTAMP:20260422T055519
CREATED:20260305T161404Z
LAST-MODIFIED:20260305T171734Z
UID:10030888-1772802000-1772838000@white-ibiza.com
SUMMARY:Season Reopening at Juntos House
DESCRIPTION:After a brief winter hiatus\, the north’s most beloved dining hotspot is back for the season on Friday March 06\, 2026\, as Juntos House reopens with more of the culinary magic and San Mateo delights it’s known for. Set in an ancient finca in the heart of the countryside\, this beautiful space welcomes island foodies back with a menu by head chef Pau Garcia Fidalgo that takes produce from nearby Juntos Farm and transforms it into a cornucopia of dishes inspired by the island.  Whether you decide to enjoy the pleasures of a lazy lunch or some indulgent late night dining\, Juntos House never fails to put a spring in the step of residents as they come out of hibernation to revel in plate after plate of locally sourced ingredients\, unctuously laidback afternoons and reconnecting with like-minded souls in the wilds of mother nature.
URL:https://white-ibiza.com/ibiza-calendar/season-reopening-at-juntos-house/
LOCATION:Juntos House\, Sant Mateu d’Albarca\, Islas Baleares\, 07816\, Spain
CATEGORIES:Foodies
ATTACH;FMTTYPE=image/jpeg:https://white-ibiza.com/wp-content/uploads/2024/12/white-ibiza-winter-guide-north-juntos-house-2024-05.jpeg
GEO:39.0390812;1.3826874
END:VEVENT
BEGIN:VEVENT
DTSTART;TZID=Europe/Madrid:20260306T190000
DTEND;TZID=Europe/Madrid:20260306T230000
DTSTAMP:20260422T055519
CREATED:20260305T161709Z
LAST-MODIFIED:20260305T161709Z
UID:10030889-1772823600-1772838000@white-ibiza.com
SUMMARY:Imprevisto Pop-Up at Montesol Experimental 
DESCRIPTION:While Ibiza’s much-loved pizzeria Imprevisto has permanently closed its doors\, the talented team of chefs behind the concept returns to the heart of Ibiza town for a series of pizza nights like no other at Montesol Experimental.  Known for its carefully crafted dough\, ingenious toppings and cult following\, the talented team of pizzeros from Imprevisto bring the same flavour-first approach that made the pizzeria a firm favourite with locals to the ground-floor café at Montesol Experimental every Friday and Saturday evening.  \nSet inside the historic Café Montesol\, the pop-up serves artisanal pizzas every Friday and Saturday evening. Arrive early\, bring friends and settle in for a relaxed\, no-frills slice of island nostalgia\, where lip-smacking pizza and good company take centre stage.  
URL:https://white-ibiza.com/ibiza-calendar/imprevisto-pop-up-at-montesol-experimental/2026-03-06/
LOCATION:Montesol Experimental\, Passeig de Vara de Rey\, Eivissa\, Islas Baleares\, 07800\, Spain
CATEGORIES:Foodies
ATTACH;FMTTYPE=image/jpeg:https://white-ibiza.com/wp-content/uploads/2025/12/white-ibiza-calendar-cafe-montesol-imprevisto-pop-up-2025.jpeg
GEO:38.9099697;1.4346268
X-APPLE-STRUCTURED-LOCATION;VALUE=URI;X-ADDRESS=Montesol Experimental Passeig de Vara de Rey Eivissa Islas Baleares 07800 Spain;X-APPLE-RADIUS=500;X-TITLE=Passeig de Vara de Rey:geo:1.4346268,38.9099697
END:VEVENT
BEGIN:VEVENT
DTSTART;TZID=Europe/Madrid:20260306T203000
DTEND;TZID=Europe/Madrid:20260307T010000
DTSTAMP:20260422T055519
CREATED:20260305T160606Z
LAST-MODIFIED:20260312T133932Z
UID:10030874-1772829000-1772845200@white-ibiza.com
SUMMARY:Downtown Grooves at Room Service Ibiza
DESCRIPTION:The island’s most stylish speakeasy turns up the tempo on Friday nights\, as Downtown Grooves takes over the stylish surrounds of Room Service Ibiza. An evening made for city souls and old-school romantics\, local DJs take over the decks of this stylish Sa Penya hangout from 9pm with smooth disco\, funk and Balearic soul beneath the soft glow of the old town’s cobbled streets.   \nInside\, cocktails flow as smoothly as the conversation and the crowd feels straight out of an arthouse screening as island insiders and late-night cool cats all mingle beneath the warm amber lights. Whether perched at the bar with a Negroni or gathered at a table with friends for dinner\, these cosy evenings make you appreciate everything about living in Ibiza in the off-season. 
URL:https://white-ibiza.com/ibiza-calendar/downtown-grooves-at-room-service-ibiza-3/2026-03-06/
LOCATION:Room Service Ibiza\, Carrer del Passadís\, Eivissa\, Islas Baleares\, 07800\, Spain
CATEGORIES:Nightlife
ATTACH;FMTTYPE=image/png:https://white-ibiza.com/wp-content/uploads/2026/02/White-Ibiza-Calendar-Downtown-Grooves-at-Room-Service.png
GEO:38.908781;1.4375758
X-APPLE-STRUCTURED-LOCATION;VALUE=URI;X-ADDRESS=Room Service Ibiza Carrer del Passadís Eivissa Islas Baleares 07800 Spain;X-APPLE-RADIUS=500;X-TITLE=Carrer del Passadís:geo:1.4375758,38.908781
END:VEVENT
BEGIN:VEVENT
DTSTART;TZID=Europe/Madrid:20260306T210000
DTEND;TZID=Europe/Madrid:20260307T040000
DTSTAMP:20260422T055519
CREATED:20260305T155614Z
LAST-MODIFIED:20260305T174702Z
UID:10030871-1772830800-1772856000@white-ibiza.com
SUMMARY:Keep on Dancing at Keeper Ibiza
DESCRIPTION:As spring descends and the island finally begins to wake from its winter slumber\, Keep On Dancing returns to one of the Marina’s longest running nightspots\, Keeper Ibiza\, to reignite the season with a welcome dose of rhythm and soul. The long-running party collective brings together four global favourites on Friday March 06\, 2026\, gathering Richy Ahmed\, Cuky\, Elvi\, Knario and Paolo Driver for an evening of pure rave pleasure.  \nSet within the beloved venue’s warm\, retro glow\, the night celebrates connection\, creativity and that quirky Ibiza pre-season energy that’s every bit as buzzing as the summer. The Ibiza story continues… so just keep on dancing.    
URL:https://white-ibiza.com/ibiza-calendar/keep-on-dancing-at-keeper-ibiza-march/
LOCATION:Keeper Ibiza\, Avinguda de Sant Joan de Labritja\, Eivissa\, Islas Baleares\, 07800\, Spain
CATEGORIES:Nightlife
ATTACH;FMTTYPE=image/jpeg:https://white-ibiza.com/wp-content/uploads/2025/11/white-ibiza-calendar-keeper-ibiza-keep-on-dancing-2025.jpeg
GEO:38.9188814;1.4399191
X-APPLE-STRUCTURED-LOCATION;VALUE=URI;X-ADDRESS=Keeper Ibiza Avinguda de Sant Joan de Labritja Eivissa Islas Baleares 07800 Spain;X-APPLE-RADIUS=500;X-TITLE=Avinguda de Sant Joan de Labritja:geo:1.4399191,38.9188814
END:VEVENT
BEGIN:VEVENT
DTSTART;TZID=Europe/Madrid:20260306T210000
DTEND;TZID=Europe/Madrid:20260307T040000
DTSTAMP:20260422T055519
CREATED:20260305T162614Z
LAST-MODIFIED:20260305T162614Z
UID:10030917-1772830800-1772856000@white-ibiza.com
SUMMARY:Pandora at Akasha Ibiza
DESCRIPTION:On Friday March 06\, 2026\, the first Pandora event of the year takes place at Akasha Ibiza\, celebrating house music in its purest form. Take the musical highroad to the north’s most intimate dancefloor\, for a journey that fuses the roots of house music with a little bit of island soul.\nThe brainchild of DJ Oliver\, Pandora at Akasha Ibiza is a party made for springtime sessions where the local crowd unite for a night full of great beats and long overdue catch ups. Joining DJ Oliver on the decks will be Salva Martin and Javi Muñoz for a night of northern energy that will roll on well into the early hours.\n 
URL:https://white-ibiza.com/ibiza-calendar/pandora-at-akasha-ibiza/
LOCATION:Akasha Ibiza\, Carretera\, Sant Carles de Peralta\, Islas Baleares\, 07850\, Spain
CATEGORIES:Nightlife
ATTACH;FMTTYPE=image/jpeg:https://white-ibiza.com/wp-content/uploads/2024/11/white-ibiza-calendar-akasha-ibiza-2024-03.jpeg
GEO:39.0283589;1.5576922
X-APPLE-STRUCTURED-LOCATION;VALUE=URI;X-ADDRESS=Akasha Ibiza Carretera Sant Carles de Peralta Islas Baleares 07850 Spain;X-APPLE-RADIUS=500;X-TITLE=Carretera:geo:1.5576922,39.0283589
END:VEVENT
END:VCALENDAR