BEGIN:VCALENDAR
VERSION:2.0
PRODID:-//WHITE IBIZA - ECPv6.6.0.2//NONSGML v1.0//EN
CALSCALE:GREGORIAN
METHOD:PUBLISH
X-ORIGINAL-URL:https://white-ibiza.com
X-WR-CALDESC:Events for WHITE IBIZA
REFRESH-INTERVAL;VALUE=DURATION:PT1H
X-Robots-Tag:noindex
X-PUBLISHED-TTL:PT1H
BEGIN:VTIMEZONE
TZID:Europe/Madrid
BEGIN:DAYLIGHT
TZOFFSETFROM:+0100
TZOFFSETTO:+0200
TZNAME:CEST
DTSTART:20260329T010000
END:DAYLIGHT
BEGIN:STANDARD
TZOFFSETFROM:+0200
TZOFFSETTO:+0100
TZNAME:CET
DTSTART:20261025T010000
END:STANDARD
END:VTIMEZONE
BEGIN:VEVENT
DTSTART;TZID=Europe/Madrid:20260301T090000
DTEND;TZID=Europe/Madrid:20260301T100000
DTSTAMP:20260421T114411
CREATED:20260129T114639Z
LAST-MODIFIED:20260226T111302Z
UID:10030833-1772355600-1772359200@white-ibiza.com
SUMMARY:Find Your Balance Yoga Sessions at La Torre Ibiza
DESCRIPTION:Stretch your way into the weekend at one of Ibiza’s most soul-soothing settings\, as La Torre Ibiza presents Find Your Balance morning yoga sessions on the clifftop terrace. Here\, the views alone are enough to calm your mind and open your heart. Saturdays start bright and early at 9am\, while Sundays begin gently at 9.30am.  \nSet above the sea in Cap Negret\, this peaceful spot feels miles away from the buzz of San Antonio\, with just the sounds of nature\, the scent of salt on the breeze and a little flow to set your day right. Arrive early so you have plenty of time to settle on the mat before class starts\, then stay for breakfast at La Torre Ibiza\, soak up the morning light and savour the start of the day\, Ibiza style. 
URL:https://white-ibiza.com/ibiza-calendar/find-your-balance-yoga-sessions-at-la-torre-ibiza/2026-03-01/
LOCATION:La Torre Ibiza\, Carretera Cap Negret\, Sant Antoni de Portmany\, Islas Baleares\, 07820\, Spain
CATEGORIES:Wellness
ATTACH;FMTTYPE=image/jpeg:https://white-ibiza.com/wp-content/uploads/2025/07/white-ibiza-calendar-la-torre-ibiza-yoga-2025-01.jpeg
GEO:38.9981354;1.2855332
X-APPLE-STRUCTURED-LOCATION;VALUE=URI;X-ADDRESS=La Torre Ibiza Carretera Cap Negret Sant Antoni de Portmany Islas Baleares 07820 Spain;X-APPLE-RADIUS=500;X-TITLE=Carretera Cap Negret:geo:1.2855332,38.9981354
END:VEVENT
BEGIN:VEVENT
DTSTART;TZID=Europe/Madrid:20260301T100000
DTEND;TZID=Europe/Madrid:20260301T150000
DTSTAMP:20260421T114411
CREATED:20260112T084617Z
LAST-MODIFIED:20260112T084641Z
UID:10029478-1772359200-1772377200@white-ibiza.com
SUMMARY:Sunday Artisan Market in San Juan
DESCRIPTION:Every Sunday\, the sleepy village square of San Juan comes to life as the famous Artisan Market takes over the streets\, lanes and corners from 10am until 3pm\, drawing locals\, island families and curious visitors up into the north of the island. Stalls feature handmade crafts\, natural products\, jewellery\, crystals\, vintage pieces\, hand-stitched fashion\, homemade treats and kitchen-table creations from a community of artisans who have been holding court on Sundays in San Juan for years. \nThe atmosphere is bohemian\, musical and wonderfully laid-back as live musicians set up in the main village square\, friends linger over coffees\, kids weave between stalls and the whole village feels like one big family get-together\, all year round.
URL:https://white-ibiza.com/ibiza-calendar/sunday-artisan-market-in-san-juan-3/2026-03-01/
LOCATION:San Juan\, Sant Joan de Labritja\, Islas Baleares\, 07810\, Spain
CATEGORIES:Culture
ATTACH;FMTTYPE=image/jpeg:https://white-ibiza.com/wp-content/uploads/2025/12/white-ibiza-calendar-san-juan-market-2025.jpeg
GEO:39.0717396;1.5111806
END:VEVENT
BEGIN:VEVENT
DTSTART;TZID=Europe/Madrid:20260301T100000
DTEND;TZID=Europe/Madrid:20260301T170000
DTSTAMP:20260421T114411
CREATED:20260219T145845Z
LAST-MODIFIED:20260219T145845Z
UID:10030685-1772359200-1772384400@white-ibiza.com
SUMMARY:Hippy Market at Las Dalias
DESCRIPTION:Every Saturday and Sunday\, the famous Las Dalias Hippy Market in the heart of San Carlos comes alive with colourful characters\, live entertainment and the excitement of retail therapy. Locals\, tourists and Ibiza lovers gather to browse\, indulge\, sip and savour their way through one of the island’s most iconic market experiences. Artisan stalls\, tarot cards\, vintage treasures\, live tunes and cold drinks are all served with that signature Las Dalias soul.  \nTake a lazy Saturday saunter between 10am and 5pm or an easy Sunday stroll from the slightly later time of 11am. The Hippy Market at Las Dalias is always a glowing celebration of creativity and community – not to mention the perfect way to blow away a weekend hangover while perusing the stalls filled with treasures and trinkets.
URL:https://white-ibiza.com/ibiza-calendar/hippy-market-at-las-dalias/2026-03-01/
LOCATION:Las Dalias Hippy Market\, San Carlos\, Islas Baleares\, 07850\, Spain
CATEGORIES:Culture
ATTACH;FMTTYPE=image/jpeg:https://white-ibiza.com/wp-content/uploads/2024/11/white-ibiza-calendar-las-dalias-hippy-market-2024.jpeg
GEO:39.0330945;1.5649456
END:VEVENT
BEGIN:VEVENT
DTSTART;TZID=Europe/Madrid:20260301T130000
DTEND;TZID=Europe/Madrid:20260301T180000
DTSTAMP:20260421T114411
CREATED:20260112T084313Z
LAST-MODIFIED:20260112T084313Z
UID:10029455-1772370000-1772388000@white-ibiza.com
SUMMARY:Little Náutic at El Náutico Ibiza
DESCRIPTION:Proving that Ibiza weekend lunches can be as fun and entertaining for kids as they are for adults is El Náutico Ibiza\, the stylish restaurant headed up by chef Pau Barba in the harbour of Ibiza town. Every Saturday and Sunday\, local childcare specialists\, Holikids\, plot up in the interior dining space where they expertly supervise and lead the Little Náutic program from 1pm until 6pm\, offering fun and creative activities for little folk while grown-ups wine and dine on the alfresco terrace. \nWith its stunning vistas across the water to Dalt Vila\, and a gentle soundtrack of yacht sails clinking and waves lapping beside the dock\, El Náutico Ibiza makes an impressive year-round destination for meeting friends or family. Delicious local fish\, typical Spanish rice dishes\, tapas and much more can be shared and savoured as you while away the weekend hours\, safe in the knowledge that the little ones are happily crafting\, colouring and playing in the kids’ club until it’s time to head home. Just don’t be surprised if they want to stay longer!
URL:https://white-ibiza.com/ibiza-calendar/little-nautic-at-el-nautico-ibiza-2/2026-03-01/
LOCATION:El Náutico Ibiza\, Avinguda de Santa Eulària des Riu\, Eivissa\, Islas Baleares\, 07800\, Spain
CATEGORIES:Kids
ATTACH;FMTTYPE=image/jpeg:https://white-ibiza.com/wp-content/uploads/2024/11/white-ibiza-calendar-el-nautico-ibiza-2024-little-nautico-by-holikids.jpeg
GEO:38.9139964;1.4351802
X-APPLE-STRUCTURED-LOCATION;VALUE=URI;X-ADDRESS=El Náutico Ibiza Avinguda de Santa Eulària des Riu Eivissa Islas Baleares 07800 Spain;X-APPLE-RADIUS=500;X-TITLE=Avinguda de Santa Eulària des Riu:geo:1.4351802,38.9139964
END:VEVENT
BEGIN:VEVENT
DTSTART;TZID=Europe/Madrid:20260301T210000
DTEND;TZID=Europe/Madrid:20260302T040000
DTSTAMP:20260421T114411
CREATED:20260219T152528Z
LAST-MODIFIED:20260219T152528Z
UID:10030718-1772398800-1772424000@white-ibiza.com
SUMMARY:Hippy House presents Hearts and Soul at ROTO Ibiza
DESCRIPTION:On an island that seems to be in the middle of one long celebration\, there is ineed one particular day that is just that extra bit special. Sunday March 01\, 2026 is El Día de Baleares\, aka\, Balearic Islands Day\, and of course the region’s main party island will be doing it in true Ibiza style. Hippy House presents Hearts and Soul at ROTO Ibiza paints the town ROTO red for this very special holiday\, with a Boiler Room–style set and a line–up of DJs to rock the stilts off this Marina Botafoch venue.  Artists include Álvaro Serra\, Estani Julia\, Filipe Queiros\, Mattia Cavazza\, Maria Martin\, Lauu Jr B2B Chris M\, Vaness and Shøwn. With plenty of surprises and great music\, the party continues in the speakeasy style Búnker until the early hours. Grab your tickets now and make the most of the next day’s public holiday nursing a well-earned hangover!
URL:https://white-ibiza.com/ibiza-calendar/hippy-house-presents-hearts-and-soul-at-roto-ibiza/
LOCATION:ROTO Ibiza\, Eivissa\, Islas Baleares\, 07800\, Spain
CATEGORIES:Nightlife
ATTACH;FMTTYPE=image/jpeg:https://white-ibiza.com/wp-content/uploads/2025/07/white-ibiza-journal-roto-ibiza-2025-11.jpeg
GEO:39.0200099;1.4821482
END:VEVENT
END:VCALENDAR