BEGIN:VCALENDAR
VERSION:2.0
PRODID:-//WHITE IBIZA - ECPv6.6.0.2//NONSGML v1.0//EN
CALSCALE:GREGORIAN
METHOD:PUBLISH
X-WR-CALNAME:WHITE IBIZA
X-ORIGINAL-URL:https://white-ibiza.com
X-WR-CALDESC:Events for WHITE IBIZA
REFRESH-INTERVAL;VALUE=DURATION:PT1H
X-Robots-Tag:noindex
X-PUBLISHED-TTL:PT1H
BEGIN:VTIMEZONE
TZID:Europe/Madrid
BEGIN:DAYLIGHT
TZOFFSETFROM:+0100
TZOFFSETTO:+0200
TZNAME:CEST
DTSTART:20260329T010000
END:DAYLIGHT
BEGIN:STANDARD
TZOFFSETFROM:+0200
TZOFFSETTO:+0100
TZNAME:CET
DTSTART:20261025T010000
END:STANDARD
END:VTIMEZONE
BEGIN:VEVENT
DTSTART;VALUE=DATE:20260228
DTEND;VALUE=DATE:20260302
DTSTAMP:20260423T121841
CREATED:20260115T125847Z
LAST-MODIFIED:20260116T151821Z
UID:10029985-1772262000-1772348399@white-ibiza.com
SUMMARY:Winter Dining at Zeneat by Can Vistabella
DESCRIPTION:Winters on the white isle are all about dining spots where you can sit in peaceful dappled sunshine while feasting and drinking with loved ones in true Ibiza style. Head to the wilds of the Benimussa hills\, where Zeneat by Can Vistabella is open daily\, serving up a soulful Mediterranean menu in a deliciously quiet location.  \nBrunch is available every day between 9am and 3.30pm and the menu is packed with wholesome dishes that include a choice of delicious breakfasts from the protein-rich Pulse to the gut-loving probiotic Bloom\, plus a vitamin packed juice menu as well as plenty of yoghurt bowls and pancake options for those with a sweeter tooth. Evenings from Wednesday to Saturday are more akin to dinner at a friend’s house\, with comforting dishes like red tuna croquettes; and angus beef seared over a slow smoky fire\, plus a kids’ menu your little ones will love\, all served between 7pm and 11pm. This is cosy dining made for out of season days and dusky Ibiza nights.
URL:https://white-ibiza.com/ibiza-calendar/winter-dining-at-zeneat-by-can-vistabella/2026-02-28/
LOCATION:Zeneat at Can Vistabella\, Camí de sa Capelleta\, Sant Antoni de Portmany\, Illes Balears\, 07830\, Spain
CATEGORIES:Foodies
ATTACH;FMTTYPE=image/jpeg:https://white-ibiza.com/wp-content/uploads/2024/09/white-ibiza-restaurant-zeneat-can-vistabella-2025-10.jpeg
GEO:38.9251539;1.3306525
X-APPLE-STRUCTURED-LOCATION;VALUE=URI;X-ADDRESS=Zeneat at Can Vistabella Camí de sa Capelleta Sant Antoni de Portmany Illes Balears 07830 Spain;X-APPLE-RADIUS=500;X-TITLE=Camí de sa Capelleta:geo:1.3306525,38.9251539
END:VEVENT
BEGIN:VEVENT
DTSTART;TZID=Europe/Madrid:20260228T080000
DTEND;TZID=Europe/Madrid:20260228T080000
DTSTAMP:20260423T121841
CREATED:20260226T085857Z
LAST-MODIFIED:20260226T131951Z
UID:10030842-1772265600-1772265600@white-ibiza.com
SUMMARY:Akasha at Las Dalias
DESCRIPTION:The sun has finally come out to play which means the island’s dancing crew are itching to do the same. Akasha at Las Dalias on Saturday February 28\, 2026 is a fabulous way to start this weekend’s Balearics Day celebrations\, shake off the winter blues and remember why exactly why Ibiza is so loved.  \nThe locally sourced line-up includes Jan Blomqvist\, Andy Bros and Tom Zeta\, and the cheeky extra day off on Monday means you have plenty of time to recover thanks to a deliciously extended weekend. Hustle up the groovy gang\, reconnect with your friends in the north and raise a glass to the island that never fails to bring music lovers together. 
URL:https://white-ibiza.com/ibiza-calendar/akasha-at-las-dalias/
LOCATION:Akasha Ibiza\, Carretera\, Sant Carles de Peralta\, Islas Baleares\, 07850\, Spain
CATEGORIES:Clubs,Nightlife
ATTACH;FMTTYPE=image/jpeg:https://white-ibiza.com/wp-content/uploads/2024/11/white-ibiza-calendar-akasha-ibiza-2024-02.jpeg
GEO:39.0283589;1.5576922
X-APPLE-STRUCTURED-LOCATION;VALUE=URI;X-ADDRESS=Akasha Ibiza Carretera Sant Carles de Peralta Islas Baleares 07850 Spain;X-APPLE-RADIUS=500;X-TITLE=Carretera:geo:1.5576922,39.0283589
END:VEVENT
BEGIN:VEVENT
DTSTART;TZID=Europe/Madrid:20260228T090000
DTEND;TZID=Europe/Madrid:20260228T100000
DTSTAMP:20260423T121841
CREATED:20260129T114639Z
LAST-MODIFIED:20260226T111302Z
UID:10030542-1772269200-1772272800@white-ibiza.com
SUMMARY:Find Your Balance Yoga Sessions at La Torre Ibiza
DESCRIPTION:Stretch your way into the weekend at one of Ibiza’s most soul-soothing settings\, as La Torre Ibiza presents Find Your Balance morning yoga sessions on the clifftop terrace. Here\, the views alone are enough to calm your mind and open your heart. Saturdays start bright and early at 9am\, while Sundays begin gently at 9.30am.  \nSet above the sea in Cap Negret\, this peaceful spot feels miles away from the buzz of San Antonio\, with just the sounds of nature\, the scent of salt on the breeze and a little flow to set your day right. Arrive early so you have plenty of time to settle on the mat before class starts\, then stay for breakfast at La Torre Ibiza\, soak up the morning light and savour the start of the day\, Ibiza style. 
URL:https://white-ibiza.com/ibiza-calendar/find-your-balance-yoga-sessions-at-la-torre-ibiza/2026-02-28/
LOCATION:La Torre Ibiza\, Carretera Cap Negret\, Sant Antoni de Portmany\, Islas Baleares\, 07820\, Spain
CATEGORIES:Wellness
ATTACH;FMTTYPE=image/jpeg:https://white-ibiza.com/wp-content/uploads/2025/07/white-ibiza-calendar-la-torre-ibiza-yoga-2025-01.jpeg
GEO:38.9981354;1.2855332
X-APPLE-STRUCTURED-LOCATION;VALUE=URI;X-ADDRESS=La Torre Ibiza Carretera Cap Negret Sant Antoni de Portmany Islas Baleares 07820 Spain;X-APPLE-RADIUS=500;X-TITLE=Carretera Cap Negret:geo:1.2855332,38.9981354
END:VEVENT
BEGIN:VEVENT
DTSTART;TZID=Europe/Madrid:20260228T100000
DTEND;TZID=Europe/Madrid:20260228T170000
DTSTAMP:20260423T121841
CREATED:20260219T145845Z
LAST-MODIFIED:20260219T145845Z
UID:10030684-1772272800-1772298000@white-ibiza.com
SUMMARY:Hippy Market at Las Dalias
DESCRIPTION:Every Saturday and Sunday\, the famous Las Dalias Hippy Market in the heart of San Carlos comes alive with colourful characters\, live entertainment and the excitement of retail therapy. Locals\, tourists and Ibiza lovers gather to browse\, indulge\, sip and savour their way through one of the island’s most iconic market experiences. Artisan stalls\, tarot cards\, vintage treasures\, live tunes and cold drinks are all served with that signature Las Dalias soul.  \nTake a lazy Saturday saunter between 10am and 5pm or an easy Sunday stroll from the slightly later time of 11am. The Hippy Market at Las Dalias is always a glowing celebration of creativity and community – not to mention the perfect way to blow away a weekend hangover while perusing the stalls filled with treasures and trinkets.
URL:https://white-ibiza.com/ibiza-calendar/hippy-market-at-las-dalias/2026-02-28/
LOCATION:Las Dalias Hippy Market\, San Carlos\, Islas Baleares\, 07850\, Spain
CATEGORIES:Culture
ATTACH;FMTTYPE=image/jpeg:https://white-ibiza.com/wp-content/uploads/2024/11/white-ibiza-calendar-las-dalias-hippy-market-2024.jpeg
GEO:39.0330945;1.5649456
END:VEVENT
BEGIN:VEVENT
DTSTART;TZID=Europe/Madrid:20260228T100000
DTEND;TZID=Europe/Madrid:20260228T180000
DTSTAMP:20260423T121841
CREATED:20260219T145109Z
LAST-MODIFIED:20260319T175308Z
UID:10030654-1772272800-1772301600@white-ibiza.com
SUMMARY:Beyond Form Exhibition at Estudio Laterna
DESCRIPTION:The beauty of the natural world comes vividly to life on Friday February 06\, 2026 at Santa Gertrudis artists’ haven Estudio Laterna with its Beyond Form Exhibition. Representing the work of three artists who’s evocative\, organic concepts explore transformation\, metamorphosis and continuity through drawing\, painting and botanical sculpture.  Maia Bunge’s delicate work unfolds poetically through ink\, watercolour and collage\, creating compositions that construct dreamlike landscapes where animal\, human and flora and fauna coexist as fragile living substances. Talented sculptor\, Daniel Salorio\, uses plant elements after their life cycle has ended to build graceful pieces of work that expose nature’s never ending magical language. Ceramicist Kaori Yabusaki transforms the simple material of white clay into renditions of the natural world that emerge through gesture and care. Each artistic practise converges as an artistic ecosystem where the rhythm of life germinates into something truly unique. 
URL:https://white-ibiza.com/ibiza-calendar/beyond-form-exhibition-at-estudio-laterna-2/2026-02-28/
LOCATION:Estudio Laterna\, Carrer Vénda de Parada\, Santa Gertrudis de Fruitera\, Islas Baleares\, 07814\, Spain
CATEGORIES:Culture
ATTACH;FMTTYPE=image/jpeg:https://white-ibiza.com/wp-content/uploads/2026/02/white-ibiza-calendar-estudio-laterna-beyond-form-2026-1.jpeg
GEO:38.9988683;1.4283884
X-APPLE-STRUCTURED-LOCATION;VALUE=URI;X-ADDRESS=Estudio Laterna Carrer Vénda de Parada Santa Gertrudis de Fruitera Islas Baleares 07814 Spain;X-APPLE-RADIUS=500;X-TITLE=Carrer Vénda de Parada:geo:1.4283884,38.9988683
END:VEVENT
BEGIN:VEVENT
DTSTART;TZID=Europe/Madrid:20260228T130000
DTEND;TZID=Europe/Madrid:20260228T180000
DTSTAMP:20260423T121841
CREATED:20260112T084313Z
LAST-MODIFIED:20260112T084313Z
UID:10029454-1772283600-1772301600@white-ibiza.com
SUMMARY:Little Náutic at El Náutico Ibiza
DESCRIPTION:Proving that Ibiza weekend lunches can be as fun and entertaining for kids as they are for adults is El Náutico Ibiza\, the stylish restaurant headed up by chef Pau Barba in the harbour of Ibiza town. Every Saturday and Sunday\, local childcare specialists\, Holikids\, plot up in the interior dining space where they expertly supervise and lead the Little Náutic program from 1pm until 6pm\, offering fun and creative activities for little folk while grown-ups wine and dine on the alfresco terrace. \nWith its stunning vistas across the water to Dalt Vila\, and a gentle soundtrack of yacht sails clinking and waves lapping beside the dock\, El Náutico Ibiza makes an impressive year-round destination for meeting friends or family. Delicious local fish\, typical Spanish rice dishes\, tapas and much more can be shared and savoured as you while away the weekend hours\, safe in the knowledge that the little ones are happily crafting\, colouring and playing in the kids’ club until it’s time to head home. Just don’t be surprised if they want to stay longer!
URL:https://white-ibiza.com/ibiza-calendar/little-nautic-at-el-nautico-ibiza-2/2026-02-28/
LOCATION:El Náutico Ibiza\, Avinguda de Santa Eulària des Riu\, Eivissa\, Islas Baleares\, 07800\, Spain
CATEGORIES:Kids
ATTACH;FMTTYPE=image/jpeg:https://white-ibiza.com/wp-content/uploads/2024/11/white-ibiza-calendar-el-nautico-ibiza-2024-little-nautico-by-holikids.jpeg
GEO:38.9139964;1.4351802
X-APPLE-STRUCTURED-LOCATION;VALUE=URI;X-ADDRESS=El Náutico Ibiza Avinguda de Santa Eulària des Riu Eivissa Islas Baleares 07800 Spain;X-APPLE-RADIUS=500;X-TITLE=Avinguda de Santa Eulària des Riu:geo:1.4351802,38.9139964
END:VEVENT
BEGIN:VEVENT
DTSTART;TZID=Europe/Madrid:20260228T170000
DTEND;TZID=Europe/Madrid:20260228T190000
DTSTAMP:20260423T121841
CREATED:20260219T150449Z
LAST-MODIFIED:20260219T150449Z
UID:10030702-1772298000-1772305200@white-ibiza.com
SUMMARY:Standard Talks: Nightlife as Culture at The Standard\, Ibiza
DESCRIPTION:A big topic at any social event is the conversation around the island’s nightlife and its effect on Ibiza as a whole. On Saturday\, February 28\, there’s nowhere better to chew the dance music fat than at Standard Talks: Nightlife as Culture at The Standard\, Ibiza where everything event related is up for discussion.  \nA cultural conversation that uses nightlife as its starting point\, reflects on its evolution and Ibiza’s role in that change. Once the state of the island has been put to rights\, settle in for an evening of dinner and drinks in the Ibiza town boutique hotel’s ground floor restaurant\, Jara\, to keep the discourse flowing till the early hours
URL:https://white-ibiza.com/ibiza-calendar/standard-talks-nightlife-as-culture-at-the-standard-ibiza/
LOCATION:The Standard\, Ibiza\, Carrer de Bartomeu Vicent Ramon\, Eivissa\, Islas Baleares\, 07800\, Spain
CATEGORIES:Culture
ATTACH;FMTTYPE=image/jpeg:https://white-ibiza.com/wp-content/uploads/2025/02/white-ibiza-calendar-jara-at-the-standard-ibiza-2025-01.jpeg
GEO:38.909914;1.4340569
X-APPLE-STRUCTURED-LOCATION;VALUE=URI;X-ADDRESS=The Standard Ibiza Carrer de Bartomeu Vicent Ramon Eivissa Islas Baleares 07800 Spain;X-APPLE-RADIUS=500;X-TITLE=Carrer de Bartomeu Vicent Ramon:geo:1.4340569,38.909914
END:VEVENT
END:VCALENDAR