BEGIN:VCALENDAR
VERSION:2.0
PRODID:-//WHITE IBIZA - ECPv6.6.0.2//NONSGML v1.0//EN
CALSCALE:GREGORIAN
METHOD:PUBLISH
X-WR-CALNAME:WHITE IBIZA
X-ORIGINAL-URL:https://white-ibiza.com
X-WR-CALDESC:Events for WHITE IBIZA
REFRESH-INTERVAL;VALUE=DURATION:PT1H
X-Robots-Tag:noindex
X-PUBLISHED-TTL:PT1H
BEGIN:VTIMEZONE
TZID:Europe/Madrid
BEGIN:DAYLIGHT
TZOFFSETFROM:+0100
TZOFFSETTO:+0200
TZNAME:CEST
DTSTART:20260329T010000
END:DAYLIGHT
BEGIN:STANDARD
TZOFFSETFROM:+0200
TZOFFSETTO:+0100
TZNAME:CET
DTSTART:20261025T010000
END:STANDARD
END:VTIMEZONE
BEGIN:VEVENT
DTSTART;VALUE=DATE:20260227
DTEND;VALUE=DATE:20260301
DTSTAMP:20260421T164158
CREATED:20260115T125847Z
LAST-MODIFIED:20260116T151821Z
UID:10029984-1772175600-1772261999@white-ibiza.com
SUMMARY:Winter Dining at Zeneat by Can Vistabella
DESCRIPTION:Winters on the white isle are all about dining spots where you can sit in peaceful dappled sunshine while feasting and drinking with loved ones in true Ibiza style. Head to the wilds of the Benimussa hills\, where Zeneat by Can Vistabella is open daily\, serving up a soulful Mediterranean menu in a deliciously quiet location.  \nBrunch is available every day between 9am and 3.30pm and the menu is packed with wholesome dishes that include a choice of delicious breakfasts from the protein-rich Pulse to the gut-loving probiotic Bloom\, plus a vitamin packed juice menu as well as plenty of yoghurt bowls and pancake options for those with a sweeter tooth. Evenings from Wednesday to Saturday are more akin to dinner at a friend’s house\, with comforting dishes like red tuna croquettes; and angus beef seared over a slow smoky fire\, plus a kids’ menu your little ones will love\, all served between 7pm and 11pm. This is cosy dining made for out of season days and dusky Ibiza nights.
URL:https://white-ibiza.com/ibiza-calendar/winter-dining-at-zeneat-by-can-vistabella/2026-02-27/
LOCATION:Zeneat at Can Vistabella\, Camí de sa Capelleta\, Sant Antoni de Portmany\, Illes Balears\, 07830\, Spain
CATEGORIES:Foodies
ATTACH;FMTTYPE=image/jpeg:https://white-ibiza.com/wp-content/uploads/2024/09/white-ibiza-restaurant-zeneat-can-vistabella-2025-10.jpeg
GEO:38.9251539;1.3306525
X-APPLE-STRUCTURED-LOCATION;VALUE=URI;X-ADDRESS=Zeneat at Can Vistabella Camí de sa Capelleta Sant Antoni de Portmany Illes Balears 07830 Spain;X-APPLE-RADIUS=500;X-TITLE=Camí de sa Capelleta:geo:1.3306525,38.9251539
END:VEVENT
BEGIN:VEVENT
DTSTART;TZID=Europe/Madrid:20260227T100000
DTEND;TZID=Europe/Madrid:20260227T180000
DTSTAMP:20260421T164158
CREATED:20260219T145109Z
LAST-MODIFIED:20260319T175308Z
UID:10030653-1772186400-1772215200@white-ibiza.com
SUMMARY:Beyond Form Exhibition at Estudio Laterna
DESCRIPTION:The beauty of the natural world comes vividly to life on Friday February 06\, 2026 at Santa Gertrudis artists’ haven Estudio Laterna with its Beyond Form Exhibition. Representing the work of three artists who’s evocative\, organic concepts explore transformation\, metamorphosis and continuity through drawing\, painting and botanical sculpture.  Maia Bunge’s delicate work unfolds poetically through ink\, watercolour and collage\, creating compositions that construct dreamlike landscapes where animal\, human and flora and fauna coexist as fragile living substances. Talented sculptor\, Daniel Salorio\, uses plant elements after their life cycle has ended to build graceful pieces of work that expose nature’s never ending magical language. Ceramicist Kaori Yabusaki transforms the simple material of white clay into renditions of the natural world that emerge through gesture and care. Each artistic practise converges as an artistic ecosystem where the rhythm of life germinates into something truly unique. 
URL:https://white-ibiza.com/ibiza-calendar/beyond-form-exhibition-at-estudio-laterna-2/2026-02-27/
LOCATION:Estudio Laterna\, Carrer Vénda de Parada\, Santa Gertrudis de Fruitera\, Islas Baleares\, 07814\, Spain
CATEGORIES:Culture
ATTACH;FMTTYPE=image/jpeg:https://white-ibiza.com/wp-content/uploads/2026/02/white-ibiza-calendar-estudio-laterna-beyond-form-2026-1.jpeg
GEO:38.9988683;1.4283884
X-APPLE-STRUCTURED-LOCATION;VALUE=URI;X-ADDRESS=Estudio Laterna Carrer Vénda de Parada Santa Gertrudis de Fruitera Islas Baleares 07814 Spain;X-APPLE-RADIUS=500;X-TITLE=Carrer Vénda de Parada:geo:1.4283884,38.9988683
END:VEVENT
BEGIN:VEVENT
DTSTART;TZID=Europe/Madrid:20260227T130000
DTEND;TZID=Europe/Madrid:20260227T170000
DTSTAMP:20260421T164158
CREATED:20260112T085527Z
LAST-MODIFIED:20260112T085527Z
UID:10029613-1772197200-1772211600@white-ibiza.com
SUMMARY:Menú del Día at La Torre Ibiza
DESCRIPTION:La Torre Ibiza serves a delicious\, winter-warming weekday Menú del Día that pairs simple Mediterranean cooking with some of the most glorious views on the San Antonio coastline. Pull up a chair and settle in for some feasting – choose between options like corn soup with tortilla chips\, feta and pico de gallo; or beef empanadillas finished with chimichurri aioli to start.  \nMain courses include tempura hake with roasted aubergine and Thai curry sauce; or a sweet potato parmentier topped with pork rib and chestnuts\, while dessert is a chunky slice of baked cheesecake with homemade fig jam. Priced at just 25€ per person and the menu changes weekly\, so there’s no better excuse to enjoy a sunset in one of the islands most iconic locations before the summer season arrives.
URL:https://white-ibiza.com/ibiza-calendar/menu-del-dia-at-la-torre-ibiza-3/2026-02-27/
LOCATION:La Torre Ibiza\, Carretera Cap Negret\, Sant Antoni de Portmany\, Islas Baleares\, 07820\, Spain
CATEGORIES:Foodies
ATTACH;FMTTYPE=image/jpeg:https://white-ibiza.com/wp-content/uploads/2025/11/white-ibizacalendar-la-torre-ibiza-2025.jpeg
GEO:38.9981354;1.2855332
X-APPLE-STRUCTURED-LOCATION;VALUE=URI;X-ADDRESS=La Torre Ibiza Carretera Cap Negret Sant Antoni de Portmany Islas Baleares 07820 Spain;X-APPLE-RADIUS=500;X-TITLE=Carretera Cap Negret:geo:1.2855332,38.9981354
END:VEVENT
BEGIN:VEVENT
DTSTART;TZID=Europe/Madrid:20260227T130000
DTEND;TZID=Europe/Madrid:20260227T180000
DTSTAMP:20260421T164158
CREATED:20260112T164220Z
LAST-MODIFIED:20260115T101148Z
UID:10029812-1772197200-1772215200@white-ibiza.com
SUMMARY:Menú del Día at REMO Ibiza
DESCRIPTION:From Monday to Friday throughout the winter season\, REMO Ibiza serves up a special winter menú del día in the heart of the cosy and leafy Marina Village complex. The ever-changing dishes reflect the restaurant’s easygoing approach to lunch – one that is guaranteed to warm the coldest of wintery tummies.   \nStarters include classic options such as Spain’s salad of choice\, ensaladilla rusa\, homey chicken soup or huevos rotos\, followed by mains like spicy tacos REMO-style\, tasty chicken milanesa or a steaming bowl of spaghetti with prawns\, and the feast finishes with the kitchen’s dessert of the day. The full menu is priced at 18€ for three courses and is available to eat in or to takeaway for Ibiza residents on-the-go this winter.
URL:https://white-ibiza.com/ibiza-calendar/menu-del-dia-at-remo-ibiza/2026-02-27/
LOCATION:Remo Ibiza\, Passeig Joan Carles I\, Eivissa\, Illes Balears\, 07800\, Spain
CATEGORIES:Foodies
ATTACH;FMTTYPE=image/jpeg:https://white-ibiza.com/wp-content/uploads/2026/01/white-ibiza-calendar-remo-ibiza-2026.jpeg
GEO:38.9161789;1.4438158
X-APPLE-STRUCTURED-LOCATION;VALUE=URI;X-ADDRESS=Remo Ibiza Passeig Joan Carles I Eivissa Illes Balears 07800 Spain;X-APPLE-RADIUS=500;X-TITLE=Passeig Joan Carles I:geo:1.4438158,38.9161789
END:VEVENT
BEGIN:VEVENT
DTSTART;TZID=Europe/Madrid:20260227T190000
DTEND;TZID=Europe/Madrid:20260227T220000
DTSTAMP:20260421T164158
CREATED:20260226T090105Z
LAST-MODIFIED:20260226T090105Z
UID:10030832-1772218800-1772229600@white-ibiza.com
SUMMARY:Karaoke at Las Dalias Café
DESCRIPTION:Get those vocal cords lubricated as Karaoke at Las Dalias Café takes centre stage every Friday night this winter. From 7pm\, the iconic San Carlos hotspot swaps market beats for mic drops\, inviting brave souls and secret divas to step into the spotlight.   \nWhether you’re belting out a power ballad\, channelling your inner rock legend or rallying the crowd with a guilty pleasure anthem\, the vibe is all about fun\, flair and a little fearless self-expression. Expect the cocktails to be flowing and plenty of musical mischief. It’s the perfect warm-up for the weekend festivities and who knows where it might end up?
URL:https://white-ibiza.com/ibiza-calendar/karaoke-at-las-dalias-cafe/
LOCATION:Akasha Ibiza\, Carretera\, Sant Carles de Peralta\, Islas Baleares\, 07850\, Spain
CATEGORIES:Nightlife
ATTACH;FMTTYPE=image/jpeg:https://white-ibiza.com/wp-content/uploads/2026/02/white-ibiza-calendar-las-dalias-cafe-2026.jpeg
GEO:39.0283589;1.5576922
X-APPLE-STRUCTURED-LOCATION;VALUE=URI;X-ADDRESS=Akasha Ibiza Carretera Sant Carles de Peralta Islas Baleares 07850 Spain;X-APPLE-RADIUS=500;X-TITLE=Carretera:geo:1.5576922,39.0283589
END:VEVENT
BEGIN:VEVENT
DTSTART;TZID=Europe/Madrid:20260227T200000
DTEND;TZID=Europe/Madrid:20260227T235900
DTSTAMP:20260421T164158
CREATED:20260227T103650Z
LAST-MODIFIED:20260227T120237Z
UID:10030843-1772222400-1772236740@white-ibiza.com
SUMMARY:Homenaje al Vinilo at Chidas Bar and Cantina Ibiza
DESCRIPTION:Februarys in Ibiza are almost a season all of their own\, and what better chilli-loaded antidote to chilly winter nights than a night of spicy margaritas\, even spicier tacos and vinyl spinning all night long? This Friday February 27\, 2026\, Ibiza town‘s favourite Mexican eatery\, Chidas Bar and Cantina\, throws open its doors for some piquant plates and tequila-fuelled escapades all sound tracked by Noelia Mendez and Joan Ribas.  Serving up some of the best enmoladas this side of South America alongside burritos that will have you dreaming of them for days afterwards\, the cosy interior of Chidas Bar and Cantina welcomes wandering locals and winter tourists alike\, for laidback musical vibes\, an endless supply of tacos and ridiculously potent cocktails.
URL:https://white-ibiza.com/ibiza-calendar/homenaje-al-vinilo-at-chidas-bar-and-cantina-ibiza-2/
LOCATION:Chidas Bar and Cantina\, Plaça Pintor Vicent Calbet\, Eivissa\, Islas Baleares\, 07800\, Spain
CATEGORIES:Foodies
ATTACH;FMTTYPE=image/jpeg:https://white-ibiza.com/wp-content/uploads/2025/12/white-ibiza-calendar-chidas-bar-and-cantina-nye-2026.jpeg
GEO:38.9098782;1.4290812
X-APPLE-STRUCTURED-LOCATION;VALUE=URI;X-ADDRESS=Chidas Bar and Cantina Plaça Pintor Vicent Calbet Eivissa Islas Baleares 07800 Spain;X-APPLE-RADIUS=500;X-TITLE=Plaça Pintor Vicent Calbet:geo:1.4290812,38.9098782
END:VEVENT
BEGIN:VEVENT
DTSTART;TZID=Europe/Madrid:20260227T210000
DTEND;TZID=Europe/Madrid:20260228T020000
DTSTAMP:20260421T164158
CREATED:20260219T152125Z
LAST-MODIFIED:20260219T152125Z
UID:10030717-1772226000-1772244000@white-ibiza.com
SUMMARY:Umami at ROTO Ibiza
DESCRIPTION:As the island finally waves a welcome adios to what has been some truly awful winter weather\, Umami at ROTO Ibiza\, welcomes guests and partygoers from 9pm on Friday February 27\, 2026\, for a nighttime session that is all about renewal and connection in one of Marina Botafoch’s most stylish settings.  \nGuided by the moon and the Japanese lunisolar calendar\, this cycle opens under the sign of the Wood Snake and promises to set the tone for another year of harbourside dancing and mischief at one of the island’s favourite hotspots. Laying the beats will be Eugenio\, Angel Linde and Tinto B2B Mike Saracino\, alongside live band Mäthzz. Whether you stay for dinner and drinks or just come to wiggle your snake hips\, Umami at ROTO Ibiza signals some serious post hibernation fun and frolics.
URL:https://white-ibiza.com/ibiza-calendar/umami-at-roto-ibiza/
LOCATION:ROTO Ibiza\, Eivissa\, Islas Baleares\, 07800\, Spain
CATEGORIES:Nightlife
ATTACH;FMTTYPE=image/jpeg:https://white-ibiza.com/wp-content/uploads/2025/10/white-ibiza-calendar-roto-ibiza-fuego-pasion-2025.jpeg
GEO:39.0200099;1.4821482
END:VEVENT
END:VCALENDAR