BEGIN:VCALENDAR
VERSION:2.0
PRODID:-//WHITE IBIZA - ECPv6.6.0.2//NONSGML v1.0//EN
CALSCALE:GREGORIAN
METHOD:PUBLISH
X-WR-CALNAME:WHITE IBIZA
X-ORIGINAL-URL:https://white-ibiza.com
X-WR-CALDESC:Events for WHITE IBIZA
REFRESH-INTERVAL;VALUE=DURATION:PT1H
X-Robots-Tag:noindex
X-PUBLISHED-TTL:PT1H
BEGIN:VTIMEZONE
TZID:Europe/Madrid
BEGIN:DAYLIGHT
TZOFFSETFROM:+0100
TZOFFSETTO:+0200
TZNAME:CEST
DTSTART:20260329T010000
END:DAYLIGHT
BEGIN:STANDARD
TZOFFSETFROM:+0200
TZOFFSETTO:+0100
TZNAME:CET
DTSTART:20261025T010000
END:STANDARD
END:VTIMEZONE
BEGIN:VEVENT
DTSTART;VALUE=DATE:20260224
DTEND;VALUE=DATE:20260226
DTSTAMP:20260421T122358
CREATED:20260115T125847Z
LAST-MODIFIED:20260116T151821Z
UID:10029981-1771916400-1772002799@white-ibiza.com
SUMMARY:Winter Dining at Zeneat by Can Vistabella
DESCRIPTION:Winters on the white isle are all about dining spots where you can sit in peaceful dappled sunshine while feasting and drinking with loved ones in true Ibiza style. Head to the wilds of the Benimussa hills\, where Zeneat by Can Vistabella is open daily\, serving up a soulful Mediterranean menu in a deliciously quiet location.  \nBrunch is available every day between 9am and 3.30pm and the menu is packed with wholesome dishes that include a choice of delicious breakfasts from the protein-rich Pulse to the gut-loving probiotic Bloom\, plus a vitamin packed juice menu as well as plenty of yoghurt bowls and pancake options for those with a sweeter tooth. Evenings from Wednesday to Saturday are more akin to dinner at a friend’s house\, with comforting dishes like red tuna croquettes; and angus beef seared over a slow smoky fire\, plus a kids’ menu your little ones will love\, all served between 7pm and 11pm. This is cosy dining made for out of season days and dusky Ibiza nights.
URL:https://white-ibiza.com/ibiza-calendar/winter-dining-at-zeneat-by-can-vistabella/2026-02-24/
LOCATION:Zeneat at Can Vistabella\, Camí de sa Capelleta\, Sant Antoni de Portmany\, Illes Balears\, 07830\, Spain
CATEGORIES:Foodies
ATTACH;FMTTYPE=image/jpeg:https://white-ibiza.com/wp-content/uploads/2024/09/white-ibiza-restaurant-zeneat-can-vistabella-2025-10.jpeg
GEO:38.9251539;1.3306525
X-APPLE-STRUCTURED-LOCATION;VALUE=URI;X-ADDRESS=Zeneat at Can Vistabella Camí de sa Capelleta Sant Antoni de Portmany Illes Balears 07830 Spain;X-APPLE-RADIUS=500;X-TITLE=Camí de sa Capelleta:geo:1.3306525,38.9251539
END:VEVENT
BEGIN:VEVENT
DTSTART;VALUE=DATE:20260224
DTEND;VALUE=DATE:20260225
DTSTAMP:20260421T122358
CREATED:20260224T122757Z
LAST-MODIFIED:20260224T122758Z
UID:10030831-1771920000-1771952400@white-ibiza.com
SUMMARY:Opening Weekend at Natural Presence Studio
DESCRIPTION:With summer on the horizon\, it seems as though the entire population of the island is looking to get back into shape – in body\, mind and spirit – after spending one too many nights cosied up inside with their favourite streaming service while the winter winds were a–howling. The Opening Weekend at all-new yoga studio\, Natural Presence\, on Saturday February 21 and Sunday February 22\, 2026 is the perfect excuse to start your season of good health with founder Blair Hughes presenting a whole range of free yoga\, masterclasses and therapies.   Choose from a 60-minute Vinyasa or YinYang class\, a 75-minute Power session\, an hour-long YinMeditation or Breathwork Meditation classes\, 90-minute Art of Vinyasa or Stillness Speaks masterclasses – prior booking by emailing info@naturalpresencestudio.com is essential as mat space is limited. After class\, refuel with cold brew\, matcha tea with homemade almond milk\, red light therapy\, lymphatic drainage trouser sessions\, and receive vouchers to try a complimentary contrast therapy (sauna and ice bath) at a neighbouring wellness club. Finally\, students who book class passes\, teacher trainings or private yoga sessions receive an extra 30% off the usual prices for this weekend only. Use the code OPENING to access one of the offers on the Natural Presence website.  \nPhoto: Rune Sonneville
URL:https://white-ibiza.com/ibiza-calendar/opening-weekend-at-natural-presence-studio-2/2026-02-24/
LOCATION:Natural Presence Studio\, Carrer Vénda de Parada\, Santa Gertrudis de Fruitera\, Islas Baleares\, 07814\, Spain
CATEGORIES:Wellness
ATTACH;FMTTYPE=image/jpeg:https://white-ibiza.com/wp-content/uploads/2026/02/white-ibiza-wellness-calendar-natural-presence-studio-2026.jpeg
GEO:38.9986048;1.4263804
X-APPLE-STRUCTURED-LOCATION;VALUE=URI;X-ADDRESS=Natural Presence Studio Carrer Vénda de Parada Santa Gertrudis de Fruitera Islas Baleares 07814 Spain;X-APPLE-RADIUS=500;X-TITLE=Carrer Vénda de Parada:geo:1.4263804,38.9986048
END:VEVENT
BEGIN:VEVENT
DTSTART;TZID=Europe/Madrid:20260224T100000
DTEND;TZID=Europe/Madrid:20260224T180000
DTSTAMP:20260421T122358
CREATED:20260219T145109Z
LAST-MODIFIED:20260319T175308Z
UID:10030650-1771927200-1771956000@white-ibiza.com
SUMMARY:Beyond Form Exhibition at Estudio Laterna
DESCRIPTION:The beauty of the natural world comes vividly to life on Friday February 06\, 2026 at Santa Gertrudis artists’ haven Estudio Laterna with its Beyond Form Exhibition. Representing the work of three artists who’s evocative\, organic concepts explore transformation\, metamorphosis and continuity through drawing\, painting and botanical sculpture.  Maia Bunge’s delicate work unfolds poetically through ink\, watercolour and collage\, creating compositions that construct dreamlike landscapes where animal\, human and flora and fauna coexist as fragile living substances. Talented sculptor\, Daniel Salorio\, uses plant elements after their life cycle has ended to build graceful pieces of work that expose nature’s never ending magical language. Ceramicist Kaori Yabusaki transforms the simple material of white clay into renditions of the natural world that emerge through gesture and care. Each artistic practise converges as an artistic ecosystem where the rhythm of life germinates into something truly unique. 
URL:https://white-ibiza.com/ibiza-calendar/beyond-form-exhibition-at-estudio-laterna-2/2026-02-24/
LOCATION:Estudio Laterna\, Carrer Vénda de Parada\, Santa Gertrudis de Fruitera\, Islas Baleares\, 07814\, Spain
CATEGORIES:Culture
ATTACH;FMTTYPE=image/jpeg:https://white-ibiza.com/wp-content/uploads/2026/02/white-ibiza-calendar-estudio-laterna-beyond-form-2026-1.jpeg
GEO:38.9988683;1.4283884
X-APPLE-STRUCTURED-LOCATION;VALUE=URI;X-ADDRESS=Estudio Laterna Carrer Vénda de Parada Santa Gertrudis de Fruitera Islas Baleares 07814 Spain;X-APPLE-RADIUS=500;X-TITLE=Carrer Vénda de Parada:geo:1.4283884,38.9988683
END:VEVENT
BEGIN:VEVENT
DTSTART;TZID=Europe/Madrid:20260224T130000
DTEND;TZID=Europe/Madrid:20260224T170000
DTSTAMP:20260421T122358
CREATED:20260112T085527Z
LAST-MODIFIED:20260112T085527Z
UID:10029610-1771938000-1771952400@white-ibiza.com
SUMMARY:Menú del Día at La Torre Ibiza
DESCRIPTION:La Torre Ibiza serves a delicious\, winter-warming weekday Menú del Día that pairs simple Mediterranean cooking with some of the most glorious views on the San Antonio coastline. Pull up a chair and settle in for some feasting – choose between options like corn soup with tortilla chips\, feta and pico de gallo; or beef empanadillas finished with chimichurri aioli to start.  \nMain courses include tempura hake with roasted aubergine and Thai curry sauce; or a sweet potato parmentier topped with pork rib and chestnuts\, while dessert is a chunky slice of baked cheesecake with homemade fig jam. Priced at just 25€ per person and the menu changes weekly\, so there’s no better excuse to enjoy a sunset in one of the islands most iconic locations before the summer season arrives.
URL:https://white-ibiza.com/ibiza-calendar/menu-del-dia-at-la-torre-ibiza-3/2026-02-24/
LOCATION:La Torre Ibiza\, Carretera Cap Negret\, Sant Antoni de Portmany\, Islas Baleares\, 07820\, Spain
CATEGORIES:Foodies
ATTACH;FMTTYPE=image/jpeg:https://white-ibiza.com/wp-content/uploads/2025/11/white-ibizacalendar-la-torre-ibiza-2025.jpeg
GEO:38.9981354;1.2855332
X-APPLE-STRUCTURED-LOCATION;VALUE=URI;X-ADDRESS=La Torre Ibiza Carretera Cap Negret Sant Antoni de Portmany Islas Baleares 07820 Spain;X-APPLE-RADIUS=500;X-TITLE=Carretera Cap Negret:geo:1.2855332,38.9981354
END:VEVENT
BEGIN:VEVENT
DTSTART;TZID=Europe/Madrid:20260224T130000
DTEND;TZID=Europe/Madrid:20260224T180000
DTSTAMP:20260421T122358
CREATED:20260112T164220Z
LAST-MODIFIED:20260115T101148Z
UID:10029809-1771938000-1771956000@white-ibiza.com
SUMMARY:Menú del Día at REMO Ibiza
DESCRIPTION:From Monday to Friday throughout the winter season\, REMO Ibiza serves up a special winter menú del día in the heart of the cosy and leafy Marina Village complex. The ever-changing dishes reflect the restaurant’s easygoing approach to lunch – one that is guaranteed to warm the coldest of wintery tummies.   \nStarters include classic options such as Spain’s salad of choice\, ensaladilla rusa\, homey chicken soup or huevos rotos\, followed by mains like spicy tacos REMO-style\, tasty chicken milanesa or a steaming bowl of spaghetti with prawns\, and the feast finishes with the kitchen’s dessert of the day. The full menu is priced at 18€ for three courses and is available to eat in or to takeaway for Ibiza residents on-the-go this winter.
URL:https://white-ibiza.com/ibiza-calendar/menu-del-dia-at-remo-ibiza/2026-02-24/
LOCATION:Remo Ibiza\, Passeig Joan Carles I\, Eivissa\, Illes Balears\, 07800\, Spain
CATEGORIES:Foodies
ATTACH;FMTTYPE=image/jpeg:https://white-ibiza.com/wp-content/uploads/2026/01/white-ibiza-calendar-remo-ibiza-2026.jpeg
GEO:38.9161789;1.4438158
X-APPLE-STRUCTURED-LOCATION;VALUE=URI;X-ADDRESS=Remo Ibiza Passeig Joan Carles I Eivissa Illes Balears 07800 Spain;X-APPLE-RADIUS=500;X-TITLE=Passeig Joan Carles I:geo:1.4438158,38.9161789
END:VEVENT
END:VCALENDAR