BEGIN:VCALENDAR
VERSION:2.0
PRODID:-//WHITE IBIZA - ECPv6.6.0.2//NONSGML v1.0//EN
CALSCALE:GREGORIAN
METHOD:PUBLISH
X-ORIGINAL-URL:https://white-ibiza.com
X-WR-CALDESC:Events for WHITE IBIZA
REFRESH-INTERVAL;VALUE=DURATION:PT1H
X-Robots-Tag:noindex
X-PUBLISHED-TTL:PT1H
BEGIN:VTIMEZONE
TZID:Europe/Madrid
BEGIN:DAYLIGHT
TZOFFSETFROM:+0100
TZOFFSETTO:+0200
TZNAME:CEST
DTSTART:20260329T010000
END:DAYLIGHT
BEGIN:STANDARD
TZOFFSETFROM:+0200
TZOFFSETTO:+0100
TZNAME:CET
DTSTART:20261025T010000
END:STANDARD
END:VTIMEZONE
BEGIN:VEVENT
DTSTART;VALUE=DATE:20260117
DTEND;VALUE=DATE:20260119
DTSTAMP:20260421T205416
CREATED:20260115T125847Z
LAST-MODIFIED:20260116T151821Z
UID:10029943-1768633200-1768719599@white-ibiza.com
SUMMARY:Winter Dining at Zeneat by Can Vistabella
DESCRIPTION:Winters on the white isle are all about dining spots where you can sit in peaceful dappled sunshine while feasting and drinking with loved ones in true Ibiza style. Head to the wilds of the Benimussa hills\, where Zeneat by Can Vistabella is open daily\, serving up a soulful Mediterranean menu in a deliciously quiet location.  \nBrunch is available every day between 9am and 3.30pm and the menu is packed with wholesome dishes that include a choice of delicious breakfasts from the protein-rich Pulse to the gut-loving probiotic Bloom\, plus a vitamin packed juice menu as well as plenty of yoghurt bowls and pancake options for those with a sweeter tooth. Evenings from Wednesday to Saturday are more akin to dinner at a friend’s house\, with comforting dishes like red tuna croquettes; and angus beef seared over a slow smoky fire\, plus a kids’ menu your little ones will love\, all served between 7pm and 11pm. This is cosy dining made for out of season days and dusky Ibiza nights.
URL:https://white-ibiza.com/ibiza-calendar/winter-dining-at-zeneat-by-can-vistabella/2026-01-17/
LOCATION:Zeneat at Can Vistabella\, Camí de sa Capelleta\, Sant Antoni de Portmany\, Illes Balears\, 07830\, Spain
CATEGORIES:Foodies
ATTACH;FMTTYPE=image/jpeg:https://white-ibiza.com/wp-content/uploads/2024/09/white-ibiza-restaurant-zeneat-can-vistabella-2025-10.jpeg
GEO:38.9251539;1.3306525
X-APPLE-STRUCTURED-LOCATION;VALUE=URI;X-ADDRESS=Zeneat at Can Vistabella Camí de sa Capelleta Sant Antoni de Portmany Illes Balears 07830 Spain;X-APPLE-RADIUS=500;X-TITLE=Camí de sa Capelleta:geo:1.3306525,38.9251539
END:VEVENT
BEGIN:VEVENT
DTSTART;TZID=Europe/Madrid:20260117T090000
DTEND;TZID=Europe/Madrid:20260117T183000
DTSTAMP:20260421T205416
CREATED:20260115T144642Z
LAST-MODIFIED:20260115T183432Z
UID:10030043-1768640400-1768674600@white-ibiza.com
SUMMARY:Now Open! Natural Presence Yoga Studio in Santa Gertrudis
DESCRIPTION:Natural Presence Yoga Studio is a brand-new wellness space in the heart of Santa Gertrudis\, where you can stretch\, contemplate and breathe to your heart centre’s content. Founded by renowned instructor Blair Hughes\, there are a host of classes designed to reset the mind as well as the body\, with sessions including Vinyasa\, Power\, YinYang\, Hatha\, Meditation and Breathwork. Each class is totally accessible to all students\, no matter what your level maybe.  \nBlair began his yoga journey in Scotland when he was 18\, leading him to study with some of the most influential yoga teachers and coaches in the world. Now an E-RYT 500-hour certified yoga teacher trainer with over 18 years’ experience\, Blair teaches both globally and locally\, bringing the best out of your practice with his gentle nature and powerful presence.   \nOffering three classes every day\, the bright and airy Natural Presence Yoga Studio is perfectly located for post-school run classes or a quick midday practice before a lazy lunch in the village square. With plenty of membership options available\, from a seven-day intro for just 35€ to a monthly unlimited pass for 225€\, this is the perfect excuse to make those New Year’s health and wellbeing promises a reality this 2026. 
URL:https://white-ibiza.com/ibiza-calendar/natural-presence-yoga-studio-in-santa-gertrudis/2026-01-17/
LOCATION:Natural Presence Studio\, Carrer Vénda de Parada\, Santa Gertrudis de Fruitera\, Islas Baleares\, 07814\, Spain
CATEGORIES:Wellness,Culture
ATTACH;FMTTYPE=image/jpeg:https://white-ibiza.com/wp-content/uploads/2026/01/white-ibiza-calendar-natural-presence-yoga-studio-2026.jpeg
GEO:38.9986048;1.4263804
X-APPLE-STRUCTURED-LOCATION;VALUE=URI;X-ADDRESS=Natural Presence Studio Carrer Vénda de Parada Santa Gertrudis de Fruitera Islas Baleares 07814 Spain;X-APPLE-RADIUS=500;X-TITLE=Carrer Vénda de Parada:geo:1.4263804,38.9986048
END:VEVENT
BEGIN:VEVENT
DTSTART;TZID=Europe/Madrid:20260117T120000
DTEND;TZID=Europe/Madrid:20260117T190000
DTSTAMP:20260421T205416
CREATED:20260112T161907Z
LAST-MODIFIED:20260113T174104Z
UID:10029660-1768651200-1768676400@white-ibiza.com
SUMMARY:Transcendental Ibiza Exhibition at Olas Gallery
DESCRIPTION:Transcendental Ibiza: A Journey Through Light Codes is an immersive exhibition taking place at Olas Gallery on the seafront of Santa Eulalia this winter. Inviting visitors to experience the island through a different lens\, it features photographs by gallery owner Sofia Gomez Fonzo as a visual starting point\, blended with image\, light language\, music and sound by Antonella Curti into a quietly hypnotic environment. Landscapes familiar to all Ibiza lovers are reimagined as gateways into something a just little different.  \nThe exhibition encourages visitors to slow down and feel their way through the space. Each artwork creates a calm\, contemplative atmosphere where sound and light gently guide perception\, offering a pause from the outside world and a moment to tune into the island’s subtler frequencies. It’s Ibiza at its most reflective\, best experienced with an open mind and zero rush. Transcendental Ibiza: A Journey Through Light Codes is on display from 12pm until 7pm from Tuesdays to Saturdays at Olas Gallery.
URL:https://white-ibiza.com/ibiza-calendar/transcendental-ibiza-exhibition-at-olas-gallery/2026-01-17/
LOCATION:Olas Gallery\, Calle Juan Tur Tur\, Santa Eulalia del Río\, Islas Baleares\, 07840\, Spain
CATEGORIES:Culture
ATTACH;FMTTYPE=image/jpeg:https://white-ibiza.com/wp-content/uploads/2025/05/white-ibiza-living-directory-art-gallery-olas-gallery-2025-03.jpeg
GEO:38.9819402;1.5324936
X-APPLE-STRUCTURED-LOCATION;VALUE=URI;X-ADDRESS=Olas Gallery Calle Juan Tur Tur Santa Eulalia del Río Islas Baleares 07840 Spain;X-APPLE-RADIUS=500;X-TITLE=Calle Juan Tur Tur:geo:1.5324936,38.9819402
END:VEVENT
BEGIN:VEVENT
DTSTART;TZID=Europe/Madrid:20260117T130000
DTEND;TZID=Europe/Madrid:20260117T180000
DTSTAMP:20260421T205416
CREATED:20260112T084313Z
LAST-MODIFIED:20260112T084313Z
UID:10029442-1768654800-1768672800@white-ibiza.com
SUMMARY:Little Náutic at El Náutico Ibiza
DESCRIPTION:Proving that Ibiza weekend lunches can be as fun and entertaining for kids as they are for adults is El Náutico Ibiza\, the stylish restaurant headed up by chef Pau Barba in the harbour of Ibiza town. Every Saturday and Sunday\, local childcare specialists\, Holikids\, plot up in the interior dining space where they expertly supervise and lead the Little Náutic program from 1pm until 6pm\, offering fun and creative activities for little folk while grown-ups wine and dine on the alfresco terrace. \nWith its stunning vistas across the water to Dalt Vila\, and a gentle soundtrack of yacht sails clinking and waves lapping beside the dock\, El Náutico Ibiza makes an impressive year-round destination for meeting friends or family. Delicious local fish\, typical Spanish rice dishes\, tapas and much more can be shared and savoured as you while away the weekend hours\, safe in the knowledge that the little ones are happily crafting\, colouring and playing in the kids’ club until it’s time to head home. Just don’t be surprised if they want to stay longer!
URL:https://white-ibiza.com/ibiza-calendar/little-nautic-at-el-nautico-ibiza-2/2026-01-17/
LOCATION:El Náutico Ibiza\, Avinguda de Santa Eulària des Riu\, Eivissa\, Islas Baleares\, 07800\, Spain
CATEGORIES:Kids
ATTACH;FMTTYPE=image/jpeg:https://white-ibiza.com/wp-content/uploads/2024/11/white-ibiza-calendar-el-nautico-ibiza-2024-little-nautico-by-holikids.jpeg
GEO:38.9139964;1.4351802
X-APPLE-STRUCTURED-LOCATION;VALUE=URI;X-ADDRESS=El Náutico Ibiza Avinguda de Santa Eulària des Riu Eivissa Islas Baleares 07800 Spain;X-APPLE-RADIUS=500;X-TITLE=Avinguda de Santa Eulària des Riu:geo:1.4351802,38.9139964
END:VEVENT
BEGIN:VEVENT
DTSTART;TZID=Europe/Madrid:20260117T183000
DTEND;TZID=Europe/Madrid:20260117T223000
DTSTAMP:20260421T205416
CREATED:20260115T130730Z
LAST-MODIFIED:20260115T130730Z
UID:10029987-1768674600-1768689000@white-ibiza.com
SUMMARY:Cooking in Motion Izakaya Residency at Overall
DESCRIPTION:Something a little different is landing in island hotspot Santa Gertrudis this January\, as Overall presents Cooking in Motion Izakaya Residency with Sebastian Mazzola. If tapas–style Japanese dining is something you’ve always dreamed of (and honestly\, who could blame you?) this two-night-only collaboration between island foodies and the culinary masterminds behind Overall\, Mónica A. Patiño and Jorge A. Conde\, and chef and traveller Sebastian Mazzola could be the perfect antidote for the winter blues.  Izakaya-style dining is all about curated plates and expertly shaken and stirred drink pairings\, where the menus are fluid and the fluids comprise of cocktail concoctions and sake specials that all lean into Mazzola’s laid–back\, no–rush ethos. Hidden away behind a concealed doorway behind Santa G. Bagel House\, Overall is a sleek urban style drinking den where time stands still\, and the feasting takes centre stage. These one-off (or two-off\, as the case may be with Friday January 16\, 2026 and Saturday January 17\, 2026 are reserved for the occasion) events fill up fast\, so book now to avoid disappointment. 
URL:https://white-ibiza.com/ibiza-calendar/cooking-in-motion-izakaya-residency-at-overall/2026-01-17/
LOCATION:Overall\, Santa Gertrudis de Fruitera\, Balearic Islands\, 07814\, Spain
CATEGORIES:Foodies
ATTACH;FMTTYPE=image/jpeg:https://white-ibiza.com/wp-content/uploads/2024/11/white-ibiza-calendar-overall-02.jpeg
GEO:38.9986978;1.4283253
END:VEVENT
BEGIN:VEVENT
DTSTART;TZID=Europe/Madrid:20260117T200000
DTEND;TZID=Europe/Madrid:20260118T010000
DTSTAMP:20260421T205416
CREATED:20260112T164605Z
LAST-MODIFIED:20260112T164605Z
UID:10029857-1768680000-1768698000@white-ibiza.com
SUMMARY:Poissonnerie at Room Service Ibiza
DESCRIPTION:Room Service Ibiza marks the start of the year with a refined Poissonnerie dinner that’s all about relaxed dining with a convivial edge. Known for its gourmet menus and polished yet relaxed atmosphere\, the chic Sa Penya restaurant invites guests to settle in for a culinary evening built around prime ingredients cooked to absolute perfection\, with a set menu that has three very distinct journeys.  \nThe curated tasting menu is an homage to the sea\, starting with a generous plateau royal piled high with lobster\, red prawns\, langoustines\, razor clams\, scallops and tuna sashimi; followed by mains such as linguine with clams and bottarga; and monkfish with Jerusalem artichoke cream\, hazelnuts and basil oil. The night ends with some sweet vibes and naughty but nice creamy crème caramel.    \nChoose between Grand Voyage Maritime for the full gastronomic adventure or Escale Gourmande that includes the plateau royal\, a main course plus dessert. For those looking for smaller servings\, try Première Vague which includes just the plateau royal and dessert. DJ sets run throughout the evening\, setting the tone for a long\, leisurely night of dining indulgence and easy conversation in the cobbled back streets of old town. Reservations are highly recommended.
URL:https://white-ibiza.com/ibiza-calendar/poissonnerie-at-room-service-ibiza/2026-01-17/
LOCATION:Room Service Ibiza\, Carrer del Passadís\, Eivissa\, Islas Baleares\, 07800\, Spain
CATEGORIES:Foodies
ATTACH;FMTTYPE=image/jpeg:https://white-ibiza.com/wp-content/uploads/2025/12/white-ibiza-calendar-room-service-ibiza-nye-menu-2026.jpeg
GEO:38.908781;1.4375758
X-APPLE-STRUCTURED-LOCATION;VALUE=URI;X-ADDRESS=Room Service Ibiza Carrer del Passadís Eivissa Islas Baleares 07800 Spain;X-APPLE-RADIUS=500;X-TITLE=Carrer del Passadís:geo:1.4375758,38.908781
END:VEVENT
BEGIN:VEVENT
DTSTART;TZID=Europe/Madrid:20260117T210000
DTEND;TZID=Europe/Madrid:20260117T230000
DTSTAMP:20260421T205416
CREATED:20260112T083826Z
LAST-MODIFIED:20260129T134621Z
UID:10029894-1768683600-1768690800@white-ibiza.com
SUMMARY:Tiki Time at Paradise Lost
DESCRIPTION:While every hour spent at Paradise Lost is a happy one\, the two hours between 9pm and 11pm are particularly pleasing for those in the know. Ibiza’s most beloved drinking den\, tucked away in the heart of Sa Penya\, hosts Tiki Time – a two-hour window where a selection of Captain Jimmy’s finest cocktail concoctions are available at the two-for-one price tag of just 12.50€ daily from Thursdays to Sunday in winter. \nSip on signature Paradise Lost cocktails like the Paradise Punch\, Saturn\, Molly’s Margarita\, La Caborca\, Passionfruit Cooler or a Kentucky BeachComber\, while getting cosy on the Chesterfields or mingling on the terrace. It’s the perfect pre-dinner aperitif for cocktail aficionados – or could it be double trouble? Twice the excuse to visit our readers’ favourite watering hole\, voted Best Bar in the 2024 & 2025 White Ibiza Awards!
URL:https://white-ibiza.com/ibiza-calendar/tiki-time-at-paradise-lost-3/2026-01-17/
LOCATION:Paradise Lost\, Carrer del Passadís\, Eivissa\, Islas Baleares\, 07800\, Spain
CATEGORIES:Foodies,Nightlife
ATTACH;FMTTYPE=image/jpeg:https://white-ibiza.com/wp-content/uploads/2024/11/white-ibiza-calendar-paradise-lost-ibiza-2024-02.jpeg
GEO:38.9088959;1.4375767
X-APPLE-STRUCTURED-LOCATION;VALUE=URI;X-ADDRESS=Paradise Lost Carrer del Passadís Eivissa Islas Baleares 07800 Spain;X-APPLE-RADIUS=500;X-TITLE=Carrer del Passadís:geo:1.4375767,38.9088959
END:VEVENT
END:VCALENDAR