BEGIN:VCALENDAR
VERSION:2.0
PRODID:-//WHITE IBIZA - ECPv6.6.0.2//NONSGML v1.0//EN
CALSCALE:GREGORIAN
METHOD:PUBLISH
X-WR-CALNAME:WHITE IBIZA
X-ORIGINAL-URL:https://white-ibiza.com
X-WR-CALDESC:Events for WHITE IBIZA
REFRESH-INTERVAL;VALUE=DURATION:PT1H
X-Robots-Tag:noindex
X-PUBLISHED-TTL:PT1H
BEGIN:VTIMEZONE
TZID:Europe/Madrid
BEGIN:DAYLIGHT
TZOFFSETFROM:+0100
TZOFFSETTO:+0200
TZNAME:CEST
DTSTART:20260329T010000
END:DAYLIGHT
BEGIN:STANDARD
TZOFFSETFROM:+0200
TZOFFSETTO:+0100
TZNAME:CET
DTSTART:20261025T010000
END:STANDARD
END:VTIMEZONE
BEGIN:VEVENT
DTSTART;VALUE=DATE:20260116
DTEND;VALUE=DATE:20260118
DTSTAMP:20260421T210412
CREATED:20260115T125847Z
LAST-MODIFIED:20260116T151821Z
UID:10029942-1768546800-1768633199@white-ibiza.com
SUMMARY:Winter Dining at Zeneat by Can Vistabella
DESCRIPTION:Winters on the white isle are all about dining spots where you can sit in peaceful dappled sunshine while feasting and drinking with loved ones in true Ibiza style. Head to the wilds of the Benimussa hills\, where Zeneat by Can Vistabella is open daily\, serving up a soulful Mediterranean menu in a deliciously quiet location.  \nBrunch is available every day between 9am and 3.30pm and the menu is packed with wholesome dishes that include a choice of delicious breakfasts from the protein-rich Pulse to the gut-loving probiotic Bloom\, plus a vitamin packed juice menu as well as plenty of yoghurt bowls and pancake options for those with a sweeter tooth. Evenings from Wednesday to Saturday are more akin to dinner at a friend’s house\, with comforting dishes like red tuna croquettes; and angus beef seared over a slow smoky fire\, plus a kids’ menu your little ones will love\, all served between 7pm and 11pm. This is cosy dining made for out of season days and dusky Ibiza nights.
URL:https://white-ibiza.com/ibiza-calendar/winter-dining-at-zeneat-by-can-vistabella/2026-01-16/
LOCATION:Zeneat at Can Vistabella\, Camí de sa Capelleta\, Sant Antoni de Portmany\, Illes Balears\, 07830\, Spain
CATEGORIES:Foodies
ATTACH;FMTTYPE=image/jpeg:https://white-ibiza.com/wp-content/uploads/2024/09/white-ibiza-restaurant-zeneat-can-vistabella-2025-10.jpeg
GEO:38.9251539;1.3306525
X-APPLE-STRUCTURED-LOCATION;VALUE=URI;X-ADDRESS=Zeneat at Can Vistabella Camí de sa Capelleta Sant Antoni de Portmany Illes Balears 07830 Spain;X-APPLE-RADIUS=500;X-TITLE=Camí de sa Capelleta:geo:1.3306525,38.9251539
END:VEVENT
BEGIN:VEVENT
DTSTART;TZID=Europe/Madrid:20260116T090000
DTEND;TZID=Europe/Madrid:20260116T183000
DTSTAMP:20260421T210412
CREATED:20260115T144642Z
LAST-MODIFIED:20260115T183432Z
UID:10030042-1768554000-1768588200@white-ibiza.com
SUMMARY:Now Open! Natural Presence Yoga Studio in Santa Gertrudis
DESCRIPTION:Natural Presence Yoga Studio is a brand-new wellness space in the heart of Santa Gertrudis\, where you can stretch\, contemplate and breathe to your heart centre’s content. Founded by renowned instructor Blair Hughes\, there are a host of classes designed to reset the mind as well as the body\, with sessions including Vinyasa\, Power\, YinYang\, Hatha\, Meditation and Breathwork. Each class is totally accessible to all students\, no matter what your level maybe.  \nBlair began his yoga journey in Scotland when he was 18\, leading him to study with some of the most influential yoga teachers and coaches in the world. Now an E-RYT 500-hour certified yoga teacher trainer with over 18 years’ experience\, Blair teaches both globally and locally\, bringing the best out of your practice with his gentle nature and powerful presence.   \nOffering three classes every day\, the bright and airy Natural Presence Yoga Studio is perfectly located for post-school run classes or a quick midday practice before a lazy lunch in the village square. With plenty of membership options available\, from a seven-day intro for just 35€ to a monthly unlimited pass for 225€\, this is the perfect excuse to make those New Year’s health and wellbeing promises a reality this 2026. 
URL:https://white-ibiza.com/ibiza-calendar/natural-presence-yoga-studio-in-santa-gertrudis/2026-01-16/
LOCATION:Natural Presence Studio\, Carrer Vénda de Parada\, Santa Gertrudis de Fruitera\, Islas Baleares\, 07814\, Spain
CATEGORIES:Wellness,Culture
ATTACH;FMTTYPE=image/jpeg:https://white-ibiza.com/wp-content/uploads/2026/01/white-ibiza-calendar-natural-presence-yoga-studio-2026.jpeg
GEO:38.9986048;1.4263804
X-APPLE-STRUCTURED-LOCATION;VALUE=URI;X-ADDRESS=Natural Presence Studio Carrer Vénda de Parada Santa Gertrudis de Fruitera Islas Baleares 07814 Spain;X-APPLE-RADIUS=500;X-TITLE=Carrer Vénda de Parada:geo:1.4263804,38.9986048
END:VEVENT
BEGIN:VEVENT
DTSTART;TZID=Europe/Madrid:20260116T120000
DTEND;TZID=Europe/Madrid:20260116T190000
DTSTAMP:20260421T210412
CREATED:20260112T161907Z
LAST-MODIFIED:20260113T174104Z
UID:10029659-1768564800-1768590000@white-ibiza.com
SUMMARY:Transcendental Ibiza Exhibition at Olas Gallery
DESCRIPTION:Transcendental Ibiza: A Journey Through Light Codes is an immersive exhibition taking place at Olas Gallery on the seafront of Santa Eulalia this winter. Inviting visitors to experience the island through a different lens\, it features photographs by gallery owner Sofia Gomez Fonzo as a visual starting point\, blended with image\, light language\, music and sound by Antonella Curti into a quietly hypnotic environment. Landscapes familiar to all Ibiza lovers are reimagined as gateways into something a just little different.  \nThe exhibition encourages visitors to slow down and feel their way through the space. Each artwork creates a calm\, contemplative atmosphere where sound and light gently guide perception\, offering a pause from the outside world and a moment to tune into the island’s subtler frequencies. It’s Ibiza at its most reflective\, best experienced with an open mind and zero rush. Transcendental Ibiza: A Journey Through Light Codes is on display from 12pm until 7pm from Tuesdays to Saturdays at Olas Gallery.
URL:https://white-ibiza.com/ibiza-calendar/transcendental-ibiza-exhibition-at-olas-gallery/2026-01-16/
LOCATION:Olas Gallery\, Calle Juan Tur Tur\, Santa Eulalia del Río\, Islas Baleares\, 07840\, Spain
CATEGORIES:Culture
ATTACH;FMTTYPE=image/jpeg:https://white-ibiza.com/wp-content/uploads/2025/05/white-ibiza-living-directory-art-gallery-olas-gallery-2025-03.jpeg
GEO:38.9819402;1.5324936
X-APPLE-STRUCTURED-LOCATION;VALUE=URI;X-ADDRESS=Olas Gallery Calle Juan Tur Tur Santa Eulalia del Río Islas Baleares 07840 Spain;X-APPLE-RADIUS=500;X-TITLE=Calle Juan Tur Tur:geo:1.5324936,38.9819402
END:VEVENT
BEGIN:VEVENT
DTSTART;TZID=Europe/Madrid:20260116T130000
DTEND;TZID=Europe/Madrid:20260116T170000
DTSTAMP:20260421T210412
CREATED:20260112T085527Z
LAST-MODIFIED:20260112T085527Z
UID:10029583-1768568400-1768582800@white-ibiza.com
SUMMARY:Menú del Día at La Torre Ibiza
DESCRIPTION:La Torre Ibiza serves a delicious\, winter-warming weekday Menú del Día that pairs simple Mediterranean cooking with some of the most glorious views on the San Antonio coastline. Pull up a chair and settle in for some feasting – choose between options like corn soup with tortilla chips\, feta and pico de gallo; or beef empanadillas finished with chimichurri aioli to start.  \nMain courses include tempura hake with roasted aubergine and Thai curry sauce; or a sweet potato parmentier topped with pork rib and chestnuts\, while dessert is a chunky slice of baked cheesecake with homemade fig jam. Priced at just 25€ per person and the menu changes weekly\, so there’s no better excuse to enjoy a sunset in one of the islands most iconic locations before the summer season arrives.
URL:https://white-ibiza.com/ibiza-calendar/menu-del-dia-at-la-torre-ibiza-3/2026-01-16/
LOCATION:La Torre Ibiza\, Carretera Cap Negret\, Sant Antoni de Portmany\, Islas Baleares\, 07820\, Spain
CATEGORIES:Foodies
ATTACH;FMTTYPE=image/jpeg:https://white-ibiza.com/wp-content/uploads/2025/11/white-ibizacalendar-la-torre-ibiza-2025.jpeg
GEO:38.9981354;1.2855332
X-APPLE-STRUCTURED-LOCATION;VALUE=URI;X-ADDRESS=La Torre Ibiza Carretera Cap Negret Sant Antoni de Portmany Islas Baleares 07820 Spain;X-APPLE-RADIUS=500;X-TITLE=Carretera Cap Negret:geo:1.2855332,38.9981354
END:VEVENT
BEGIN:VEVENT
DTSTART;TZID=Europe/Madrid:20260116T130000
DTEND;TZID=Europe/Madrid:20260116T180000
DTSTAMP:20260421T210412
CREATED:20260112T164220Z
LAST-MODIFIED:20260115T101148Z
UID:10029782-1768568400-1768586400@white-ibiza.com
SUMMARY:Menú del Día at REMO Ibiza
DESCRIPTION:From Monday to Friday throughout the winter season\, REMO Ibiza serves up a special winter menú del día in the heart of the cosy and leafy Marina Village complex. The ever-changing dishes reflect the restaurant’s easygoing approach to lunch – one that is guaranteed to warm the coldest of wintery tummies.   \nStarters include classic options such as Spain’s salad of choice\, ensaladilla rusa\, homey chicken soup or huevos rotos\, followed by mains like spicy tacos REMO-style\, tasty chicken milanesa or a steaming bowl of spaghetti with prawns\, and the feast finishes with the kitchen’s dessert of the day. The full menu is priced at 18€ for three courses and is available to eat in or to takeaway for Ibiza residents on-the-go this winter.
URL:https://white-ibiza.com/ibiza-calendar/menu-del-dia-at-remo-ibiza/2026-01-16/
LOCATION:Remo Ibiza\, Passeig Joan Carles I\, Eivissa\, Illes Balears\, 07800\, Spain
CATEGORIES:Foodies
ATTACH;FMTTYPE=image/jpeg:https://white-ibiza.com/wp-content/uploads/2026/01/white-ibiza-calendar-remo-ibiza-2026.jpeg
GEO:38.9161789;1.4438158
X-APPLE-STRUCTURED-LOCATION;VALUE=URI;X-ADDRESS=Remo Ibiza Passeig Joan Carles I Eivissa Illes Balears 07800 Spain;X-APPLE-RADIUS=500;X-TITLE=Passeig Joan Carles I:geo:1.4438158,38.9161789
END:VEVENT
BEGIN:VEVENT
DTSTART;TZID=Europe/Madrid:20260116T183000
DTEND;TZID=Europe/Madrid:20260116T223000
DTSTAMP:20260421T210412
CREATED:20260115T130730Z
LAST-MODIFIED:20260115T130730Z
UID:10029986-1768588200-1768602600@white-ibiza.com
SUMMARY:Cooking in Motion Izakaya Residency at Overall
DESCRIPTION:Something a little different is landing in island hotspot Santa Gertrudis this January\, as Overall presents Cooking in Motion Izakaya Residency with Sebastian Mazzola. If tapas–style Japanese dining is something you’ve always dreamed of (and honestly\, who could blame you?) this two-night-only collaboration between island foodies and the culinary masterminds behind Overall\, Mónica A. Patiño and Jorge A. Conde\, and chef and traveller Sebastian Mazzola could be the perfect antidote for the winter blues.  Izakaya-style dining is all about curated plates and expertly shaken and stirred drink pairings\, where the menus are fluid and the fluids comprise of cocktail concoctions and sake specials that all lean into Mazzola’s laid–back\, no–rush ethos. Hidden away behind a concealed doorway behind Santa G. Bagel House\, Overall is a sleek urban style drinking den where time stands still\, and the feasting takes centre stage. These one-off (or two-off\, as the case may be with Friday January 16\, 2026 and Saturday January 17\, 2026 are reserved for the occasion) events fill up fast\, so book now to avoid disappointment. 
URL:https://white-ibiza.com/ibiza-calendar/cooking-in-motion-izakaya-residency-at-overall/2026-01-16/
LOCATION:Overall\, Santa Gertrudis de Fruitera\, Balearic Islands\, 07814\, Spain
CATEGORIES:Foodies
ATTACH;FMTTYPE=image/jpeg:https://white-ibiza.com/wp-content/uploads/2024/11/white-ibiza-calendar-overall-02.jpeg
GEO:38.9986978;1.4283253
END:VEVENT
BEGIN:VEVENT
DTSTART;TZID=Europe/Madrid:20260116T210000
DTEND;TZID=Europe/Madrid:20260116T230000
DTSTAMP:20260421T210412
CREATED:20260112T083826Z
LAST-MODIFIED:20260129T134621Z
UID:10029893-1768597200-1768604400@white-ibiza.com
SUMMARY:Tiki Time at Paradise Lost
DESCRIPTION:While every hour spent at Paradise Lost is a happy one\, the two hours between 9pm and 11pm are particularly pleasing for those in the know. Ibiza’s most beloved drinking den\, tucked away in the heart of Sa Penya\, hosts Tiki Time – a two-hour window where a selection of Captain Jimmy’s finest cocktail concoctions are available at the two-for-one price tag of just 12.50€ daily from Thursdays to Sunday in winter. \nSip on signature Paradise Lost cocktails like the Paradise Punch\, Saturn\, Molly’s Margarita\, La Caborca\, Passionfruit Cooler or a Kentucky BeachComber\, while getting cosy on the Chesterfields or mingling on the terrace. It’s the perfect pre-dinner aperitif for cocktail aficionados – or could it be double trouble? Twice the excuse to visit our readers’ favourite watering hole\, voted Best Bar in the 2024 & 2025 White Ibiza Awards!
URL:https://white-ibiza.com/ibiza-calendar/tiki-time-at-paradise-lost-3/2026-01-16/
LOCATION:Paradise Lost\, Carrer del Passadís\, Eivissa\, Islas Baleares\, 07800\, Spain
CATEGORIES:Foodies,Nightlife
ATTACH;FMTTYPE=image/jpeg:https://white-ibiza.com/wp-content/uploads/2024/11/white-ibiza-calendar-paradise-lost-ibiza-2024-02.jpeg
GEO:38.9088959;1.4375767
X-APPLE-STRUCTURED-LOCATION;VALUE=URI;X-ADDRESS=Paradise Lost Carrer del Passadís Eivissa Islas Baleares 07800 Spain;X-APPLE-RADIUS=500;X-TITLE=Carrer del Passadís:geo:1.4375767,38.9088959
END:VEVENT
END:VCALENDAR