BEGIN:VCALENDAR
VERSION:2.0
PRODID:-//WHITE IBIZA - ECPv6.6.0.2//NONSGML v1.0//EN
CALSCALE:GREGORIAN
METHOD:PUBLISH
X-ORIGINAL-URL:https://white-ibiza.com
X-WR-CALDESC:Events for WHITE IBIZA
REFRESH-INTERVAL;VALUE=DURATION:PT1H
X-Robots-Tag:noindex
X-PUBLISHED-TTL:PT1H
BEGIN:VTIMEZONE
TZID:Europe/Madrid
BEGIN:DAYLIGHT
TZOFFSETFROM:+0100
TZOFFSETTO:+0200
TZNAME:CEST
DTSTART:20260329T010000
END:DAYLIGHT
BEGIN:STANDARD
TZOFFSETFROM:+0200
TZOFFSETTO:+0100
TZNAME:CET
DTSTART:20261025T010000
END:STANDARD
END:VTIMEZONE
BEGIN:VEVENT
DTSTART;VALUE=DATE:20260114
DTEND;VALUE=DATE:20260116
DTSTAMP:20260422T000933
CREATED:20260115T125847Z
LAST-MODIFIED:20260116T151821Z
UID:10029940-1768374000-1768460399@white-ibiza.com
SUMMARY:Winter Dining at Zeneat by Can Vistabella
DESCRIPTION:Winters on the white isle are all about dining spots where you can sit in peaceful dappled sunshine while feasting and drinking with loved ones in true Ibiza style. Head to the wilds of the Benimussa hills\, where Zeneat by Can Vistabella is open daily\, serving up a soulful Mediterranean menu in a deliciously quiet location.  \nBrunch is available every day between 9am and 3.30pm and the menu is packed with wholesome dishes that include a choice of delicious breakfasts from the protein-rich Pulse to the gut-loving probiotic Bloom\, plus a vitamin packed juice menu as well as plenty of yoghurt bowls and pancake options for those with a sweeter tooth. Evenings from Wednesday to Saturday are more akin to dinner at a friend’s house\, with comforting dishes like red tuna croquettes; and angus beef seared over a slow smoky fire\, plus a kids’ menu your little ones will love\, all served between 7pm and 11pm. This is cosy dining made for out of season days and dusky Ibiza nights.
URL:https://white-ibiza.com/ibiza-calendar/winter-dining-at-zeneat-by-can-vistabella/2026-01-14/
LOCATION:Zeneat at Can Vistabella\, Camí de sa Capelleta\, Sant Antoni de Portmany\, Illes Balears\, 07830\, Spain
CATEGORIES:Foodies
ATTACH;FMTTYPE=image/jpeg:https://white-ibiza.com/wp-content/uploads/2024/09/white-ibiza-restaurant-zeneat-can-vistabella-2025-10.jpeg
GEO:38.9251539;1.3306525
X-APPLE-STRUCTURED-LOCATION;VALUE=URI;X-ADDRESS=Zeneat at Can Vistabella Camí de sa Capelleta Sant Antoni de Portmany Illes Balears 07830 Spain;X-APPLE-RADIUS=500;X-TITLE=Camí de sa Capelleta:geo:1.3306525,38.9251539
END:VEVENT
BEGIN:VEVENT
DTSTART;TZID=Europe/Madrid:20260114T130000
DTEND;TZID=Europe/Madrid:20260114T170000
DTSTAMP:20260422T000933
CREATED:20260112T085527Z
LAST-MODIFIED:20260112T085527Z
UID:10029581-1768395600-1768410000@white-ibiza.com
SUMMARY:Menú del Día at La Torre Ibiza
DESCRIPTION:La Torre Ibiza serves a delicious\, winter-warming weekday Menú del Día that pairs simple Mediterranean cooking with some of the most glorious views on the San Antonio coastline. Pull up a chair and settle in for some feasting – choose between options like corn soup with tortilla chips\, feta and pico de gallo; or beef empanadillas finished with chimichurri aioli to start.  \nMain courses include tempura hake with roasted aubergine and Thai curry sauce; or a sweet potato parmentier topped with pork rib and chestnuts\, while dessert is a chunky slice of baked cheesecake with homemade fig jam. Priced at just 25€ per person and the menu changes weekly\, so there’s no better excuse to enjoy a sunset in one of the islands most iconic locations before the summer season arrives.
URL:https://white-ibiza.com/ibiza-calendar/menu-del-dia-at-la-torre-ibiza-3/2026-01-14/
LOCATION:La Torre Ibiza\, Carretera Cap Negret\, Sant Antoni de Portmany\, Islas Baleares\, 07820\, Spain
CATEGORIES:Foodies
ATTACH;FMTTYPE=image/jpeg:https://white-ibiza.com/wp-content/uploads/2025/11/white-ibizacalendar-la-torre-ibiza-2025.jpeg
GEO:38.9981354;1.2855332
X-APPLE-STRUCTURED-LOCATION;VALUE=URI;X-ADDRESS=La Torre Ibiza Carretera Cap Negret Sant Antoni de Portmany Islas Baleares 07820 Spain;X-APPLE-RADIUS=500;X-TITLE=Carretera Cap Negret:geo:1.2855332,38.9981354
END:VEVENT
BEGIN:VEVENT
DTSTART;TZID=Europe/Madrid:20260114T130000
DTEND;TZID=Europe/Madrid:20260114T180000
DTSTAMP:20260422T000933
CREATED:20260112T164220Z
LAST-MODIFIED:20260115T101148Z
UID:10029780-1768395600-1768413600@white-ibiza.com
SUMMARY:Menú del Día at REMO Ibiza
DESCRIPTION:From Monday to Friday throughout the winter season\, REMO Ibiza serves up a special winter menú del día in the heart of the cosy and leafy Marina Village complex. The ever-changing dishes reflect the restaurant’s easygoing approach to lunch – one that is guaranteed to warm the coldest of wintery tummies.   \nStarters include classic options such as Spain’s salad of choice\, ensaladilla rusa\, homey chicken soup or huevos rotos\, followed by mains like spicy tacos REMO-style\, tasty chicken milanesa or a steaming bowl of spaghetti with prawns\, and the feast finishes with the kitchen’s dessert of the day. The full menu is priced at 18€ for three courses and is available to eat in or to takeaway for Ibiza residents on-the-go this winter.
URL:https://white-ibiza.com/ibiza-calendar/menu-del-dia-at-remo-ibiza/2026-01-14/
LOCATION:Remo Ibiza\, Passeig Joan Carles I\, Eivissa\, Illes Balears\, 07800\, Spain
CATEGORIES:Foodies
ATTACH;FMTTYPE=image/jpeg:https://white-ibiza.com/wp-content/uploads/2026/01/white-ibiza-calendar-remo-ibiza-2026.jpeg
GEO:38.9161789;1.4438158
X-APPLE-STRUCTURED-LOCATION;VALUE=URI;X-ADDRESS=Remo Ibiza Passeig Joan Carles I Eivissa Illes Balears 07800 Spain;X-APPLE-RADIUS=500;X-TITLE=Passeig Joan Carles I:geo:1.4438158,38.9161789
END:VEVENT
END:VCALENDAR