BEGIN:VCALENDAR
VERSION:2.0
PRODID:-//WHITE IBIZA - ECPv6.6.0.2//NONSGML v1.0//EN
CALSCALE:GREGORIAN
METHOD:PUBLISH
X-WR-CALNAME:WHITE IBIZA
X-ORIGINAL-URL:https://white-ibiza.com
X-WR-CALDESC:Events for WHITE IBIZA
REFRESH-INTERVAL;VALUE=DURATION:PT1H
X-Robots-Tag:noindex
X-PUBLISHED-TTL:PT1H
BEGIN:VTIMEZONE
TZID:Europe/Madrid
BEGIN:DAYLIGHT
TZOFFSETFROM:+0100
TZOFFSETTO:+0200
TZNAME:CEST
DTSTART:20260329T010000
END:DAYLIGHT
BEGIN:STANDARD
TZOFFSETFROM:+0200
TZOFFSETTO:+0100
TZNAME:CET
DTSTART:20261025T010000
END:STANDARD
END:VTIMEZONE
BEGIN:VEVENT
DTSTART;TZID=Europe/Madrid:20260107T170000
DTEND;TZID=Europe/Madrid:20260107T230000
DTSTAMP:20260424T133911
CREATED:20251128T150457Z
LAST-MODIFIED:20251128T150457Z
UID:10028284-1767805200-1767826800@white-ibiza.com
SUMMARY:Christmas Fun Fair at Sa Joveria in Ibiza Town
DESCRIPTION:The Christmas Fun Fair has finally opened its gates at Sa Joveria\, on the cusp of Ibiza town\, and the whole area instantly shifts into holiday mode. From 5pm each evening\, twinkling lights\, music and winter treats fill the air\, creating that unmistakable buzz that only the start of Christmas can bring. It’s an outing that never fails to charm everyone\, from excitable little ones to fully grown kids-at-heart and it runs non-stop throughout the holiday season.  \nGrab a selfie in front of the giant Christmas tree\, treat yourself to goodies from more than 40 stalls serving food\, drinks and fair favourites and if you’re a thrill seeker\, don’t leave without trying all the rides. There are also classic fairground games for anyone ready to win bragging rights and bingo with hundreds of prizes\, while younger visitors can hop between inflatables\, mini trains\, duck fishing and quieter activities to keep things cosy. And if you’re an early riser\, then don’t miss out on freshly made chocolate churros every morning from 8am (yes\, even before the rides open!)\, because  Monday mornings taste better with a little sugar. 
URL:https://white-ibiza.com/ibiza-calendar/christmas-fun-fair-at-sa-joveria-in-ibiza-town/2026-01-07/
LOCATION:Sa Joveria\, Carretera d'Eivissa a Sant Antoni\, Ibiza\, Islas Baleares\, 07820\, Spain
CATEGORIES:Kids
ATTACH;FMTTYPE=image/jpeg:https://white-ibiza.com/wp-content/uploads/2025/11/white-ibiza-calendar-christmas-fun-fair-2025-02-1.jpeg
GEO:38.9742441;1.3375798
X-APPLE-STRUCTURED-LOCATION;VALUE=URI;X-ADDRESS=Sa Joveria Carretera d'Eivissa a Sant Antoni Ibiza Islas Baleares 07820 Spain;X-APPLE-RADIUS=500;X-TITLE=Carretera d'Eivissa a Sant Antoni:geo:1.3375798,38.9742441
END:VEVENT
BEGIN:VEVENT
DTSTART;TZID=Europe/Madrid:20260107T200000
DTEND;TZID=Europe/Madrid:20260108T010000
DTSTAMP:20260424T133911
CREATED:20251015T083205Z
LAST-MODIFIED:20260105T125904Z
UID:10026474-1767816000-1767834000@white-ibiza.com
SUMMARY:Not Your Standard Bingo in Jara at The Standard\, Ibiza
DESCRIPTION:Eyes down and bottoms up\, Not Your Standard Bingo is back the über-fashionable Vara De Rey hotel\, The Standard\, Ibiza\, every Wednesday night this winter. The midweek favourite night features cheeky hosts José Boto and BLONDEWEARINGBLACK calling the numbers\, cocktails aplenty and prizes worth shouting about.\n\nThe premise is simple: the more you drink\, the more chances there are to win\, and month-in\, month-out\, the hotel’s in-house ground-floor restaurant\, Jara\, is fully booked on Bingo night – sometimes weeks in advance. Expect beats and banter as the resident DJ occasionally drops the odd clue\, and the frenzy for prizes reaches a fever pitch as the night goes on. With chances to win your entire bill paid for the night or a night of luxury accommodation in the hotel itself (among many other cool prizes)\, the odds are well worth playing.
URL:https://white-ibiza.com/ibiza-calendar/not-your-standard-bingo-in-jara-at-the-standard-ibiza/2026-01-07/
LOCATION:The Standard\, Ibiza\, Carrer de Bartomeu Vicent Ramon\, Eivissa\, Islas Baleares\, 07800\, Spain
CATEGORIES:Culture,Nightlife
ATTACH;FMTTYPE=image/jpeg:https://white-ibiza.com/wp-content/uploads/2024/08/white-ibiza-journal-hotels-the-standard-ibiza-holiday-season-2023-6.jpg
GEO:38.909914;1.4340569
X-APPLE-STRUCTURED-LOCATION;VALUE=URI;X-ADDRESS=The Standard Ibiza Carrer de Bartomeu Vicent Ramon Eivissa Islas Baleares 07800 Spain;X-APPLE-RADIUS=500;X-TITLE=Carrer de Bartomeu Vicent Ramon:geo:1.4340569,38.909914
END:VEVENT
END:VCALENDAR